Workbook

Sheet Optimization
B3: Stock 1 | C3: Stock 2 | D3: Stock 3 | E3: Stock 4 | F3: Stock 5
A4: Return | B4: =EXP(AVERAGE(Data!H4:H1236)*252-1) -> 0.47764545 | C4: =EXP(AVERAGE(Data!I4:I1236)*252-1) -> 0.45035717 | D4: =EXP(AVERAGE(Data!J4:J1236)*252-1) -> 0.45650919 | E4: =EXP(AVERAGE(Data!K4:K1236)*252-1) -> 0.44871706 | F4: =EXP(AVERAGE(Data!L4:L1236)*252-1) -> 0.4923582
A5: Std deviation | B5: =STDEV(Data!H4:H1236)*SQRT(252) -> 0.29946456 | C5: =STDEV(Data!I4:I1236)*SQRT(252) -> 0.30315098 | D5: =STDEV(Data!J4:J1236)*SQRT(252) -> 0.2838922 | E5: =STDEV(Data!K4:K1236)*SQRT(252) -> 0.39617147 | F5: =STDEV(Data!L4:L1236)*SQRT(252) -> 0.30589295
A6: Optimal weight | B6: 0.28640553 | C6: 0.17526287 | D6: 0.19035513 | E6: 0 | F6: 0.34797647 | G6: =SUM(B6:F6) -> 1
A9: Portfolio Summary
A10: Expected Return | B10: =SUMPRODUCT(B4:F4,B6:F6) -> 0.47395912
A11: Std Deviation | B11: {=SQRT(MMULT(MMULT(B6:F6,B19:F23),TRANSPOSE(B6:F6)*252))} -> 0.21460233
A12: Risk free rate | B12: =0.07 -> 0.07
A13: Sharpe Ratio | B13: =(B10-B11)/B12 -> 3.7050971
B16: Bordered Covariance Matrix
B18: Stock 1 | C18: Stock 2 | D18: Stock 3 | E18: Stock 4 | F18: Stock 5
A19: Stock 1 | B19: =VARP(Data!$H$4:$H$1236) -> 0.00035558053 | C19: {=TRANSPOSE(B20:B23)} -> 0.00012740603 | D19: 0.00014985105 | E19: 0.00021042929 | F19: 9.5406349e-05
A20: Stock 2 | B20: 0.00012740603 | C20: =VARP(Data!$I$4:$I$1236) -> 0.00036438881 | D20: {=TRANSPOSE(C21:C23)} -> 0.00012763367 | E20: 0.00019053167 | F20: 0.00010921976
A21: Stock 3 | B21: 0.00014985105 | C21: 0.00012763367 | D21: =VARP(Data!$J$4:$J$1236) -> 0.00031956117 | E21: {=TRANSPOSE(D22:D23)} -> 0.00022805503 | F21: 0.00012005579
A22: Stock 4 | B22: 0.00021042929 | C22: 0.00019053167 | D22: 0.00022805503 | E22: =VARP(Data!$K$4:$K$1236) -> 0.00062231961 | F22: =E23 -> 0.0001575374
A23: Stock 5 | B23: 9.5406349e-05 | C23: 0.00010921976 | D23: 0.00012005579 | E23: 0.0001575374 | F23: =VARP(Data!$L$4:$L$1236) -> 0.00037101036

Sheet Sheet1
B1: Stock 1 | C1: Stock 2 | D1: Stock 3 | E1: Stock 4 | F1: Stock 5
A2: Stock 1 | B2: =VARP(Data!$H$4:$H$1236) -> 0.00035558053
A3: Stock 2 | B3: 0.00012740603 | C3: =VARP(Data!$I$4:$I$1236) -> 0.00036438881
A4: Stock 3 | B4: 0.00014985105 | C4: 0.00012763367 | D4: =VARP(Data!$J$4:$J$1236) -> 0.00031956117
A5: Stock 4 | B5: 0.00021042929 | C5: 0.00019053167 | D5: 0.00022805503 | E5: =VARP(Data!$K$4:$K$1236) -> 0.00062231961
A6: Stock 5 | B6: 9.5406349e-05 | C6: 0.00010921976 | D6: 0.00012005579 | E6: 0.0001575374 | F6: =VARP(Data!$L$4:$L$1236) -> 0.00037101036

Sheet Data
B1: Closing Price | H1: Returns
A2: Date | B2: Stock 1 | C2: Stock 2 | D2: Stock 3 | E2: Stock 4 | F2: Stock 5 | H2: Stock 1 | I2: Stock 2 | J2: Stock 3 | K2: Stock 4 | L2: Stock 5
A3: 43514 | B3: 1009.4942 | C3: 1093.149 | D3: 1147.8295 | E3: 2504.5298 | F3: 269.26056 | H3: Stock 1 | I3: Stock 2 | J3: Stock 3 | K3: Stock 4 | L3: Stock 5
A4: 43515 | B4: 1010.9192 | C4: 1089.5652 | D4: 1160.5574 | E4: 2514.6975 | F4: 270.28403 | H4: =LN(B4/B3) -> 0.0014105898 | I4: =LN(C4/C3) -> -0.0032838611 | J4: =LN(D4/D3) -> 0.011027644 | K4: =LN(E4/E3) -> 0.0040515156 | L4: =LN(F4/F3) -> 0.0037938263
A5: 43516 | B5: 1014.8005 | C5: 1105.9163 | D5: 1177.3898 | E5: 2560.231 | F5: 275.00088 | H5: =LN(B5/B4) -> 0.0038320127 | I5: =LN(C5/C4) -> 0.014895481 | J5: =LN(D5/D4) -> 0.014399546 | K5: =LN(E5/E4) -> 0.01794495 | L5: =LN(F5/F4) -> 0.017300958
A6: 43517 | B6: 1024.3811 | C6: 1117.1604 | D6: 1184.3533 | E6: 2607.9258 | F6: 275.80188 | H6: =LN(B6/B5) -> 0.0093966115 | I6: =LN(C6/C5) -> 0.010115923 | J6: =LN(D6/D5) -> 0.0058969329 | K6: =LN(E6/E5) -> 0.018457713 | L6: =LN(F6/F5) -> 0.002908466
A7: 43518 | B7: 1023.4966 | C7: 1104.1245 | D7: 1180.8945 | E7: 2593.8772 | F7: 279.31726 | H7: =LN(B7/B6) -> -0.00086384266 | I7: =LN(C7/C6) -> -0.011737385 | J7: =LN(D7/D6) -> -0.0029246343 | K7: =LN(E7/E6) -> -0.0054014419 | L7: =LN(F7/F6) -> 0.01266549
A8: 43521 | B8: 1024.8723 | C8: 1104.0795 | D8: 1176.7439 | E8: 2610.9219 | F8: 282.34314 | H8: =LN(B8/B7) -> 0.0013432465 | I8: =LN(C8/C7) -> -4.0796956e-05 | J8: =LN(D8/D7) -> -0.0035210143 | K8: =LN(E8/E7) -> 0.0065496242 | L8: =LN(F8/F7) -> 0.010774868
A9: 43522 | B9: 1020.3031 | C9: 1093.2834 | D9: 1167.521 | E9: 2610.9219 | F9: 280.74118 | H9: =LN(B9/B8) -> -0.0044682921 | I9: =LN(C9/C8) -> -0.0098264222 | J9: =LN(D9/D8) -> -0.00786852 | K9: =LN(E9/E8) -> 0 | L9: =LN(F9/F8) -> -0.0056899625
A10: 43523 | B10: 998.58716 | C10: 1096.1952 | D10: 1184.9067 | E10: 2595.4495 | F10: 284.92407 | H10: =LN(B10/B9) -> -0.021513582 | I10: =LN(C10/C9) -> 0.0026597608 | J10: =LN(D10/D9) -> 0.014781375 | K10: =LN(E10/E9) -> -0.0059436627 | L10: =LN(F10/F9) -> 0.014789553
A11: 43524 | B11: 1007.3817 | C11: 1102.9596 | D11: 1192.5157 | E11: 2602.3259 | F11: 283.05512 | H11: =LN(B11/B10) -> 0.0087683829 | I11: =LN(C11/C10) -> 0.006151842 | J11: =LN(D11/D10) -> 0.0064010793 | K11: =LN(E11/E10) -> 0.0026459277 | L11: =LN(F11/F10) -> -0.0065810994
A12: 43525 | B12: 1003.5985 | C12: 1098.4797 | D12: 1206.9043 | E12: 2613.8689 | F12: 273.79941 | H12: =LN(B12/B11) -> -0.0037624901 | I12: =LN(C12/C11) -> -0.004069942 | J12: =LN(D12/D11) -> 0.0119935 | K12: =LN(E12/E11) -> 0.0044258266 | L12: =LN(F12/F11) -> -0.033245881
A13: 43529 | B13: 1017.0113 | C13: 1108.873 | D13: 1204.3677 | E13: 2647.6628 | F13: 273.97742 | H13: =LN(B13/B12) -> 0.013276168 | I13: =LN(C13/C12) -> 0.0094170609 | J13: =LN(D13/D12) -> -0.00210397 | K13: =LN(E13/E12) -> 0.012845845 | L13: =LN(F13/F12) -> 0.00064993259
A14: 43530 | B14: 1037.5973 | C14: 1133.198 | D14: 1214.6978 | E14: 2717.9521 | F14: 275.35687 | H14: =LN(B14/B13) -> 0.020039522 | I14: =LN(C14/C13) -> 0.021699496 | J14: =LN(D14/D13) -> 0.0085406047 | K14: =LN(E14/E13) -> 0.026201406 | L14: =LN(F14/F13) -> 0.0050222931
A15: 43531 | B15: 1025.1671 | C15: 1138.0809 | D15: 1247.3479 | E15: 2686.6143 | F15: 273.79941 | H15: =LN(B15/B14) -> -0.012052105 | I15: =LN(C15/C14) -> 0.0042997295 | J15: =LN(D15/D14) -> 0.026524334 | K15: =LN(E15/E14) -> -0.011596949 | L15: =LN(F15/F14) -> -0.0056722257
... A1236: 45337 | B1236: 3622.05 | C1236: 2941.2 | D1236: 3300.3 | E1236: 6619.3999 | F1236: 1120.7 | H1236: =LN(B1236/B1235) -> 0.010128284 | I1236: =LN(C1236/C1235) -> -0.0073002464 | J1236: =LN(D1236/D1235) -> -0.0026326407 | K1236: =LN(E1236/E1235) -> -0.0040856837 | L1236: =LN(F1236/F1235) -> 0.0043370215
