Workbook

Sheet Ideal-REL
A1: Ideal-REL | B1: Design Office | C1: Supporting Activities | D1: Warehouse | E1: Medical Centre | F1: Canteen | G1: General Purpose Shop | H1: Outfitting Shop | I1: Steel Shop | J1: Steel Stockyard | K1: Paint Shop | L1: Sub-Assembly Area | M1: Pipe Shop | N1: Panel Fabrication Area | O1: Block Erection Area | P1: Dock | Q1: Quay
B2: 1 | C2: 2 | D2: 3 | E2: 4 | F2: 5 | G2: 6 | H2: 7 | I2: 8 | J2: 9 | K2: 10 | L2: 11 | M2: 12 | N2: 13 | O2: 14 | P2: 15 | Q2: 16
A3: Design Office | B3: A | C3: A | D3: X | E3: U | F3: U | G3: U | H3: U | I3: E | J3: I | K3: U | L3: X | M3: O | N3: X | O3: X | P3: X | Q3: X
A4: Supporting Activities | B4: A | C4: A | D4: X | E4: U | F4: U | G4: U | H4: U | I4: E | J4: I | K4: U | L4: X | M4: O | N4: X | O4: X | P4: X | Q4: X
A5: Warehouse | B5: X | C5: X | D5: A | E5: U | F5: X | G5: A | H5: A | I5: E | J5: I | K5: E | L5: O | M5: U | N5: I | O5: O | P5: O | Q5: X
A6: Medical Centre | B6: U | C6: U | D6: U | E6: A | F6: A | G6: X | H6: X | I6: E | J6: E | K6: O | L6: O | M6: U | N6: X | O6: X | P6: X | Q6: X
A7: Canteen | B7: U | C7: U | D7: X | E7: A | F7: A | G7: X | H7: X | I7: E | J7: E | K7: O | L7: O | M7: U | N7: X | O7: X | P7: X | Q7: X
A8: General Purpose Shop | B8: U | C8: U | D8: A | E8: X | F8: X | G8: A | H8: A | I8: O | J8: O | K8: I | L8: E | M8: U | N8: E | O8: O | P8: O | Q8: X
A9: Outfitting Shop | B9: U | C9: U | D9: A | E9: X | F9: X | G9: A | H9: A | I9: O | J9: O | K9: E | L9: A | M9: U | N9: A | O9: O | P9: O | Q9: X
A10: Steel Shop | B10: E | C10: E | D10: E | E10: E | F10: E | G10: O | H10: O | I10: A | J10: A | K10: A | L10: E | M10: O | N10: I | O10: O | P10: U | Q10: U
A11: Steel Stockyard | B11: I | C11: I | D11: I | E11: E | F11: E | G11: O | H11: O | I11: A | J11: A | K11: I | L11: O | M11: O | N11: I | O11: O | P11: U | Q11: U
A12: Paint Shop | B12: U | C12: U | D12: E | E12: O | F12: O | G12: I | H12: E | I12: A | J12: I | K12: A | L12: A | M12: E | N12: I | O12: O | P12: U | Q12: U
A13: Sub-Assembly Area | B13: X | C13: X | D13: O | E13: O | F13: O | G13: E | H13: A | I13: E | J13: O | K13: A | L13: A | M13: E | N13: A | O13: E | P13: I | Q13: O
A14: Pipe Shop | B14: O | C14: O | D14: U | E14: U | F14: U | G14: U | H14: U | I14: O | J14: O | K14: E | L14: E | M14: A | N14: A | O14: E | P14: E | Q14: O
... A20: Ideal-REL | B20: Design Office | C20: Supporting Activities | D20: Warehouse | E20: Medical Centre | F20: Canteen | G20: General Purpose Shop | H20: Outfitting Shop | I20: Steel Shop | J20: Steel Stockyard | K20: Paint Shop | L20: Sub-Assembly Area | M20: Pipe Shop | N20: Panel Fabrication Area | O20: Block Erection Area | P20: Dock | Q20: Quay
B21: 1 | C21: 2 | D21: 3 | E21: 4 | F21: 5 | G21: 6 | H21: 7 | I21: 8 | J21: 9 | K21: 10 | L21: 11 | M21: 12 | N21: 13 | O21: 14 | P21: 15 | Q21: 16 | U21: A | V21: 5
A22: Design Office | B22: =VLOOKUP(B3,$U$21:$V$26,2,FALSE) -> 5 | C22: =VLOOKUP(C3,$U$21:$V$26,2,FALSE) -> 5 | D22: =VLOOKUP(D3,$U$21:$V$26,2,FALSE) -> 0 | E22: =VLOOKUP(E3,$U$21:$V$26,2,FALSE) -> 1 | F22: =VLOOKUP(F3,$U$21:$V$26,2,FALSE) -> 1 | G22: =VLOOKUP(G3,$U$21:$V$26,2,FALSE) -> 1 | H22: =VLOOKUP(H3,$U$21:$V$26,2,FALSE) -> 1 | I22: =VLOOKUP(I3,$U$21:$V$26,2,FALSE) -> 4 | ... Q22: =VLOOKUP(Q3,$U$21:$V$26,2,FALSE) -> 0 | U22: E | V22: 4
A23: Supporting Activities | B23: =VLOOKUP(B4,$U$21:$V$26,2,FALSE) -> 5 | C23: =VLOOKUP(C4,$U$21:$V$26,2,FALSE) -> 5 | D23: =VLOOKUP(D4,$U$21:$V$26,2,FALSE) -> 0 | E23: =VLOOKUP(E4,$U$21:$V$26,2,FALSE) -> 1 | F23: =VLOOKUP(F4,$U$21:$V$26,2,FALSE) -> 1 | G23: =VLOOKUP(G4,$U$21:$V$26,2,FALSE) -> 1 | H23: =VLOOKUP(H4,$U$21:$V$26,2,FALSE) -> 1 | I23: =VLOOKUP(I4,$U$21:$V$26,2,FALSE) -> 4 | ... Q23: =VLOOKUP(Q4,$U$21:$V$26,2,FALSE) -> 0 | U23: I | V23: 3
A24: Warehouse | B24: =VLOOKUP(B5,$U$21:$V$26,2,FALSE) -> 0 | C24: =VLOOKUP(C5,$U$21:$V$26,2,FALSE) -> 0 | D24: =VLOOKUP(D5,$U$21:$V$26,2,FALSE) -> 5 | E24: =VLOOKUP(E5,$U$21:$V$26,2,FALSE) -> 1 | F24: =VLOOKUP(F5,$U$21:$V$26,2,FALSE) -> 0 | G24: =VLOOKUP(G5,$U$21:$V$26,2,FALSE) -> 5 | H24: =VLOOKUP(H5,$U$21:$V$26,2,FALSE) -> 5 | I24: =VLOOKUP(I5,$U$21:$V$26,2,FALSE) -> 4 | ... Q24: =VLOOKUP(Q5,$U$21:$V$26,2,FALSE) -> 0 | U24: O | V24: 2
A25: Medical Centre | B25: =VLOOKUP(B6,$U$21:$V$26,2,FALSE) -> 1 | C25: =VLOOKUP(C6,$U$21:$V$26,2,FALSE) -> 1 | D25: =VLOOKUP(D6,$U$21:$V$26,2,FALSE) -> 1 | E25: =VLOOKUP(E6,$U$21:$V$26,2,FALSE) -> 5 | F25: =VLOOKUP(F6,$U$21:$V$26,2,FALSE) -> 5 | G25: =VLOOKUP(G6,$U$21:$V$26,2,FALSE) -> 0 | H25: =VLOOKUP(H6,$U$21:$V$26,2,FALSE) -> 0 | I25: =VLOOKUP(I6,$U$21:$V$26,2,FALSE) -> 4 | ... Q25: =VLOOKUP(Q6,$U$21:$V$26,2,FALSE) -> 0 | U25: U | V25: 1
A26: Canteen | B26: =VLOOKUP(B7,$U$21:$V$26,2,FALSE) -> 1 | C26: =VLOOKUP(C7,$U$21:$V$26,2,FALSE) -> 1 | D26: =VLOOKUP(D7,$U$21:$V$26,2,FALSE) -> 0 | E26: =VLOOKUP(E7,$U$21:$V$26,2,FALSE) -> 5 | F26: =VLOOKUP(F7,$U$21:$V$26,2,FALSE) -> 5 | G26: =VLOOKUP(G7,$U$21:$V$26,2,FALSE) -> 0 | H26: =VLOOKUP(H7,$U$21:$V$26,2,FALSE) -> 0 | I26: =VLOOKUP(I7,$U$21:$V$26,2,FALSE) -> 4 | ... Q26: =VLOOKUP(Q7,$U$21:$V$26,2,FALSE) -> 0 | U26: X | V26: 0
A27: General Purpose Shop | B27: =VLOOKUP(B8,$U$21:$V$26,2,FALSE) -> 1 | C27: =VLOOKUP(C8,$U$21:$V$26,2,FALSE) -> 1 | D27: =VLOOKUP(D8,$U$21:$V$26,2,FALSE) -> 5 | E27: =VLOOKUP(E8,$U$21:$V$26,2,FALSE) -> 0 | F27: =VLOOKUP(F8,$U$21:$V$26,2,FALSE) -> 0 | G27: =VLOOKUP(G8,$U$21:$V$26,2,FALSE) -> 5 | H27: =VLOOKUP(H8,$U$21:$V$26,2,FALSE) -> 5 | I27: =VLOOKUP(I8,$U$21:$V$26,2,FALSE) -> 2 | ... Q27: =VLOOKUP(Q8,$U$21:$V$26,2,FALSE) -> 0
A28: Outfitting Shop | B28: =VLOOKUP(B9,$U$21:$V$26,2,FALSE) -> 1 | C28: =VLOOKUP(C9,$U$21:$V$26,2,FALSE) -> 1 | D28: =VLOOKUP(D9,$U$21:$V$26,2,FALSE) -> 5 | E28: =VLOOKUP(E9,$U$21:$V$26,2,FALSE) -> 0 | F28: =VLOOKUP(F9,$U$21:$V$26,2,FALSE) -> 0 | G28: =VLOOKUP(G9,$U$21:$V$26,2,FALSE) -> 5 | H28: =VLOOKUP(H9,$U$21:$V$26,2,FALSE) -> 5 | I28: =VLOOKUP(I9,$U$21:$V$26,2,FALSE) -> 2 | ... Q28: =VLOOKUP(Q9,$U$21:$V$26,2,FALSE) -> 0
A29: Steel Shop | B29: =VLOOKUP(B10,$U$21:$V$26,2,FALSE) -> 4 | C29: =VLOOKUP(C10,$U$21:$V$26,2,FALSE) -> 4 | D29: =VLOOKUP(D10,$U$21:$V$26,2,FALSE) -> 4 | E29: =VLOOKUP(E10,$U$21:$V$26,2,FALSE) -> 4 | F29: =VLOOKUP(F10,$U$21:$V$26,2,FALSE) -> 4 | G29: =VLOOKUP(G10,$U$21:$V$26,2,FALSE) -> 2 | H29: =VLOOKUP(H10,$U$21:$V$26,2,FALSE) -> 2 | I29: =VLOOKUP(I10,$U$21:$V$26,2,FALSE) -> 5 | ... Q29: =VLOOKUP(Q10,$U$21:$V$26,2,FALSE) -> 1
A30: Steel Stockyard | B30: =VLOOKUP(B11,$U$21:$V$26,2,FALSE) -> 3 | C30: =VLOOKUP(C11,$U$21:$V$26,2,FALSE) -> 3 | D30: =VLOOKUP(D11,$U$21:$V$26,2,FALSE) -> 3 | E30: =VLOOKUP(E11,$U$21:$V$26,2,FALSE) -> 4 | F30: =VLOOKUP(F11,$U$21:$V$26,2,FALSE) -> 4 | G30: =VLOOKUP(G11,$U$21:$V$26,2,FALSE) -> 2 | H30: =VLOOKUP(H11,$U$21:$V$26,2,FALSE) -> 2 | I30: =VLOOKUP(I11,$U$21:$V$26,2,FALSE) -> 5 | ... Q30: =VLOOKUP(Q11,$U$21:$V$26,2,FALSE) -> 1
A31: Paint Shop | B31: =VLOOKUP(B12,$U$21:$V$26,2,FALSE) -> 1 | C31: =VLOOKUP(C12,$U$21:$V$26,2,FALSE) -> 1 | D31: =VLOOKUP(D12,$U$21:$V$26,2,FALSE) -> 4 | E31: =VLOOKUP(E12,$U$21:$V$26,2,FALSE) -> 2 | F31: =VLOOKUP(F12,$U$21:$V$26,2,FALSE) -> 2 | G31: =VLOOKUP(G12,$U$21:$V$26,2,FALSE) -> 3 | H31: =VLOOKUP(H12,$U$21:$V$26,2,FALSE) -> 4 | I31: =VLOOKUP(I12,$U$21:$V$26,2,FALSE) -> 5 | ... Q31: =VLOOKUP(Q12,$U$21:$V$26,2,FALSE) -> 1
A32: Sub-Assembly Area | B32: =VLOOKUP(B13,$U$21:$V$26,2,FALSE) -> 0 | C32: =VLOOKUP(C13,$U$21:$V$26,2,FALSE) -> 0 | D32: =VLOOKUP(D13,$U$21:$V$26,2,FALSE) -> 2 | E32: =VLOOKUP(E13,$U$21:$V$26,2,FALSE) -> 2 | F32: =VLOOKUP(F13,$U$21:$V$26,2,FALSE) -> 2 | G32: =VLOOKUP(G13,$U$21:$V$26,2,FALSE) -> 4 | H32: =VLOOKUP(H13,$U$21:$V$26,2,FALSE) -> 5 | I32: =VLOOKUP(I13,$U$21:$V$26,2,FALSE) -> 4 | ... Q32: =VLOOKUP(Q13,$U$21:$V$26,2,FALSE) -> 2
A33: Pipe Shop | B33: =VLOOKUP(B14,$U$21:$V$26,2,FALSE) -> 2 | C33: =VLOOKUP(C14,$U$21:$V$26,2,FALSE) -> 2 | D33: =VLOOKUP(D14,$U$21:$V$26,2,FALSE) -> 1 | E33: =VLOOKUP(E14,$U$21:$V$26,2,FALSE) -> 1 | F33: =VLOOKUP(F14,$U$21:$V$26,2,FALSE) -> 1 | G33: =VLOOKUP(G14,$U$21:$V$26,2,FALSE) -> 1 | H33: =VLOOKUP(H14,$U$21:$V$26,2,FALSE) -> 1 | I33: =VLOOKUP(I14,$U$21:$V$26,2,FALSE) -> 2 | ... Q33: =VLOOKUP(Q14,$U$21:$V$26,2,FALSE) -> 2
A34: Panel Fabrication Area | B34: =VLOOKUP(B15,$U$21:$V$26,2,FALSE) -> 0 | C34: =VLOOKUP(C15,$U$21:$V$26,2,FALSE) -> 0 | D34: =VLOOKUP(D15,$U$21:$V$26,2,FALSE) -> 3 | E34: =VLOOKUP(E15,$U$21:$V$26,2,FALSE) -> 0 | F34: =VLOOKUP(F15,$U$21:$V$26,2,FALSE) -> 0 | G34: =VLOOKUP(G15,$U$21:$V$26,2,FALSE) -> 4 | H34: =VLOOKUP(H15,$U$21:$V$26,2,FALSE) -> 5 | I34: =VLOOKUP(I15,$U$21:$V$26,2,FALSE) -> 3 | ... Q34: =VLOOKUP(Q15,$U$21:$V$26,2,FALSE) -> 2
A35: Block Erection Area | B35: =VLOOKUP(B16,$U$21:$V$26,2,FALSE) -> 0 | C35: =VLOOKUP(C16,$U$21:$V$26,2,FALSE) -> 0 | D35: =VLOOKUP(D16,$U$21:$V$26,2,FALSE) -> 2 | E35: =VLOOKUP(E16,$U$21:$V$26,2,FALSE) -> 0 | F35: =VLOOKUP(F16,$U$21:$V$26,2,FALSE) -> 0 | G35: =VLOOKUP(G16,$U$21:$V$26,2,FALSE) -> 2 | H35: =VLOOKUP(H16,$U$21:$V$26,2,FALSE) -> 2 | I35: =VLOOKUP(I16,$U$21:$V$26,2,FALSE) -> 2 | ... Q35: =VLOOKUP(Q16,$U$21:$V$26,2,FALSE) -> 4
A36: Dock | B36: =VLOOKUP(B17,$U$21:$V$26,2,FALSE) -> 0 | C36: =VLOOKUP(C17,$U$21:$V$26,2,FALSE) -> 0 | D36: =VLOOKUP(D17,$U$21:$V$26,2,FALSE) -> 2 | E36: =VLOOKUP(E17,$U$21:$V$26,2,FALSE) -> 0 | F36: =VLOOKUP(F17,$U$21:$V$26,2,FALSE) -> 0 | G36: =VLOOKUP(G17,$U$21:$V$26,2,FALSE) -> 2 | H36: =VLOOKUP(H17,$U$21:$V$26,2,FALSE) -> 2 | I36: =VLOOKUP(I17,$U$21:$V$26,2,FALSE) -> 1 | ... Q36: =VLOOKUP(Q17,$U$21:$V$26,2,FALSE) -> 5
A37: Quay | B37: =VLOOKUP(B18,$U$21:$V$26,2,FALSE) -> 0 | C37: =VLOOKUP(C18,$U$21:$V$26,2,FALSE) -> 0 | D37: =VLOOKUP(D18,$U$21:$V$26,2,FALSE) -> 0 | E37: =VLOOKUP(E18,$U$21:$V$26,2,FALSE) -> 0 | F37: =VLOOKUP(F18,$U$21:$V$26,2,FALSE) -> 0 | G37: =VLOOKUP(G18,$U$21:$V$26,2,FALSE) -> 0 | H37: =VLOOKUP(H18,$U$21:$V$26,2,FALSE) -> 0 | I37: =VLOOKUP(I18,$U$21:$V$26,2,FALSE) -> 1 | ... Q37: =VLOOKUP(Q18,$U$21:$V$26,2,FALSE) -> 5

Sheet Existing-REL
A1: Existing-REL | B1: Design Office | C1: Supporting Activities | D1: Warehouse | E1: Medical Centre | F1: Canteen | G1: General Purpose Shop | H1: Outfitting Shop | I1: Steel Shop | J1: Steel Stockyard | K1: Paint Shop | L1: Sub-Assembly Area | M1: Pipe Shop | N1: Panel Fabrication Area | O1: Block Erection Area | P1: Dock | Q1: Quay
B2: 1 | C2: 2 | D2: 3 | E2: 4 | F2: 5 | G2: 6 | H2: 7 | I2: 8 | J2: 9 | K2: 10 | L2: 11 | M2: 12 | N2: 13 | O2: 14 | P2: 15 | Q2: 16
A3: Design Office | B3: A | C3: A | D3: A | E3: I | F3: U | G3: E | H3: E | I3: O | J3: O | K3: X | L3: X | M3: X | N3: X | O3: X | P3: X | Q3: X
A4: Supporting Activities | B4: A | C4: A | D4: A | E4: A | F4: O | G4: E | H4: E | I4: O | J4: O | K4: X | L4: X | M4: X | N4: X | O4: X | P4: X | Q4: X
A5: Warehouse | B5: A | C5: A | D5: A | E5: E | F5: O | G5: I | H5: I | I5: O | J5: U | K5: X | L5: X | M5: X | N5: X | O5: X | P5: X | Q5: X
A6: Medical Centre | B6: I | C6: A | D6: E | E6: A | F6: I | G6: O | H6: O | I6: I | J6: I | K6: X | L6: X | M6: X | N6: X | O6: X | P6: X | Q6: X
A7: Canteen | B7: U | C7: O | D7: O | E7: I | F7: A | G7: U | H7: U | I7: I | J7: E | K7: X | L7: X | M7: X | N7: X | O7: X | P7: X | Q7: X
A8: General Purpose Shop | B8: E | C8: E | D8: I | E8: O | F8: U | G8: A | H8: A | I8: I | J8: O | K8: O | L8: U | M8: U | N8: U | O8: U | P8: U | Q8: U
A9: Outfitting Shop | B9: E | C9: E | D9: I | E9: O | F9: U | G9: A | H9: A | I9: E | J9: I | K9: O | L9: U | M9: U | N9: U | O9: U | P9: U | Q9: U
A10: Steel Shop | B10: O | C10: O | D10: O | E10: I | F10: I | G10: I | H10: E | I10: A | J10: A | K10: U | L10: E | M10: U | N10: O | O10: U | P10: U | Q10: U
A11: Steel Stockyard | B11: O | C11: O | D11: U | E11: I | F11: E | G11: O | H11: I | I11: A | J11: A | K11: U | L11: E | M11: U | N11: O | O11: U | P11: U | Q11: U
A12: Paint Shop | B12: X | C12: X | D12: X | E12: X | F12: X | G12: O | H12: O | I12: U | J12: U | K12: A | L12: I | M12: A | N12: U | O12: O | P12: O | Q12: O
A13: Sub-Assembly Area | B13: X | C13: X | D13: X | E13: X | F13: X | G13: U | H13: U | I13: E | J13: E | K13: I | L13: A | M13: U | N13: A | O13: E | P13: O | Q13: O
A14: Pipe Shop | B14: X | C14: X | D14: X | E14: X | F14: X | G14: U | H14: U | I14: U | J14: U | K14: A | L14: U | M14: A | N14: U | O14: A | P14: I | Q14: O
... A20: Existing-REL | B20: Design Office | C20: Supporting Activities | D20: Warehouse | E20: Medical Centre | F20: Canteen | G20: General Purpose Shop | H20: Outfitting Shop | I20: Steel Shop | J20: Steel Stockyard | K20: Paint Shop | L20: Sub-Assembly Area | M20: Pipe Shop | N20: Panel Fabrication Area | O20: Block Erection Area | P20: Dock | Q20: Quay
B21: 1 | C21: 2 | D21: 3 | E21: 4 | F21: 5 | G21: 6 | H21: 7 | I21: 8 | J21: 9 | K21: 10 | L21: 11 | M21: 12 | N21: 13 | O21: 14 | P21: 15 | Q21: 16 | U21: A | V21: 5
A22: Design Office | B22: =VLOOKUP(B3,$U$21:$V$26,2,FALSE) -> 5 | C22: =VLOOKUP(C3,$U$21:$V$26,2,FALSE) -> 5 | D22: =VLOOKUP(D3,$U$21:$V$26,2,FALSE) -> 5 | E22: =VLOOKUP(E3,$U$21:$V$26,2,FALSE) -> 3 | F22: =VLOOKUP(F3,$U$21:$V$26,2,FALSE) -> 1 | G22: =VLOOKUP(G3,$U$21:$V$26,2,FALSE) -> 4 | H22: =VLOOKUP(H3,$U$21:$V$26,2,FALSE) -> 4 | I22: =VLOOKUP(I3,$U$21:$V$26,2,FALSE) -> 2 | ... Q22: =VLOOKUP(Q3,$U$21:$V$26,2,FALSE) -> 0 | U22: E | V22: 4
A23: Supporting Activities | B23: =VLOOKUP(B4,$U$21:$V$26,2,FALSE) -> 5 | C23: =VLOOKUP(C4,$U$21:$V$26,2,FALSE) -> 5 | D23: =VLOOKUP(D4,$U$21:$V$26,2,FALSE) -> 5 | E23: =VLOOKUP(E4,$U$21:$V$26,2,FALSE) -> 5 | F23: =VLOOKUP(F4,$U$21:$V$26,2,FALSE) -> 2 | G23: =VLOOKUP(G4,$U$21:$V$26,2,FALSE) -> 4 | H23: =VLOOKUP(H4,$U$21:$V$26,2,FALSE) -> 4 | I23: =VLOOKUP(I4,$U$21:$V$26,2,FALSE) -> 2 | ... Q23: =VLOOKUP(Q4,$U$21:$V$26,2,FALSE) -> 0 | U23: I | V23: 3
A24: Warehouse | B24: =VLOOKUP(B5,$U$21:$V$26,2,FALSE) -> 5 | C24: =VLOOKUP(C5,$U$21:$V$26,2,FALSE) -> 5 | D24: =VLOOKUP(D5,$U$21:$V$26,2,FALSE) -> 5 | E24: =VLOOKUP(E5,$U$21:$V$26,2,FALSE) -> 4 | F24: =VLOOKUP(F5,$U$21:$V$26,2,FALSE) -> 2 | G24: =VLOOKUP(G5,$U$21:$V$26,2,FALSE) -> 3 | H24: =VLOOKUP(H5,$U$21:$V$26,2,FALSE) -> 3 | I24: =VLOOKUP(I5,$U$21:$V$26,2,FALSE) -> 2 | ... Q24: =VLOOKUP(Q5,$U$21:$V$26,2,FALSE) -> 0 | U24: O | V24: 2
A25: Medical Centre | B25: =VLOOKUP(B6,$U$21:$V$26,2,FALSE) -> 3 | C25: =VLOOKUP(C6,$U$21:$V$26,2,FALSE) -> 5 | D25: =VLOOKUP(D6,$U$21:$V$26,2,FALSE) -> 4 | E25: =VLOOKUP(E6,$U$21:$V$26,2,FALSE) -> 5 | F25: =VLOOKUP(F6,$U$21:$V$26,2,FALSE) -> 3 | G25: =VLOOKUP(G6,$U$21:$V$26,2,FALSE) -> 2 | H25: =VLOOKUP(H6,$U$21:$V$26,2,FALSE) -> 2 | I25: =VLOOKUP(I6,$U$21:$V$26,2,FALSE) -> 3 | ... Q25: =VLOOKUP(Q6,$U$21:$V$26,2,FALSE) -> 0 | U25: U | V25: 1
A26: Canteen | B26: =VLOOKUP(B7,$U$21:$V$26,2,FALSE) -> 1 | C26: =VLOOKUP(C7,$U$21:$V$26,2,FALSE) -> 2 | D26: =VLOOKUP(D7,$U$21:$V$26,2,FALSE) -> 2 | E26: =VLOOKUP(E7,$U$21:$V$26,2,FALSE) -> 3 | F26: =VLOOKUP(F7,$U$21:$V$26,2,FALSE) -> 5 | G26: =VLOOKUP(G7,$U$21:$V$26,2,FALSE) -> 1 | H26: =VLOOKUP(H7,$U$21:$V$26,2,FALSE) -> 1 | I26: =VLOOKUP(I7,$U$21:$V$26,2,FALSE) -> 3 | ... Q26: =VLOOKUP(Q7,$U$21:$V$26,2,FALSE) -> 0 | U26: X | V26: 0
A27: General Purpose Shop | B27: =VLOOKUP(B8,$U$21:$V$26,2,FALSE) -> 4 | C27: =VLOOKUP(C8,$U$21:$V$26,2,FALSE) -> 4 | D27: =VLOOKUP(D8,$U$21:$V$26,2,FALSE) -> 3 | E27: =VLOOKUP(E8,$U$21:$V$26,2,FALSE) -> 2 | F27: =VLOOKUP(F8,$U$21:$V$26,2,FALSE) -> 1 | G27: =VLOOKUP(G8,$U$21:$V$26,2,FALSE) -> 5 | H27: =VLOOKUP(H8,$U$21:$V$26,2,FALSE) -> 5 | I27: =VLOOKUP(I8,$U$21:$V$26,2,FALSE) -> 3 | ... Q27: =VLOOKUP(Q8,$U$21:$V$26,2,FALSE) -> 1
A28: Outfitting Shop | B28: =VLOOKUP(B9,$U$21:$V$26,2,FALSE) -> 4 | C28: =VLOOKUP(C9,$U$21:$V$26,2,FALSE) -> 4 | D28: =VLOOKUP(D9,$U$21:$V$26,2,FALSE) -> 3 | E28: =VLOOKUP(E9,$U$21:$V$26,2,FALSE) -> 2 | F28: =VLOOKUP(F9,$U$21:$V$26,2,FALSE) -> 1 | G28: =VLOOKUP(G9,$U$21:$V$26,2,FALSE) -> 5 | H28: =VLOOKUP(H9,$U$21:$V$26,2,FALSE) -> 5 | I28: =VLOOKUP(I9,$U$21:$V$26,2,FALSE) -> 4 | ... Q28: =VLOOKUP(Q9,$U$21:$V$26,2,FALSE) -> 1
A29: Steel Shop | B29: =VLOOKUP(B10,$U$21:$V$26,2,FALSE) -> 2 | C29: =VLOOKUP(C10,$U$21:$V$26,2,FALSE) -> 2 | D29: =VLOOKUP(D10,$U$21:$V$26,2,FALSE) -> 2 | E29: =VLOOKUP(E10,$U$21:$V$26,2,FALSE) -> 3 | F29: =VLOOKUP(F10,$U$21:$V$26,2,FALSE) -> 3 | G29: =VLOOKUP(G10,$U$21:$V$26,2,FALSE) -> 3 | H29: =VLOOKUP(H10,$U$21:$V$26,2,FALSE) -> 4 | I29: =VLOOKUP(I10,$U$21:$V$26,2,FALSE) -> 5 | ... Q29: =VLOOKUP(Q10,$U$21:$V$26,2,FALSE) -> 1
A30: Steel Stockyard | B30: =VLOOKUP(B11,$U$21:$V$26,2,FALSE) -> 2 | C30: =VLOOKUP(C11,$U$21:$V$26,2,FALSE) -> 2 | D30: =VLOOKUP(D11,$U$21:$V$26,2,FALSE) -> 1 | E30: =VLOOKUP(E11,$U$21:$V$26,2,FALSE) -> 3 | F30: =VLOOKUP(F11,$U$21:$V$26,2,FALSE) -> 4 | G30: =VLOOKUP(G11,$U$21:$V$26,2,FALSE) -> 2 | H30: =VLOOKUP(H11,$U$21:$V$26,2,FALSE) -> 3 | I30: =VLOOKUP(I11,$U$21:$V$26,2,FALSE) -> 5 | ... Q30: =VLOOKUP(Q11,$U$21:$V$26,2,FALSE) -> 1
A31: Paint Shop | B31: =VLOOKUP(B12,$U$21:$V$26,2,FALSE) -> 0 | C31: =VLOOKUP(C12,$U$21:$V$26,2,FALSE) -> 0 | D31: =VLOOKUP(D12,$U$21:$V$26,2,FALSE) -> 0 | E31: =VLOOKUP(E12,$U$21:$V$26,2,FALSE) -> 0 | F31: =VLOOKUP(F12,$U$21:$V$26,2,FALSE) -> 0 | G31: =VLOOKUP(G12,$U$21:$V$26,2,FALSE) -> 2 | H31: =VLOOKUP(H12,$U$21:$V$26,2,FALSE) -> 2 | I31: =VLOOKUP(I12,$U$21:$V$26,2,FALSE) -> 1 | ... Q31: =VLOOKUP(Q12,$U$21:$V$26,2,FALSE) -> 2
A32: Sub-Assembly Area | B32: =VLOOKUP(B13,$U$21:$V$26,2,FALSE) -> 0 | C32: =VLOOKUP(C13,$U$21:$V$26,2,FALSE) -> 0 | D32: =VLOOKUP(D13,$U$21:$V$26,2,FALSE) -> 0 | E32: =VLOOKUP(E13,$U$21:$V$26,2,FALSE) -> 0 | F32: =VLOOKUP(F13,$U$21:$V$26,2,FALSE) -> 0 | G32: =VLOOKUP(G13,$U$21:$V$26,2,FALSE) -> 1 | H32: =VLOOKUP(H13,$U$21:$V$26,2,FALSE) -> 1 | I32: =VLOOKUP(I13,$U$21:$V$26,2,FALSE) -> 4 | ... Q32: =VLOOKUP(Q13,$U$21:$V$26,2,FALSE) -> 2
A33: Pipe Shop | B33: =VLOOKUP(B14,$U$21:$V$26,2,FALSE) -> 0 | C33: =VLOOKUP(C14,$U$21:$V$26,2,FALSE) -> 0 | D33: =VLOOKUP(D14,$U$21:$V$26,2,FALSE) -> 0 | E33: =VLOOKUP(E14,$U$21:$V$26,2,FALSE) -> 0 | F33: =VLOOKUP(F14,$U$21:$V$26,2,FALSE) -> 0 | G33: =VLOOKUP(G14,$U$21:$V$26,2,FALSE) -> 1 | H33: =VLOOKUP(H14,$U$21:$V$26,2,FALSE) -> 1 | I33: =VLOOKUP(I14,$U$21:$V$26,2,FALSE) -> 1 | ... Q33: =VLOOKUP(Q14,$U$21:$V$26,2,FALSE) -> 2
A34: Panel Fabrication Area | B34: =VLOOKUP(B15,$U$21:$V$26,2,FALSE) -> 0 | C34: =VLOOKUP(C15,$U$21:$V$26,2,FALSE) -> 0 | D34: =VLOOKUP(D15,$U$21:$V$26,2,FALSE) -> 0 | E34: =VLOOKUP(E15,$U$21:$V$26,2,FALSE) -> 0 | F34: =VLOOKUP(F15,$U$21:$V$26,2,FALSE) -> 0 | G34: =VLOOKUP(G15,$U$21:$V$26,2,FALSE) -> 1 | H34: =VLOOKUP(H15,$U$21:$V$26,2,FALSE) -> 1 | I34: =VLOOKUP(I15,$U$21:$V$26,2,FALSE) -> 2 | ... Q34: =VLOOKUP(Q15,$U$21:$V$26,2,FALSE) -> 3
A35: Block Erection Area | B35: =VLOOKUP(B16,$U$21:$V$26,2,FALSE) -> 0 | C35: =VLOOKUP(C16,$U$21:$V$26,2,FALSE) -> 0 | D35: =VLOOKUP(D16,$U$21:$V$26,2,FALSE) -> 0 | E35: =VLOOKUP(E16,$U$21:$V$26,2,FALSE) -> 0 | F35: =VLOOKUP(F16,$U$21:$V$26,2,FALSE) -> 0 | G35: =VLOOKUP(G16,$U$21:$V$26,2,FALSE) -> 1 | H35: =VLOOKUP(H16,$U$21:$V$26,2,FALSE) -> 1 | I35: =VLOOKUP(I16,$U$21:$V$26,2,FALSE) -> 1 | ... Q35: =VLOOKUP(Q16,$U$21:$V$26,2,FALSE) -> 4
A36: Dock | B36: =VLOOKUP(B17,$U$21:$V$26,2,FALSE) -> 0 | C36: =VLOOKUP(C17,$U$21:$V$26,2,FALSE) -> 0 | D36: =VLOOKUP(D17,$U$21:$V$26,2,FALSE) -> 0 | E36: =VLOOKUP(E17,$U$21:$V$26,2,FALSE) -> 0 | F36: =VLOOKUP(F17,$U$21:$V$26,2,FALSE) -> 0 | G36: =VLOOKUP(G17,$U$21:$V$26,2,FALSE) -> 1 | H36: =VLOOKUP(H17,$U$21:$V$26,2,FALSE) -> 1 | I36: =VLOOKUP(I17,$U$21:$V$26,2,FALSE) -> 1 | ... Q36: =VLOOKUP(Q17,$U$21:$V$26,2,FALSE) -> 5
A37: Quay | B37: =VLOOKUP(B18,$U$21:$V$26,2,FALSE) -> 0 | C37: =VLOOKUP(C18,$U$21:$V$26,2,FALSE) -> 0 | D37: =VLOOKUP(D18,$U$21:$V$26,2,FALSE) -> 0 | E37: =VLOOKUP(E18,$U$21:$V$26,2,FALSE) -> 0 | F37: =VLOOKUP(F18,$U$21:$V$26,2,FALSE) -> 0 | G37: =VLOOKUP(G18,$U$21:$V$26,2,FALSE) -> 1 | H37: =VLOOKUP(H18,$U$21:$V$26,2,FALSE) -> 1 | I37: =VLOOKUP(I18,$U$21:$V$26,2,FALSE) -> 1 | ... Q37: =VLOOKUP(Q18,$U$21:$V$26,2,FALSE) -> 5

Sheet Required-REL
A1: Required-REL | B1: Design Office | C1: Supporting Activities | D1: Warehouse | E1: Medical Centre | F1: Canteen | G1: General Purpose Shop | H1: Outfitting Shop | I1: Steel Shop | J1: Steel Stockyard | K1: Paint Shop | L1: Sub-Assembly Area | M1: Pipe Shop | N1: Panel Fabrication Area | O1: Block Erection Area | P1: Dock | Q1: Quay
B2: 1 | C2: 2 | D2: 3 | E2: 4 | F2: 5 | G2: 6 | H2: 7 | I2: 8 | J2: 9 | K2: 10 | L2: 11 | M2: 12 | N2: 13 | O2: 14 | P2: 15 | Q2: 16
A3: Design Office | B3: A | C3: A | D3: O | E3: U | F3: U | G3: U | H3: U | I3: I | J3: I | K3: X | L3: U | M3: U | N3: U | O3: U | P3: U | Q3: X
A4: Supporting Activities | B4: A | C4: A | D4: O | E4: U | F4: U | G4: U | H4: U | I4: O | J4: U | K4: X | L4: U | M4: U | N4: U | O4: U | P4: U | Q4: X
A5: Warehouse | B5: O | C5: O | D5: A | E5: O | F5: O | G5: I | H5: I | I5: I | J5: O | K5: U | L5: O | M5: O | N5: O | O5: X | P5: X | Q5: X
A6: Medical Centre | B6: U | C6: U | D6: O | E6: A | F6: O | G6: U | H6: U | I6: O | J6: O | K6: X | L6: U | M6: O | N6: O | O6: O | P6: X | Q6: X
A7: Canteen | B7: U | C7: U | D7: O | E7: O | F7: A | G7: U | H7: U | I7: O | J7: O | K7: X | L7: U | M7: O | N7: O | O7: O | P7: X | Q7: X
A8: General Purpose Shop | B8: U | C8: U | D8: I | E8: U | F8: U | G8: A | H8: E | I8: O | J8: O | K8: O | L8: U | M8: O | N8: I | O8: A | P8: A | Q8: I
A9: Outfitting Shop | B9: U | C9: U | D9: I | E9: U | F9: U | G9: E | H9: A | I9: A | J9: E | K9: O | L9: I | M9: O | N9: I | O9: A | P9: E | Q9: I
A10: Steel Shop | B10: I | C10: O | D10: I | E10: O | F10: O | G10: O | H10: A | I10: A | J10: A | K10: A | L10: E | M10: U | N10: I | O10: O | P10: U | Q10: U
A11: Steel Stockyard | B11: I | C11: U | D11: O | E11: O | F11: O | G11: O | H11: E | I11: A | J11: A | K11: A | L11: U | M11: U | N11: O | O11: O | P11: U | Q11: U
A12: Paint Shop | B12: X | C12: X | D12: U | E12: X | F12: X | G12: O | H12: O | I12: A | J12: A | K12: A | L12: A | M12: O | N12: I | O12: O | P12: O | Q12: U
A13: Sub-Assembly Area | B13: U | C13: U | D13: O | E13: U | F13: U | G13: U | H13: I | I13: E | J13: U | K13: A | L13: A | M13: A | N13: A | O13: E | P13: I | Q13: O
A14: Pipe Shop | B14: U | C14: U | D14: O | E14: O | F14: O | G14: O | H14: O | I14: U | J14: U | K14: O | L14: A | M14: A | N14: A | O14: A | P14: E | Q14: I
... A20: Required-REL | B20: Design Office | C20: Supporting Activities | D20: Warehouse | E20: Medical Centre | F20: Canteen | G20: General Purpose Shop | H20: Outfitting Shop | I20: Steel Shop | J20: Steel Stockyard | K20: Paint Shop | L20: Sub-Assembly Area | M20: Pipe Shop | N20: Panel Fabrication Area | O20: Block Erection Area | P20: Dock | Q20: Quay
B21: 1 | C21: 2 | D21: 3 | E21: 4 | F21: 5 | G21: 6 | H21: 7 | I21: 8 | J21: 9 | K21: 10 | L21: 11 | M21: 12 | N21: 13 | O21: 14 | P21: 15 | Q21: 16 | U21: A | V21: 5
A22: Design Office | B22: =VLOOKUP(B3,$U$21:$V$26,2,FALSE) -> 5 | C22: =VLOOKUP(C3,$U$21:$V$26,2,FALSE) -> 5 | D22: =VLOOKUP(D3,$U$21:$V$26,2,FALSE) -> 2 | E22: =VLOOKUP(E3,$U$21:$V$26,2,FALSE) -> 1 | F22: =VLOOKUP(F3,$U$21:$V$26,2,FALSE) -> 1 | G22: =VLOOKUP(G3,$U$21:$V$26,2,FALSE) -> 1 | H22: =VLOOKUP(H3,$U$21:$V$26,2,FALSE) -> 1 | I22: =VLOOKUP(I3,$U$21:$V$26,2,FALSE) -> 3 | ... Q22: =VLOOKUP(Q3,$U$21:$V$26,2,FALSE) -> 0 | U22: E | V22: 4
A23: Supporting Activities | B23: =VLOOKUP(B4,$U$21:$V$26,2,FALSE) -> 5 | C23: =VLOOKUP(C4,$U$21:$V$26,2,FALSE) -> 5 | D23: =VLOOKUP(D4,$U$21:$V$26,2,FALSE) -> 2 | E23: =VLOOKUP(E4,$U$21:$V$26,2,FALSE) -> 1 | F23: =VLOOKUP(F4,$U$21:$V$26,2,FALSE) -> 1 | G23: =VLOOKUP(G4,$U$21:$V$26,2,FALSE) -> 1 | H23: =VLOOKUP(H4,$U$21:$V$26,2,FALSE) -> 1 | I23: =VLOOKUP(I4,$U$21:$V$26,2,FALSE) -> 2 | ... Q23: =VLOOKUP(Q4,$U$21:$V$26,2,FALSE) -> 0 | U23: I | V23: 3
A24: Warehouse | B24: =VLOOKUP(B5,$U$21:$V$26,2,FALSE) -> 2 | C24: =VLOOKUP(C5,$U$21:$V$26,2,FALSE) -> 2 | D24: =VLOOKUP(D5,$U$21:$V$26,2,FALSE) -> 5 | E24: =VLOOKUP(E5,$U$21:$V$26,2,FALSE) -> 2 | F24: =VLOOKUP(F5,$U$21:$V$26,2,FALSE) -> 2 | G24: =VLOOKUP(G5,$U$21:$V$26,2,FALSE) -> 3 | H24: =VLOOKUP(H5,$U$21:$V$26,2,FALSE) -> 3 | I24: =VLOOKUP(I5,$U$21:$V$26,2,FALSE) -> 3 | ... Q24: =VLOOKUP(Q5,$U$21:$V$26,2,FALSE) -> 0 | U24: O | V24: 2
A25: Medical Centre | B25: =VLOOKUP(B6,$U$21:$V$26,2,FALSE) -> 1 | C25: =VLOOKUP(C6,$U$21:$V$26,2,FALSE) -> 1 | D25: =VLOOKUP(D6,$U$21:$V$26,2,FALSE) -> 2 | E25: =VLOOKUP(E6,$U$21:$V$26,2,FALSE) -> 5 | F25: =VLOOKUP(F6,$U$21:$V$26,2,FALSE) -> 2 | G25: =VLOOKUP(G6,$U$21:$V$26,2,FALSE) -> 1 | H25: =VLOOKUP(H6,$U$21:$V$26,2,FALSE) -> 1 | I25: =VLOOKUP(I6,$U$21:$V$26,2,FALSE) -> 2 | ... Q25: =VLOOKUP(Q6,$U$21:$V$26,2,FALSE) -> 0 | U25: U | V25: 1
A26: Canteen | B26: =VLOOKUP(B7,$U$21:$V$26,2,FALSE) -> 1 | C26: =VLOOKUP(C7,$U$21:$V$26,2,FALSE) -> 1 | D26: =VLOOKUP(D7,$U$21:$V$26,2,FALSE) -> 2 | E26: =VLOOKUP(E7,$U$21:$V$26,2,FALSE) -> 2 | F26: =VLOOKUP(F7,$U$21:$V$26,2,FALSE) -> 5 | G26: =VLOOKUP(G7,$U$21:$V$26,2,FALSE) -> 1 | H26: =VLOOKUP(H7,$U$21:$V$26,2,FALSE) -> 1 | I26: =VLOOKUP(I7,$U$21:$V$26,2,FALSE) -> 2 | ... Q26: =VLOOKUP(Q7,$U$21:$V$26,2,FALSE) -> 0 | U26: X | V26: 0
A27: General Purpose Shop | B27: =VLOOKUP(B8,$U$21:$V$26,2,FALSE) -> 1 | C27: =VLOOKUP(C8,$U$21:$V$26,2,FALSE) -> 1 | D27: =VLOOKUP(D8,$U$21:$V$26,2,FALSE) -> 3 | E27: =VLOOKUP(E8,$U$21:$V$26,2,FALSE) -> 1 | F27: =VLOOKUP(F8,$U$21:$V$26,2,FALSE) -> 1 | G27: =VLOOKUP(G8,$U$21:$V$26,2,FALSE) -> 5 | H27: =VLOOKUP(H8,$U$21:$V$26,2,FALSE) -> 4 | I27: =VLOOKUP(I8,$U$21:$V$26,2,FALSE) -> 2 | ... Q27: =VLOOKUP(Q8,$U$21:$V$26,2,FALSE) -> 3
A28: Outfitting Shop | B28: =VLOOKUP(B9,$U$21:$V$26,2,FALSE) -> 1 | C28: =VLOOKUP(C9,$U$21:$V$26,2,FALSE) -> 1 | D28: =VLOOKUP(D9,$U$21:$V$26,2,FALSE) -> 3 | E28: =VLOOKUP(E9,$U$21:$V$26,2,FALSE) -> 1 | F28: =VLOOKUP(F9,$U$21:$V$26,2,FALSE) -> 1 | G28: =VLOOKUP(G9,$U$21:$V$26,2,FALSE) -> 4 | H28: =VLOOKUP(H9,$U$21:$V$26,2,FALSE) -> 5 | I28: =VLOOKUP(I9,$U$21:$V$26,2,FALSE) -> 5 | ... Q28: =VLOOKUP(Q9,$U$21:$V$26,2,FALSE) -> 3
A29: Steel Shop | B29: =VLOOKUP(B10,$U$21:$V$26,2,FALSE) -> 3 | C29: =VLOOKUP(C10,$U$21:$V$26,2,FALSE) -> 2 | D29: =VLOOKUP(D10,$U$21:$V$26,2,FALSE) -> 3 | E29: =VLOOKUP(E10,$U$21:$V$26,2,FALSE) -> 2 | F29: =VLOOKUP(F10,$U$21:$V$26,2,FALSE) -> 2 | G29: =VLOOKUP(G10,$U$21:$V$26,2,FALSE) -> 2 | H29: =VLOOKUP(H10,$U$21:$V$26,2,FALSE) -> 5 | I29: =VLOOKUP(I10,$U$21:$V$26,2,FALSE) -> 5 | ... Q29: =VLOOKUP(Q10,$U$21:$V$26,2,FALSE) -> 1
A30: Steel Stockyard | B30: =VLOOKUP(B11,$U$21:$V$26,2,FALSE) -> 3 | C30: =VLOOKUP(C11,$U$21:$V$26,2,FALSE) -> 1 | D30: =VLOOKUP(D11,$U$21:$V$26,2,FALSE) -> 2 | E30: =VLOOKUP(E11,$U$21:$V$26,2,FALSE) -> 2 | F30: =VLOOKUP(F11,$U$21:$V$26,2,FALSE) -> 2 | G30: =VLOOKUP(G11,$U$21:$V$26,2,FALSE) -> 2 | H30: =VLOOKUP(H11,$U$21:$V$26,2,FALSE) -> 4 | I30: =VLOOKUP(I11,$U$21:$V$26,2,FALSE) -> 5 | ... Q30: =VLOOKUP(Q11,$U$21:$V$26,2,FALSE) -> 1
A31: Paint Shop | B31: =VLOOKUP(B12,$U$21:$V$26,2,FALSE) -> 0 | C31: =VLOOKUP(C12,$U$21:$V$26,2,FALSE) -> 0 | D31: =VLOOKUP(D12,$U$21:$V$26,2,FALSE) -> 1 | E31: =VLOOKUP(E12,$U$21:$V$26,2,FALSE) -> 0 | F31: =VLOOKUP(F12,$U$21:$V$26,2,FALSE) -> 0 | G31: =VLOOKUP(G12,$U$21:$V$26,2,FALSE) -> 2 | H31: =VLOOKUP(H12,$U$21:$V$26,2,FALSE) -> 2 | I31: =VLOOKUP(I12,$U$21:$V$26,2,FALSE) -> 5 | ... Q31: =VLOOKUP(Q12,$U$21:$V$26,2,FALSE) -> 1
A32: Sub-Assembly Area | B32: =VLOOKUP(B13,$U$21:$V$26,2,FALSE) -> 1 | C32: =VLOOKUP(C13,$U$21:$V$26,2,FALSE) -> 1 | D32: =VLOOKUP(D13,$U$21:$V$26,2,FALSE) -> 2 | E32: =VLOOKUP(E13,$U$21:$V$26,2,FALSE) -> 1 | F32: =VLOOKUP(F13,$U$21:$V$26,2,FALSE) -> 1 | G32: =VLOOKUP(G13,$U$21:$V$26,2,FALSE) -> 1 | H32: =VLOOKUP(H13,$U$21:$V$26,2,FALSE) -> 3 | I32: =VLOOKUP(I13,$U$21:$V$26,2,FALSE) -> 4 | ... Q32: =VLOOKUP(Q13,$U$21:$V$26,2,FALSE) -> 2
A33: Pipe Shop | B33: =VLOOKUP(B14,$U$21:$V$26,2,FALSE) -> 1 | C33: =VLOOKUP(C14,$U$21:$V$26,2,FALSE) -> 1 | D33: =VLOOKUP(D14,$U$21:$V$26,2,FALSE) -> 2 | E33: =VLOOKUP(E14,$U$21:$V$26,2,FALSE) -> 2 | F33: =VLOOKUP(F14,$U$21:$V$26,2,FALSE) -> 2 | G33: =VLOOKUP(G14,$U$21:$V$26,2,FALSE) -> 2 | H33: =VLOOKUP(H14,$U$21:$V$26,2,FALSE) -> 2 | I33: =VLOOKUP(I14,$U$21:$V$26,2,FALSE) -> 1 | ... Q33: =VLOOKUP(Q14,$U$21:$V$26,2,FALSE) -> 3
A34: Panel Fabrication Area | B34: =VLOOKUP(B15,$U$21:$V$26,2,FALSE) -> 1 | C34: =VLOOKUP(C15,$U$21:$V$26,2,FALSE) -> 1 | D34: =VLOOKUP(D15,$U$21:$V$26,2,FALSE) -> 2 | E34: =VLOOKUP(E15,$U$21:$V$26,2,FALSE) -> 2 | F34: =VLOOKUP(F15,$U$21:$V$26,2,FALSE) -> 2 | G34: =VLOOKUP(G15,$U$21:$V$26,2,FALSE) -> 3 | H34: =VLOOKUP(H15,$U$21:$V$26,2,FALSE) -> 3 | I34: =VLOOKUP(I15,$U$21:$V$26,2,FALSE) -> 3 | ... Q34: =VLOOKUP(Q15,$U$21:$V$26,2,FALSE) -> 3
A35: Block Erection Area | B35: =VLOOKUP(B16,$U$21:$V$26,2,FALSE) -> 1 | C35: =VLOOKUP(C16,$U$21:$V$26,2,FALSE) -> 1 | D35: =VLOOKUP(D16,$U$21:$V$26,2,FALSE) -> 0 | E35: =VLOOKUP(E16,$U$21:$V$26,2,FALSE) -> 2 | F35: =VLOOKUP(F16,$U$21:$V$26,2,FALSE) -> 2 | G35: =VLOOKUP(G16,$U$21:$V$26,2,FALSE) -> 5 | H35: =VLOOKUP(H16,$U$21:$V$26,2,FALSE) -> 5 | I35: =VLOOKUP(I16,$U$21:$V$26,2,FALSE) -> 2 | ... Q35: =VLOOKUP(Q16,$U$21:$V$26,2,FALSE) -> 4
A36: Dock | B36: =VLOOKUP(B17,$U$21:$V$26,2,FALSE) -> 1 | C36: =VLOOKUP(C17,$U$21:$V$26,2,FALSE) -> 1 | D36: =VLOOKUP(D17,$U$21:$V$26,2,FALSE) -> 0 | E36: =VLOOKUP(E17,$U$21:$V$26,2,FALSE) -> 0 | F36: =VLOOKUP(F17,$U$21:$V$26,2,FALSE) -> 0 | G36: =VLOOKUP(G17,$U$21:$V$26,2,FALSE) -> 5 | H36: =VLOOKUP(H17,$U$21:$V$26,2,FALSE) -> 4 | I36: =VLOOKUP(I17,$U$21:$V$26,2,FALSE) -> 1 | ... Q36: =VLOOKUP(Q17,$U$21:$V$26,2,FALSE) -> 5
A37: Quay | B37: =VLOOKUP(B18,$U$21:$V$26,2,FALSE) -> 0 | C37: =VLOOKUP(C18,$U$21:$V$26,2,FALSE) -> 0 | D37: =VLOOKUP(D18,$U$21:$V$26,2,FALSE) -> 0 | E37: =VLOOKUP(E18,$U$21:$V$26,2,FALSE) -> 0 | F37: =VLOOKUP(F18,$U$21:$V$26,2,FALSE) -> 0 | G37: =VLOOKUP(G18,$U$21:$V$26,2,FALSE) -> 3 | H37: =VLOOKUP(H18,$U$21:$V$26,2,FALSE) -> 3 | I37: =VLOOKUP(I18,$U$21:$V$26,2,FALSE) -> 1 | ... Q37: =VLOOKUP(Q18,$U$21:$V$26,2,FALSE) -> 5

Sheet AD(Ideal-Existing)
B1: Design Office | C1: Supporting Activities | D1: Warehouse | E1: Medical Centre | F1: Canteen | G1: General Purpose Shop | H1: Outfitting Shop | I1: Steel Shop | J1: Steel Stockyard | K1: Paint Shop | L1: Sub-Assembly Area | M1: Pipe Shop | N1: Panel Fabrication Area | O1: Block Erection Area | P1: Dock | Q1: Quay | R1: ADi(Ideal-Existing)
B2: 1 | C2: 2 | D2: 3 | E2: 4 | F2: 5 | G2: 6 | H2: 7 | I2: 8 | J2: 9 | K2: 10 | L2: 11 | M2: 12 | N2: 13 | O2: 14 | P2: 15 | Q2: 16
A3: Design Office | B3: =ABS('Ideal-REL'!B22-'Existing-REL'!B22) -> 0 | C3: =ABS('Ideal-REL'!C22-'Existing-REL'!C22) -> 0 | D3: =ABS('Ideal-REL'!D22-'Existing-REL'!D22) -> 5 | E3: =ABS('Ideal-REL'!E22-'Existing-REL'!E22) -> 2 | F3: =ABS('Ideal-REL'!F22-'Existing-REL'!F22) -> 0 | G3: =ABS('Ideal-REL'!G22-'Existing-REL'!G22) -> 3 | H3: =ABS('Ideal-REL'!H22-'Existing-REL'!H22) -> 3 | I3: =ABS('Ideal-REL'!I22-'Existing-REL'!I22) -> 2 | ... Q3: =ABS('Ideal-REL'!Q22-'Existing-REL'!Q22) -> 0 | R3: =SUM(B3:Q3) -> 19
A4: Supporting Activities | B4: =ABS('Ideal-REL'!B23-'Existing-REL'!B23) -> 0 | C4: =ABS('Ideal-REL'!C23-'Existing-REL'!C23) -> 0 | D4: =ABS('Ideal-REL'!D23-'Existing-REL'!D23) -> 5 | E4: =ABS('Ideal-REL'!E23-'Existing-REL'!E23) -> 4 | F4: =ABS('Ideal-REL'!F23-'Existing-REL'!F23) -> 1 | G4: =ABS('Ideal-REL'!G23-'Existing-REL'!G23) -> 3 | H4: =ABS('Ideal-REL'!H23-'Existing-REL'!H23) -> 3 | I4: =ABS('Ideal-REL'!I23-'Existing-REL'!I23) -> 2 | ... Q4: =ABS('Ideal-REL'!Q23-'Existing-REL'!Q23) -> 0 | R4: =SUM(B4:Q4) -> 22
A5: Warehouse | B5: =ABS('Ideal-REL'!B24-'Existing-REL'!B24) -> 5 | C5: =ABS('Ideal-REL'!C24-'Existing-REL'!C24) -> 5 | D5: =ABS('Ideal-REL'!D24-'Existing-REL'!D24) -> 0 | E5: =ABS('Ideal-REL'!E24-'Existing-REL'!E24) -> 3 | F5: =ABS('Ideal-REL'!F24-'Existing-REL'!F24) -> 2 | G5: =ABS('Ideal-REL'!G24-'Existing-REL'!G24) -> 2 | H5: =ABS('Ideal-REL'!H24-'Existing-REL'!H24) -> 2 | I5: =ABS('Ideal-REL'!I24-'Existing-REL'!I24) -> 2 | ... Q5: =ABS('Ideal-REL'!Q24-'Existing-REL'!Q24) -> 0 | R5: =SUM(B5:Q5) -> 37
A6: Medical Centre | B6: =ABS('Ideal-REL'!B25-'Existing-REL'!B25) -> 2 | C6: =ABS('Ideal-REL'!C25-'Existing-REL'!C25) -> 4 | D6: =ABS('Ideal-REL'!D25-'Existing-REL'!D25) -> 3 | E6: =ABS('Ideal-REL'!E25-'Existing-REL'!E25) -> 0 | F6: =ABS('Ideal-REL'!F25-'Existing-REL'!F25) -> 2 | G6: =ABS('Ideal-REL'!G25-'Existing-REL'!G25) -> 2 | H6: =ABS('Ideal-REL'!H25-'Existing-REL'!H25) -> 2 | I6: =ABS('Ideal-REL'!I25-'Existing-REL'!I25) -> 1 | ... Q6: =ABS('Ideal-REL'!Q25-'Existing-REL'!Q25) -> 0 | R6: =SUM(B6:Q6) -> 22
A7: Canteen | B7: =ABS('Ideal-REL'!B26-'Existing-REL'!B26) -> 0 | C7: =ABS('Ideal-REL'!C26-'Existing-REL'!C26) -> 1 | D7: =ABS('Ideal-REL'!D26-'Existing-REL'!D26) -> 2 | E7: =ABS('Ideal-REL'!E26-'Existing-REL'!E26) -> 2 | F7: =ABS('Ideal-REL'!F26-'Existing-REL'!F26) -> 0 | G7: =ABS('Ideal-REL'!G26-'Existing-REL'!G26) -> 1 | H7: =ABS('Ideal-REL'!H26-'Existing-REL'!H26) -> 1 | I7: =ABS('Ideal-REL'!I26-'Existing-REL'!I26) -> 1 | ... Q7: =ABS('Ideal-REL'!Q26-'Existing-REL'!Q26) -> 0 | R7: =SUM(B7:Q7) -> 13
A8: General Purpose Shop | B8: =ABS('Ideal-REL'!B27-'Existing-REL'!B27) -> 3 | C8: =ABS('Ideal-REL'!C27-'Existing-REL'!C27) -> 3 | D8: =ABS('Ideal-REL'!D27-'Existing-REL'!D27) -> 2 | E8: =ABS('Ideal-REL'!E27-'Existing-REL'!E27) -> 2 | F8: =ABS('Ideal-REL'!F27-'Existing-REL'!F27) -> 1 | G8: =ABS('Ideal-REL'!G27-'Existing-REL'!G27) -> 0 | H8: =ABS('Ideal-REL'!H27-'Existing-REL'!H27) -> 0 | I8: =ABS('Ideal-REL'!I27-'Existing-REL'!I27) -> 1 | ... Q8: =ABS('Ideal-REL'!Q27-'Existing-REL'!Q27) -> 1 | R8: =SUM(B8:Q8) -> 22
A9: Outfitting Shop | B9: =ABS('Ideal-REL'!B28-'Existing-REL'!B28) -> 3 | C9: =ABS('Ideal-REL'!C28-'Existing-REL'!C28) -> 3 | D9: =ABS('Ideal-REL'!D28-'Existing-REL'!D28) -> 2 | E9: =ABS('Ideal-REL'!E28-'Existing-REL'!E28) -> 2 | F9: =ABS('Ideal-REL'!F28-'Existing-REL'!F28) -> 1 | G9: =ABS('Ideal-REL'!G28-'Existing-REL'!G28) -> 0 | H9: =ABS('Ideal-REL'!H28-'Existing-REL'!H28) -> 0 | I9: =ABS('Ideal-REL'!I28-'Existing-REL'!I28) -> 2 | ... Q9: =ABS('Ideal-REL'!Q28-'Existing-REL'!Q28) -> 1 | R9: =SUM(B9:Q9) -> 27
A10: Steel Shop | B10: =ABS('Ideal-REL'!B29-'Existing-REL'!B29) -> 2 | C10: =ABS('Ideal-REL'!C29-'Existing-REL'!C29) -> 2 | D10: =ABS('Ideal-REL'!D29-'Existing-REL'!D29) -> 2 | E10: =ABS('Ideal-REL'!E29-'Existing-REL'!E29) -> 1 | F10: =ABS('Ideal-REL'!F29-'Existing-REL'!F29) -> 1 | G10: =ABS('Ideal-REL'!G29-'Existing-REL'!G29) -> 1 | H10: =ABS('Ideal-REL'!H29-'Existing-REL'!H29) -> 2 | I10: =ABS('Ideal-REL'!I29-'Existing-REL'!I29) -> 0 | ... Q10: =ABS('Ideal-REL'!Q29-'Existing-REL'!Q29) -> 0 | R10: =SUM(B10:Q10) -> 18
A11: Steel Stockyard | B11: =ABS('Ideal-REL'!B30-'Existing-REL'!B30) -> 1 | C11: =ABS('Ideal-REL'!C30-'Existing-REL'!C30) -> 1 | D11: =ABS('Ideal-REL'!D30-'Existing-REL'!D30) -> 2 | E11: =ABS('Ideal-REL'!E30-'Existing-REL'!E30) -> 1 | F11: =ABS('Ideal-REL'!F30-'Existing-REL'!F30) -> 0 | G11: =ABS('Ideal-REL'!G30-'Existing-REL'!G30) -> 0 | H11: =ABS('Ideal-REL'!H30-'Existing-REL'!H30) -> 1 | I11: =ABS('Ideal-REL'!I30-'Existing-REL'!I30) -> 0 | ... Q11: =ABS('Ideal-REL'!Q30-'Existing-REL'!Q30) -> 0 | R11: =SUM(B11:Q11) -> 13
A12: Paint Shop | B12: =ABS('Ideal-REL'!B31-'Existing-REL'!B31) -> 1 | C12: =ABS('Ideal-REL'!C31-'Existing-REL'!C31) -> 1 | D12: =ABS('Ideal-REL'!D31-'Existing-REL'!D31) -> 4 | E12: =ABS('Ideal-REL'!E31-'Existing-REL'!E31) -> 2 | F12: =ABS('Ideal-REL'!F31-'Existing-REL'!F31) -> 2 | G12: =ABS('Ideal-REL'!G31-'Existing-REL'!G31) -> 1 | H12: =ABS('Ideal-REL'!H31-'Existing-REL'!H31) -> 2 | I12: =ABS('Ideal-REL'!I31-'Existing-REL'!I31) -> 4 | ... Q12: =ABS('Ideal-REL'!Q31-'Existing-REL'!Q31) -> 1 | R12: =SUM(B12:Q12) -> 26
A13: Sub-Assembly Area | B13: =ABS('Ideal-REL'!B32-'Existing-REL'!B32) -> 0 | C13: =ABS('Ideal-REL'!C32-'Existing-REL'!C32) -> 0 | D13: =ABS('Ideal-REL'!D32-'Existing-REL'!D32) -> 2 | E13: =ABS('Ideal-REL'!E32-'Existing-REL'!E32) -> 2 | F13: =ABS('Ideal-REL'!F32-'Existing-REL'!F32) -> 2 | G13: =ABS('Ideal-REL'!G32-'Existing-REL'!G32) -> 3 | H13: =ABS('Ideal-REL'!H32-'Existing-REL'!H32) -> 4 | I13: =ABS('Ideal-REL'!I32-'Existing-REL'!I32) -> 0 | ... Q13: =ABS('Ideal-REL'!Q32-'Existing-REL'!Q32) -> 0 | R13: =SUM(B13:Q13) -> 21
A14: Pipe Shop | B14: =ABS('Ideal-REL'!B33-'Existing-REL'!B33) -> 2 | C14: =ABS('Ideal-REL'!C33-'Existing-REL'!C33) -> 2 | D14: =ABS('Ideal-REL'!D33-'Existing-REL'!D33) -> 1 | E14: =ABS('Ideal-REL'!E33-'Existing-REL'!E33) -> 1 | F14: =ABS('Ideal-REL'!F33-'Existing-REL'!F33) -> 1 | G14: =ABS('Ideal-REL'!G33-'Existing-REL'!G33) -> 0 | H14: =ABS('Ideal-REL'!H33-'Existing-REL'!H33) -> 0 | I14: =ABS('Ideal-REL'!I33-'Existing-REL'!I33) -> 1 | ... Q14: =ABS('Ideal-REL'!Q33-'Existing-REL'!Q33) -> 0 | R14: =SUM(B14:Q14) -> 19
... A18: Quay | B18: =ABS('Ideal-REL'!B37-'Existing-REL'!B37) -> 0 | C18: =ABS('Ideal-REL'!C37-'Existing-REL'!C37) -> 0 | D18: =ABS('Ideal-REL'!D37-'Existing-REL'!D37) -> 0 | E18: =ABS('Ideal-REL'!E37-'Existing-REL'!E37) -> 0 | F18: =ABS('Ideal-REL'!F37-'Existing-REL'!F37) -> 0 | G18: =ABS('Ideal-REL'!G37-'Existing-REL'!G37) -> 1 | H18: =ABS('Ideal-REL'!H37-'Existing-REL'!H37) -> 1 | I18: =ABS('Ideal-REL'!I37-'Existing-REL'!I37) -> 0 | ... Q18: =ABS('Ideal-REL'!Q37-'Existing-REL'!Q37) -> 0 | R18: =SUM(B18:Q18) -> 4
Q19: TD | R19: =SUM(R3:R18) -> 296

Sheet AD(Ideal-Required)
B1: Design Office | C1: Supporting Activities | D1: Warehouse | E1: Medical Centre | F1: Canteen | G1: General Purpose Shop | H1: Outfitting Shop | I1: Steel Shop | J1: Steel Stockyard | K1: Paint Shop | L1: Sub-Assembly Area | M1: Pipe Shop | N1: Panel Fabrication Area | O1: Block Erection Area | P1: Dock | Q1: Quay | R1: ADi(Ideal-Existing)
B2: 1 | C2: 2 | D2: 3 | E2: 4 | F2: 5 | G2: 6 | H2: 7 | I2: 8 | J2: 9 | K2: 10 | L2: 11 | M2: 12 | N2: 13 | O2: 14 | P2: 15 | Q2: 16
A3: Design Office | B3: =ABS('Ideal-REL'!B22-'Required-REL'!B22) -> 0 | C3: =ABS('Ideal-REL'!C22-'Required-REL'!C22) -> 0 | D3: =ABS('Ideal-REL'!D22-'Required-REL'!D22) -> 2 | E3: =ABS('Ideal-REL'!E22-'Required-REL'!E22) -> 0 | F3: =ABS('Ideal-REL'!F22-'Required-REL'!F22) -> 0 | G3: =ABS('Ideal-REL'!G22-'Required-REL'!G22) -> 0 | H3: =ABS('Ideal-REL'!H22-'Required-REL'!H22) -> 0 | I3: =ABS('Ideal-REL'!I22-'Required-REL'!I22) -> 1 | ... Q3: =ABS('Ideal-REL'!Q22-'Required-REL'!Q22) -> 0 | R3: =SUM(B3:Q3) -> 9
A4: Supporting Activities | B4: =ABS('Ideal-REL'!B23-'Required-REL'!B23) -> 0 | C4: =ABS('Ideal-REL'!C23-'Required-REL'!C23) -> 0 | D4: =ABS('Ideal-REL'!D23-'Required-REL'!D23) -> 2 | E4: =ABS('Ideal-REL'!E23-'Required-REL'!E23) -> 0 | F4: =ABS('Ideal-REL'!F23-'Required-REL'!F23) -> 0 | G4: =ABS('Ideal-REL'!G23-'Required-REL'!G23) -> 0 | H4: =ABS('Ideal-REL'!H23-'Required-REL'!H23) -> 0 | I4: =ABS('Ideal-REL'!I23-'Required-REL'!I23) -> 2 | ... Q4: =ABS('Ideal-REL'!Q23-'Required-REL'!Q23) -> 0 | R4: =SUM(B4:Q4) -> 12
A5: Warehouse | B5: =ABS('Ideal-REL'!B24-'Required-REL'!B24) -> 2 | C5: =ABS('Ideal-REL'!C24-'Required-REL'!C24) -> 2 | D5: =ABS('Ideal-REL'!D24-'Required-REL'!D24) -> 0 | E5: =ABS('Ideal-REL'!E24-'Required-REL'!E24) -> 1 | F5: =ABS('Ideal-REL'!F24-'Required-REL'!F24) -> 2 | G5: =ABS('Ideal-REL'!G24-'Required-REL'!G24) -> 2 | H5: =ABS('Ideal-REL'!H24-'Required-REL'!H24) -> 2 | I5: =ABS('Ideal-REL'!I24-'Required-REL'!I24) -> 1 | ... Q5: =ABS('Ideal-REL'!Q24-'Required-REL'!Q24) -> 0 | R5: =SUM(B5:Q5) -> 22
A6: Medical Centre | B6: =ABS('Ideal-REL'!B25-'Required-REL'!B25) -> 0 | C6: =ABS('Ideal-REL'!C25-'Required-REL'!C25) -> 0 | D6: =ABS('Ideal-REL'!D25-'Required-REL'!D25) -> 1 | E6: =ABS('Ideal-REL'!E25-'Required-REL'!E25) -> 0 | F6: =ABS('Ideal-REL'!F25-'Required-REL'!F25) -> 3 | G6: =ABS('Ideal-REL'!G25-'Required-REL'!G25) -> 1 | H6: =ABS('Ideal-REL'!H25-'Required-REL'!H25) -> 1 | I6: =ABS('Ideal-REL'!I25-'Required-REL'!I25) -> 2 | ... Q6: =ABS('Ideal-REL'!Q25-'Required-REL'!Q25) -> 0 | R6: =SUM(B6:Q6) -> 18
A7: Canteen | B7: =ABS('Ideal-REL'!B26-'Required-REL'!B26) -> 0 | C7: =ABS('Ideal-REL'!C26-'Required-REL'!C26) -> 0 | D7: =ABS('Ideal-REL'!D26-'Required-REL'!D26) -> 2 | E7: =ABS('Ideal-REL'!E26-'Required-REL'!E26) -> 3 | F7: =ABS('Ideal-REL'!F26-'Required-REL'!F26) -> 0 | G7: =ABS('Ideal-REL'!G26-'Required-REL'!G26) -> 1 | H7: =ABS('Ideal-REL'!H26-'Required-REL'!H26) -> 1 | I7: =ABS('Ideal-REL'!I26-'Required-REL'!I26) -> 2 | ... Q7: =ABS('Ideal-REL'!Q26-'Required-REL'!Q26) -> 0 | R7: =SUM(B7:Q7) -> 19
A8: General Purpose Shop | B8: =ABS('Ideal-REL'!B27-'Required-REL'!B27) -> 0 | C8: =ABS('Ideal-REL'!C27-'Required-REL'!C27) -> 0 | D8: =ABS('Ideal-REL'!D27-'Required-REL'!D27) -> 2 | E8: =ABS('Ideal-REL'!E27-'Required-REL'!E27) -> 1 | F8: =ABS('Ideal-REL'!F27-'Required-REL'!F27) -> 1 | G8: =ABS('Ideal-REL'!G27-'Required-REL'!G27) -> 0 | H8: =ABS('Ideal-REL'!H27-'Required-REL'!H27) -> 1 | I8: =ABS('Ideal-REL'!I27-'Required-REL'!I27) -> 0 | ... Q8: =ABS('Ideal-REL'!Q27-'Required-REL'!Q27) -> 3 | R8: =SUM(B8:Q8) -> 20
A9: Outfitting Shop | B9: =ABS('Ideal-REL'!B28-'Required-REL'!B28) -> 0 | C9: =ABS('Ideal-REL'!C28-'Required-REL'!C28) -> 0 | D9: =ABS('Ideal-REL'!D28-'Required-REL'!D28) -> 2 | E9: =ABS('Ideal-REL'!E28-'Required-REL'!E28) -> 1 | F9: =ABS('Ideal-REL'!F28-'Required-REL'!F28) -> 1 | G9: =ABS('Ideal-REL'!G28-'Required-REL'!G28) -> 1 | H9: =ABS('Ideal-REL'!H28-'Required-REL'!H28) -> 0 | I9: =ABS('Ideal-REL'!I28-'Required-REL'!I28) -> 3 | ... Q9: =ABS('Ideal-REL'!Q28-'Required-REL'!Q28) -> 3 | R9: =SUM(B9:Q9) -> 25
A10: Steel Shop | B10: =ABS('Ideal-REL'!B29-'Required-REL'!B29) -> 1 | C10: =ABS('Ideal-REL'!C29-'Required-REL'!C29) -> 2 | D10: =ABS('Ideal-REL'!D29-'Required-REL'!D29) -> 1 | E10: =ABS('Ideal-REL'!E29-'Required-REL'!E29) -> 2 | F10: =ABS('Ideal-REL'!F29-'Required-REL'!F29) -> 2 | G10: =ABS('Ideal-REL'!G29-'Required-REL'!G29) -> 0 | H10: =ABS('Ideal-REL'!H29-'Required-REL'!H29) -> 3 | I10: =ABS('Ideal-REL'!I29-'Required-REL'!I29) -> 0 | ... Q10: =ABS('Ideal-REL'!Q29-'Required-REL'!Q29) -> 0 | R10: =SUM(B10:Q10) -> 12
A11: Steel Stockyard | B11: =ABS('Ideal-REL'!B30-'Required-REL'!B30) -> 0 | C11: =ABS('Ideal-REL'!C30-'Required-REL'!C30) -> 2 | D11: =ABS('Ideal-REL'!D30-'Required-REL'!D30) -> 1 | E11: =ABS('Ideal-REL'!E30-'Required-REL'!E30) -> 2 | F11: =ABS('Ideal-REL'!F30-'Required-REL'!F30) -> 2 | G11: =ABS('Ideal-REL'!G30-'Required-REL'!G30) -> 0 | H11: =ABS('Ideal-REL'!H30-'Required-REL'!H30) -> 2 | I11: =ABS('Ideal-REL'!I30-'Required-REL'!I30) -> 0 | ... Q11: =ABS('Ideal-REL'!Q30-'Required-REL'!Q30) -> 0 | R11: =SUM(B11:Q11) -> 14
A12: Paint Shop | B12: =ABS('Ideal-REL'!B31-'Required-REL'!B31) -> 1 | C12: =ABS('Ideal-REL'!C31-'Required-REL'!C31) -> 1 | D12: =ABS('Ideal-REL'!D31-'Required-REL'!D31) -> 3 | E12: =ABS('Ideal-REL'!E31-'Required-REL'!E31) -> 2 | F12: =ABS('Ideal-REL'!F31-'Required-REL'!F31) -> 2 | G12: =ABS('Ideal-REL'!G31-'Required-REL'!G31) -> 1 | H12: =ABS('Ideal-REL'!H31-'Required-REL'!H31) -> 2 | I12: =ABS('Ideal-REL'!I31-'Required-REL'!I31) -> 0 | ... Q12: =ABS('Ideal-REL'!Q31-'Required-REL'!Q31) -> 0 | R12: =SUM(B12:Q12) -> 17
A13: Sub-Assembly Area | B13: =ABS('Ideal-REL'!B32-'Required-REL'!B32) -> 1 | C13: =ABS('Ideal-REL'!C32-'Required-REL'!C32) -> 1 | D13: =ABS('Ideal-REL'!D32-'Required-REL'!D32) -> 0 | E13: =ABS('Ideal-REL'!E32-'Required-REL'!E32) -> 1 | F13: =ABS('Ideal-REL'!F32-'Required-REL'!F32) -> 1 | G13: =ABS('Ideal-REL'!G32-'Required-REL'!G32) -> 3 | H13: =ABS('Ideal-REL'!H32-'Required-REL'!H32) -> 2 | I13: =ABS('Ideal-REL'!I32-'Required-REL'!I32) -> 0 | ... Q13: =ABS('Ideal-REL'!Q32-'Required-REL'!Q32) -> 0 | R13: =SUM(B13:Q13) -> 11
A14: Pipe Shop | B14: =ABS('Ideal-REL'!B33-'Required-REL'!B33) -> 1 | C14: =ABS('Ideal-REL'!C33-'Required-REL'!C33) -> 1 | D14: =ABS('Ideal-REL'!D33-'Required-REL'!D33) -> 1 | E14: =ABS('Ideal-REL'!E33-'Required-REL'!E33) -> 1 | F14: =ABS('Ideal-REL'!F33-'Required-REL'!F33) -> 1 | G14: =ABS('Ideal-REL'!G33-'Required-REL'!G33) -> 1 | H14: =ABS('Ideal-REL'!H33-'Required-REL'!H33) -> 1 | I14: =ABS('Ideal-REL'!I33-'Required-REL'!I33) -> 1 | ... Q14: =ABS('Ideal-REL'!Q33-'Required-REL'!Q33) -> 1 | R14: =SUM(B14:Q14) -> 14
... A18: Quay | B18: =ABS('Ideal-REL'!B37-'Required-REL'!B37) -> 0 | C18: =ABS('Ideal-REL'!C37-'Required-REL'!C37) -> 0 | D18: =ABS('Ideal-REL'!D37-'Required-REL'!D37) -> 0 | E18: =ABS('Ideal-REL'!E37-'Required-REL'!E37) -> 0 | F18: =ABS('Ideal-REL'!F37-'Required-REL'!F37) -> 0 | G18: =ABS('Ideal-REL'!G37-'Required-REL'!G37) -> 3 | H18: =ABS('Ideal-REL'!H37-'Required-REL'!H37) -> 3 | I18: =ABS('Ideal-REL'!I37-'Required-REL'!I37) -> 0 | ... Q18: =ABS('Ideal-REL'!Q37-'Required-REL'!Q37) -> 0 | R18: =SUM(B18:Q18) -> 8
Q19: TD | R19: =SUM(R3:R18) -> 238

Sheet Consolidated results AD and TD
A1: Shop/ Area Name | B1: ADi (Ideal-Existing) | C1: ADi (Ideal-Required)
A2: Warehouse | B2: 37 | C2: 22
A3: Outfitting Shop | B3: 27 | C3: 25
A4: Paint Shop | B4: 26 | C4: 17
A5: Supporting Activities | B5: 22 | C5: 12
A6: Medical Centre | B6: 22 | C6: 18
A7: General Purpose Shop | B7: 22 | C7: 20
A8: Sub-Assembly Area | B8: 21 | C8: 11
A9: Design Office | B9: 19 | C9: 9
A10: Pipe Shop | B10: 19 | C10: 14
A11: Panel Fabrication Area | B11: 19 | C11: 12
A12: Steel Shop | B12: 18 | C12: 12
A13: Canteen | B13: 13 | C13: 19
... A18: TD | B18: 296 | C18: 238

Sheet Graphs
B2: Ideal | C2: Ideal Design Office | D2: Ideal Supporting Activities | E2: Ideal Warehouse | F2: Ideal Medical Center | G2: Ideal Canteen | H2: Ideal General Purpose Shop | I2: Ideal Outfitting Shop | J2: Ideal Steel Shop | K2: Ideal Steel Stock yard | L2: Ideal Paint Shop | M2: Ideal Sub Assembly | N2: Ideal Pipe Shop | O2: Ideal Panel Fabrication area | P2: Ideal Block Erection Area | Q2: Ideal Dock | R2: Ideal Quay
B3: Design Office | C3: 5 | D3: 5 | E3: 0 | F3: 1 | G3: 1 | H3: 1 | I3: 1 | J3: 4 | K3: 3 | L3: 1 | M3: 0 | N3: 2 | O3: 0 | P3: 0 | Q3: 0 | R3: 0
B4: Supporting Activities | C4: 5 | D4: 5 | E4: 0 | F4: 1 | G4: 1 | H4: 1 | I4: 1 | J4: 4 | K4: 3 | L4: 1 | M4: 0 | N4: 2 | O4: 0 | P4: 0 | Q4: 0 | R4: 0
B5: Warehouse | C5: 0 | D5: 0 | E5: 5 | F5: 1 | G5: 0 | H5: 5 | I5: 5 | J5: 4 | K5: 3 | L5: 4 | M5: 2 | N5: 1 | O5: 3 | P5: 2 | Q5: 2 | R5: 0
B6: Medical Center | C6: 1 | D6: 1 | E6: 1 | F6: 5 | G6: 5 | H6: 0 | I6: 0 | J6: 4 | K6: 4 | L6: 2 | M6: 2 | N6: 1 | O6: 0 | P6: 0 | Q6: 0 | R6: 0
B7: Canteen | C7: 1 | D7: 1 | E7: 0 | F7: 5 | G7: 5 | H7: 0 | I7: 0 | J7: 4 | K7: 4 | L7: 2 | M7: 2 | N7: 1 | O7: 0 | P7: 0 | Q7: 0 | R7: 0
B8: General Purpose Shop | C8: 1 | D8: 1 | E8: 5 | F8: 0 | G8: 0 | H8: 5 | I8: 5 | J8: 2 | K8: 2 | L8: 3 | M8: 4 | N8: 1 | O8: 4 | P8: 2 | Q8: 2 | R8: 0
B9: Outfitting Shop | C9: 1 | D9: 1 | E9: 5 | F9: 0 | G9: 0 | H9: 5 | I9: 5 | J9: 2 | K9: 2 | L9: 4 | M9: 5 | N9: 1 | O9: 5 | P9: 2 | Q9: 2 | R9: 0
B10: Steel Shop | C10: 4 | D10: 4 | E10: 4 | F10: 4 | G10: 4 | H10: 2 | I10: 2 | J10: 5 | K10: 5 | L10: 5 | M10: 4 | N10: 2 | O10: 3 | P10: 2 | Q10: 1 | R10: 1
B11: Steel Stock yard | C11: 3 | D11: 3 | E11: 3 | F11: 4 | G11: 4 | H11: 2 | I11: 2 | J11: 5 | K11: 5 | L11: 3 | M11: 2 | N11: 2 | O11: 3 | P11: 2 | Q11: 1 | R11: 1
B12: Paint Shop | C12: 1 | D12: 1 | E12: 4 | F12: 2 | G12: 2 | H12: 3 | I12: 4 | J12: 5 | K12: 3 | L12: 5 | M12: 5 | N12: 4 | O12: 3 | P12: 2 | Q12: 1 | R12: 1
B13: Sub Assembly | C13: 0 | D13: 0 | E13: 2 | F13: 2 | G13: 2 | H13: 4 | I13: 5 | J13: 4 | K13: 2 | L13: 5 | M13: 5 | N13: 4 | O13: 5 | P13: 4 | Q13: 3 | R13: 2
B14: Pipe Shop | C14: 2 | D14: 2 | E14: 1 | F14: 1 | G14: 1 | H14: 1 | I14: 1 | J14: 2 | K14: 2 | L14: 4 | M14: 4 | N14: 5 | O14: 5 | P14: 4 | Q14: 4 | R14: 2
... B18: Quay | C18: 0 | D18: 0 | E18: 0 | F18: 0 | G18: 0 | H18: 0 | I18: 0 | J18: 1 | K18: 1 | L18: 1 | M18: 2 | N18: 2 | O18: 2 | P18: 4 | Q18: 5 | R18: 5
B20: Existing | C20: Existing Design Office | D20: Existing Supporting Activities | E20: Existing Warehouse | F20: Existing Medical Center | G20: Existing Canteen | H20: Existing General Purpose Shop | I20: Existing Outfitting Shop | J20: Existing Steel Shop | K20: Existing Steel Stock yard | L20: Existing Paint Shop | M20: Existing Sub Assembly | N20: Existing Pipe Shop | O20: Existing Panel Fabrication area | P20: Existing Block Erection Area | Q20: Existing Dock | R20: Existing Quay
B21: Design Office | C21: 5 | D21: 5 | E21: 5 | F21: 3 | G21: 1 | H21: 4 | I21: 4 | J21: 2 | K21: 2 | L21: 0 | M21: 0 | N21: 0 | O21: 0 | P21: 0 | Q21: 0 | R21: 0
B22: Supporting Activities | C22: 5 | D22: 5 | E22: 5 | F22: 5 | G22: 2 | H22: 4 | I22: 4 | J22: 2 | K22: 2 | L22: 0 | M22: 0 | N22: 0 | O22: 0 | P22: 0 | Q22: 0 | R22: 0
B23: Warehouse | C23: 5 | D23: 5 | E23: 5 | F23: 4 | G23: 2 | H23: 3 | I23: 3 | J23: 2 | K23: 1 | L23: 0 | M23: 0 | N23: 0 | O23: 0 | P23: 0 | Q23: 0 | R23: 0
B24: Medical Center | C24: 3 | D24: 5 | E24: 4 | F24: 5 | G24: 3 | H24: 2 | I24: 2 | J24: 3 | K24: 3 | L24: 0 | M24: 0 | N24: 0 | O24: 0 | P24: 0 | Q24: 0 | R24: 0
B25: Canteen | C25: 1 | D25: 2 | E25: 2 | F25: 3 | G25: 5 | H25: 1 | I25: 1 | J25: 3 | K25: 4 | L25: 0 | M25: 0 | N25: 0 | O25: 0 | P25: 0 | Q25: 0 | R25: 0
B26: General Purpose Shop | C26: 4 | D26: 4 | E26: 3 | F26: 2 | G26: 1 | H26: 5 | I26: 5 | J26: 3 | K26: 2 | L26: 2 | M26: 1 | N26: 1 | O26: 1 | P26: 1 | Q26: 1 | R26: 1
B27: Outfitting Shop | C27: 4 | D27: 4 | E27: 3 | F27: 2 | G27: 1 | H27: 5 | I27: 5 | J27: 4 | K27: 3 | L27: 2 | M27: 1 | N27: 1 | O27: 1 | P27: 1 | Q27: 1 | R27: 1
B28: Steel Shop | C28: 2 | D28: 2 | E28: 2 | F28: 3 | G28: 3 | H28: 3 | I28: 4 | J28: 5 | K28: 5 | L28: 1 | M28: 4 | N28: 1 | O28: 2 | P28: 1 | Q28: 1 | R28: 1
B29: Steel Stock yard | C29: 2 | D29: 2 | E29: 1 | F29: 3 | G29: 4 | H29: 2 | I29: 3 | J29: 5 | K29: 5 | L29: 1 | M29: 4 | N29: 1 | O29: 2 | P29: 1 | Q29: 1 | R29: 1
B30: Paint Shop | C30: 0 | D30: 0 | E30: 0 | F30: 0 | G30: 0 | H30: 2 | I30: 2 | J30: 1 | K30: 1 | L30: 5 | M30: 3 | N30: 5 | O30: 1 | P30: 2 | Q30: 2 | R30: 2
B31: Sub Assembly | C31: 0 | D31: 0 | E31: 0 | F31: 0 | G31: 0 | H31: 1 | I31: 1 | J31: 4 | K31: 4 | L31: 3 | M31: 5 | N31: 1 | O31: 5 | P31: 4 | Q31: 2 | R31: 2
B32: Pipe Shop | C32: 0 | D32: 0 | E32: 0 | F32: 0 | G32: 0 | H32: 1 | I32: 1 | J32: 1 | K32: 1 | L32: 5 | M32: 1 | N32: 5 | O32: 1 | P32: 5 | Q32: 3 | R32: 2
... B36: Quay | C36: 0 | D36: 0 | E36: 0 | F36: 0 | G36: 0 | H36: 1 | I36: 1 | J36: 1 | K36: 1 | L36: 2 | M36: 2 | N36: 2 | O36: 3 | P36: 4 | Q36: 5 | R36: 5
B38: Required | C38: Required Design Office | D38: Required Supporting Activities | E38: Required Warehouse | F38: Required Medical Center | G38: Required Canteen | H38: Required General Purpose Shop | I38: Required Outfitting Shop | J38: Required Steel Shop | K38: Required Steel Stock yard | L38: Required Paint Shop | M38: Required Sub Assembly | N38: Required Pipe Shop | O38: Required Panel Fabrication area | P38: Required Block Erection Area | Q38: Required Dock | R38: Required Quay
B39: Design Office | C39: 5 | D39: 5 | E39: 2 | F39: 1 | G39: 1 | H39: 1 | I39: 1 | J39: 3 | K39: 3 | L39: 0 | M39: 1 | N39: 1 | O39: 1 | P39: 1 | Q39: 1 | R39: 0
B40: Supporting Activities | C40: 5 | D40: 5 | E40: 2 | F40: 1 | G40: 1 | H40: 1 | I40: 1 | J40: 2 | K40: 1 | L40: 0 | M40: 1 | N40: 1 | O40: 1 | P40: 1 | Q40: 1 | R40: 0
B41: Warehouse | C41: 2 | D41: 2 | E41: 5 | F41: 2 | G41: 2 | H41: 3 | I41: 3 | J41: 3 | K41: 2 | L41: 1 | M41: 2 | N41: 2 | O41: 2 | P41: 0 | Q41: 0 | R41: 0
B42: Medical Centre | C42: 1 | D42: 1 | E42: 2 | F42: 5 | G42: 2 | H42: 1 | I42: 1 | J42: 2 | K42: 2 | L42: 0 | M42: 1 | N42: 2 | O42: 2 | P42: 2 | Q42: 0 | R42: 0
B43: Canteen | C43: 1 | D43: 1 | E43: 2 | F43: 2 | G43: 5 | H43: 1 | I43: 1 | J43: 2 | K43: 2 | L43: 0 | M43: 1 | N43: 2 | O43: 2 | P43: 2 | Q43: 0 | R43: 0
B44: General Purpose Shop | C44: 1 | D44: 1 | E44: 3 | F44: 1 | G44: 1 | H44: 5 | I44: 4 | J44: 2 | K44: 2 | L44: 2 | M44: 1 | N44: 2 | O44: 3 | P44: 5 | Q44: 5 | R44: 3
B45: Outfitting Shop | C45: 1 | D45: 1 | E45: 3 | F45: 1 | G45: 1 | H45: 4 | I45: 5 | J45: 5 | K45: 4 | L45: 2 | M45: 3 | N45: 2 | O45: 3 | P45: 5 | Q45: 4 | R45: 3
B46: Steel Shop | C46: 3 | D46: 2 | E46: 3 | F46: 2 | G46: 2 | H46: 2 | I46: 5 | J46: 5 | K46: 5 | L46: 5 | M46: 4 | N46: 1 | O46: 3 | P46: 2 | Q46: 1 | R46: 1
B47: Steel Stockyard | C47: 3 | D47: 1 | E47: 2 | F47: 2 | G47: 2 | H47: 2 | I47: 4 | J47: 5 | K47: 5 | L47: 5 | M47: 1 | N47: 1 | O47: 2 | P47: 2 | Q47: 1 | R47: 1
B48: Paint Shop | C48: 0 | D48: 0 | E48: 1 | F48: 0 | G48: 0 | H48: 2 | I48: 2 | J48: 5 | K48: 5 | L48: 5 | M48: 5 | N48: 2 | O48: 3 | P48: 2 | Q48: 2 | R48: 1
B49: Sub-Assembly Area | C49: 1 | D49: 1 | E49: 2 | F49: 1 | G49: 1 | H49: 1 | I49: 3 | J49: 4 | K49: 1 | L49: 5 | M49: 5 | N49: 5 | O49: 5 | P49: 4 | Q49: 3 | R49: 2
B50: Pipe Shop | C50: 1 | D50: 1 | E50: 2 | F50: 2 | G50: 2 | H50: 2 | I50: 2 | J50: 1 | K50: 1 | L50: 2 | M50: 5 | N50: 5 | O50: 5 | P50: 5 | Q50: 4 | R50: 3
... B54: Quay | C54: 0 | D54: 0 | E54: 0 | F54: 0 | G54: 0 | H54: 3 | I54: 3 | J54: 1 | K54: 1 | L54: 1 | M54: 2 | N54: 3 | O54: 3 | P54: 4 | Q54: 5 | R54: 5
