Workbook

Sheet Individual EOQ
C3: Single Truck | D3: 400
C4: Common Ordering Cost | D4: 350
C5: Product specific cost | D5: 50
C6: Product cost/pound | D6: 1
C7: Holding Cost | D7: 0.25
I9: Large | J9: Medium | K9: Small
C10: Customer | D10: Number | E10: Monthly Consumption | I10: 2 | J10: 6 | K10: 12
C11: Large Customer | D11: 2 | E11: 12000 | H11: Demand | I11: =E11*12 -> 144000 | J11: =E12*12 -> 60000 | K11: =E13*12 -> 12000
C12: Medium Sized | D12: 6 | E12: 5000 | H12: EOQ | I12: =SQRT(2*I11*$D$3/$D$6*$D$7) -> 5366.5631 | J12: =SQRT(2*J11*$D$3/$D$6*$D$7) -> 3464.1016 | K12: =SQRT(2*K11*$D$3/$D$6*$D$7) -> 1549.1933
C13: Small | D13: 12 | E13: 1000 | H13: Cycle Inventory | I13: =I12/2 -> 2683.2816 | J13: =J12/2 -> 1732.0508 | K13: =K12/2 -> 774.59667
H14: Holding Cost | I14: =I13*$D$7 -> 670.82039 | J14: =J13*$D$7 -> 433.0127 | K14: =K13*$D$7 -> 193.64917
H15: Order Frequency | I15: =I11/I12 -> 26.832816 | J15: =J11/J12 -> 17.320508 | K15: =K11/K12 -> 7.7459667
H16: Ordering Cost | I16: =I15*$D$3 -> 10733.126 | J16: =J15*$D$3 -> 6928.2032 | K16: =K15*$D$3 -> 3098.3867
H17: Product Cost | I17: =I11*$D$6 -> 144000 | J17: =J11*$D$6 -> 60000 | K17: =K11*$D$6 -> 12000
H18: Total Cost | I18: =(I16+I14)*I10 -> 22807.893 | J18: =(J16+J14)*J10 -> 44167.296 | K18: =(K16+K14)*K10 -> 39504.43
H19: Final Cost | I19: =SUM(I18:K18) -> 106479.62

Sheet Truck Capacity
E5: Large | F5: Medium | G5: Small
E6: 2 | F6: 6 | G6: 12
D7: Demand | E7: 144000 | F7: 60000 | G7: 12000
D8: EOQ | E8: 40000 | F8: 40000 | G8: 12000
D9: Cycle Inventory | E9: =E8/2 -> 20000 | F9: =F8/2 -> 20000 | G9: =G8/2 -> 6000
D10: Holding Cost | E10: =E9*'Individual EOQ'!$D$7 -> 5000 | F10: =F9*'Individual EOQ'!$D$7 -> 5000 | G10: =G9*'Individual EOQ'!$D$7 -> 1500
D11: Order Frequency | E11: =E7/E8 -> 3.6 | F11: =F7/F8 -> 1.5 | G11: =G7/G8 -> 1
D12: Ordering Cost | E12: =E11*'Individual EOQ'!$D$3 -> 1440 | F12: =F11*'Individual EOQ'!$D$3 -> 600 | G12: =G11*'Individual EOQ'!$D$3 -> 400
D13: Product Cost | E13: =E7*'Individual EOQ'!$D$6 -> 144000 | F13: =F7*'Individual EOQ'!$D$6 -> 60000 | G13: =G7*'Individual EOQ'!$D$6 -> 12000
D14: Total Cost | E14: =(E12+E10)*E6 -> 12880 | F14: =(F12+F10)*F6 -> 33600 | G14: =(G12+G10)*G6 -> 22800
D15: Final Cost | E15: =SUM(E14:G14) -> 69280

Sheet Complete Aggregation
B2: Single Truck | C2: 400
B3: Common Ordering Cost | C3: 350
B4: Product specific cost | C4: 50
B5: Product cost/pound | C5: 1
B6: Holding Cost | C6: 0.25
B7: Truck Capacity | C7: 40000
D10: Large | E10: Medium | F10: Small | G10: Yearly SUM
D11: 2 | E11: 6 | F11: 12
C12: Order Frequency | D12: =SQRT(((D14+E14+F14)*C6)/(2*($C$3+20*C4))) -> 8.5634884
C13: Revised Frequency | D13: =G14/C7 -> 19.8
C14: Demand | D14: 288000 | E14: 360000 | F14: 144000 | G14: =SUM(D14:F14) -> 792000 | I14: CI | J14: =D15/2 -> 16815.577 | K14: =E15/2 -> 21019.471 | L14: =F15/2 -> 8407.7886
C15: Original EOQ | D15: =D14/$D$12 -> 33631.154 | E15: =E14/$D$12 -> 42038.943 | F15: =F14/$D$12 -> 16815.577 | G15: =SUM(D15:F15) -> 92485.675 | I15: holding | J15: =J14*0.25 -> 4203.8943 | K15: =K14*0.25 -> 5254.8679 | L15: =L14*0.25 -> 2101.9471
C16: Revised EOQ | D16: =D14/$D$13 -> 14545.455 | E16: =E14/$D$13 -> 18181.818 | F16: =F14/$D$13 -> 7272.7273 | G16: =SUM(D16:F16) -> 40000 | I16: Ordering | J16: =D12*(C3+20*C4)*3 -> 34682.128
C17: Cycle Inventory | D17: =D16/2 -> 7272.7273 | E17: =E16/2 -> 9090.9091 | F17: =F16/2 -> 3636.3636 | I17: Total | J17: =SUM(J15:L15,J16) -> 46242.837
C18: Holding Cost | D18: =D17*$C$6 -> 1818.1818 | E18: =E17*$C$6 -> 2272.7273 | F18: =F17*$C$6 -> 909.09091 | G18: =SUM(D18:F18) -> 5000
C19: Ordering Cost | D19: =(C3+20*C4)*D13 -> 26730
C20: Total Cost | D20: =SUM(D19,G18) -> 31730

Sheet Combine Customer wise
B2: Single Truck | C2: 400
B3: Common Ordering Cost | C3: 350
B4: Product specific cost | C4: 50
B5: Product cost/pound | C5: 1
B6: Holding Cost | C6: 0.25
B7: Truck Capacity | C7: 40000
D10: Large | E10: Medium | F10: Small
D11: 2 | E11: 6 | F11: 12
C12: Demand | D12: 288000 | E12: 360000 | F12: 144000
C13: Original EOQ | D13: =SQRT(2*D12*450/$C$6) -> 32199.379 | E13: =SQRT(2*E12*650/$C$6) -> 43266.615 | F13: =SQRT(2*F12*950/$C$6) -> 33081.717
C14: Revised EOQ | D14: =D13 -> 32199.379 | E14: 40000 | F14: =F13 -> 33081.717
C15: Cycle Inventory | D15: =D14/2 -> 16099.689 | E15: =E14/2 -> 20000 | F15: =F14/2 -> 16540.859
C16: Holding Cost | D16: =D15*$C$6 -> 4024.9224 | E16: =E15*$C$6 -> 5000 | F16: =F15*$C$6 -> 4135.2146
C17: Ordering Frequency | D17: =D12/D14 -> 8.9442719 | E17: =E12/E14 -> 9 | F17: =F12/F14 -> 4.3528575
C18: Ordering Cost | D18: =(D17)*450 -> 4024.9224 | E18: =(E17)*650 -> 5850 | F18: =(F17)*950 -> 4135.2146
C19: Total Cost | D19: =D18+D16 -> 8049.8447 | E19: =E18+E16 -> 10850 | F19: =F18+F16 -> 8270.4293
C20: Final Cost | D20: =SUM(D19:F19) -> 27170.274

Sheet Half Aggregation
B2: Single Truck | C2: 400
B3: Common Ordering Cost | C3: 350
B4: Product specific cost | C4: 50
B5: Product cost/pound | C5: 1
B6: Holding Cost | C6: 0.25
B7: Truck Capacity | C7: 40000
D10: Large | E10: Medium | F10: Small | G10: Yearly SUM
D11: 1 | E11: 3 | F11: 6
C12: Individual Demand | D12: 144000 | E12: 60000 | F12: 12000
C13: Order Frequency | D13: =SQRT(((D15+E15+F15)*C6)/(2*($C$3+10*C4))) -> 7.6312053
C14: Revised Frequency | D14: =G15/C7 -> 9.9
C15: Demand | D15: =D12*D11 -> 144000 | E15: =E12*E11 -> 180000 | F15: =F12*F11 -> 72000 | G15: =SUM(D15:F15) -> 396000
C16: Original EOQ | D16: =D15/$D$13 -> 18869.889 | E16: =E15/$D$13 -> 23587.362 | F16: =F15/$D$13 -> 9434.9447 | G16: =SUM(D16:F16) -> 51892.196
C17: Revised EOQ | D17: =D15/$D$14 -> 14545.455 | E17: =E15/$D$14 -> 18181.818 | F17: =F15/$D$14 -> 7272.7273 | G17: =SUM(D17:F17) -> 40000
C18: Cycle Inventory | D18: =D17/2 -> 7272.7273 | E18: =E17/2 -> 9090.9091 | F18: =F17/2 -> 3636.3636
C19: Holding Cost | D19: =D18*$C$6 -> 1818.1818 | E19: =E18*$C$6 -> 2272.7273 | F19: =F18*$C$6 -> 909.09091 | G19: =SUM(D19:F19)*2 -> 10000
C20: Ordering Cost | D20: =(C3+10*C4)*D14*2 -> 16830
C21: Total Cost | D21: =SUM(D20,G19) -> 26830
