Workbook

Sheet Sheet1
A1: Factor Analysis - Principal Component Extraction
B5: {=Data_v2!D1:Q1} -> Parking | C5: Music | D5: Display | E5: Basic Amenities | F5: Billing | G5: Loyalty | H5: Location of store | I5: Store Layout | J5: Clean | K5: Lighting | L5: Salesperson Behav | M5: Fragrance | N5: Trial room | O5: Brand Avail
A6: Mean | B6: =AVERAGE(Data_v2!D2:D411) -> 3.1170732 | C6: =AVERAGE(Data_v2!E2:E411) -> 1.6634146 | D6: =AVERAGE(Data_v2!F2:F411) -> 2.2780488 | E6: =AVERAGE(Data_v2!G2:G411) -> 2.2341463 | F6: =AVERAGE(Data_v2!H2:H411) -> 2.1926829 | G6: =AVERAGE(Data_v2!I2:I411) -> 2.0920732 | H6: =AVERAGE(Data_v2!J2:J411) -> 2.7219512 | I6: =AVERAGE(Data_v2!K2:K411) -> 5.1829268 | ... O6: =AVERAGE(Data_v2!Q2:Q411) -> 2.4317073
A7: Std dev | B7: =_xlfn.STDEV.S(Data_v2!D2:D411) -> 0.90958021 | C7: =_xlfn.STDEV.S(Data_v2!E2:E411) -> 1.1717448 | D7: =_xlfn.STDEV.S(Data_v2!F2:F411) -> 1.6609292 | E7: =_xlfn.STDEV.S(Data_v2!G2:G411) -> 1.5741819 | F7: =_xlfn.STDEV.S(Data_v2!H2:H411) -> 1.5318765 | G7: =_xlfn.STDEV.S(Data_v2!I2:I411) -> 1.1928493 | H7: =_xlfn.STDEV.S(Data_v2!J2:J411) -> 1.6176762 | I7: =_xlfn.STDEV.S(Data_v2!K2:K411) -> 1.604761 | ... O7: =_xlfn.STDEV.S(Data_v2!Q2:Q411) -> 1.4664861
A8: Skewness | B8: =SKEW(Data_v2!D2:D411) -> -0.52730261 | C8: =SKEW(Data_v2!E2:E411) -> 1.9527994 | D8: =SKEW(Data_v2!F2:F411) -> 1.141096 | E8: =SKEW(Data_v2!G2:G411) -> 1.2035128 | F8: =SKEW(Data_v2!H2:H411) -> 1.1327185 | G8: =SKEW(Data_v2!I2:I411) -> 1.1310282 | H8: =SKEW(Data_v2!J2:J411) -> 0.74267807 | I8: =SKEW(Data_v2!K2:K411) -> -0.82135222 | ... O8: =SKEW(Data_v2!Q2:Q411) -> 0.99277644
A9: Kurtosis | B9: =KURT(Data_v2!D2:D411) -> -0.68875203 | C9: =KURT(Data_v2!E2:E411) -> 3.1830681 | D9: =KURT(Data_v2!F2:F411) -> 0.14527624 | E9: =KURT(Data_v2!G2:G411) -> 0.40728719 | F9: =KURT(Data_v2!H2:H411) -> 0.17293749 | G9: =KURT(Data_v2!I2:I411) -> 0.56346574 | H9: =KURT(Data_v2!J2:J411) -> -0.26196009 | I9: =KURT(Data_v2!K2:K411) -> 0.01941197 | ... O9: =KURT(Data_v2!Q2:Q411) -> 0.27433274
A11: Correlation Matrix
B13: {=Data_v2!D1:Q1} -> Parking | C13: Music | D13: Display | E13: Basic Amenities | F13: Billing | G13: Loyalty | H13: Location of store | I13: Store Layout | J13: Clean | K13: Lighting | L13: Salesperson Behav | M13: Fragrance | N13: Trial room | O13: Brand Avail
A14: {=TRANSPOSE(Data_v2!D1:Q1)} -> Parking | B14: {=[1]!CORR(Data_v2!D2:Q411)} -> 1 | C14: -0.095991955 | D14: -0.039402002 | E14: -0.087494674 | F14: -0.067116535 | G14: -0.087703619 | H14: -0.055921186 | I14: 0.10924533 | J14: 0.098609441 | K14: -0.023438251 | L14: 0.045931424 | M14: -0.039387024 | N14: -0.10441974 | O14: -0.083807426
A15: Music | B15: -0.095991955 | C15: 1 | D15: 0.44393882 | E15: 0.43121025 | F15: 0.45439469 | G15: 0.68826293 | H15: 0.31683428 | I15: 0.075732756 | J15: 0.1205769 | K15: 0.13906502 | L15: 0.22753347 | M15: 0.45393651 | N15: 0.42335497 | O15: 0.50878418
A16: Display | B16: -0.039402002 | C16: 0.44393882 | D16: 1 | E16: 0.58100133 | F16: 0.55546324 | G16: 0.82714036 | H16: 0.28818986 | I16: 0.076270811 | J16: 0.20648378 | K16: 0.21280168 | L16: 0.27787654 | M16: 0.24457679 | N16: 0.25241733 | O16: 0.28837735
A17: Basic Amenities | B17: -0.087494674 | C17: 0.43121025 | D17: 0.58100133 | E17: 1 | F17: 0.62102036 | G17: 0.83744422 | H17: 0.27334206 | I17: 0.075917795 | J17: 0.12838396 | K17: 0.13247124 | L17: 0.21360605 | M17: 0.24307722 | N17: 0.23450204 | O17: 0.27701843
A18: Billing | B18: -0.067116535 | C18: 0.45439469 | D18: 0.55546324 | E18: 0.62102036 | F18: 1 | G18: 0.83088773 | H18: 0.34529239 | I18: 0.088069425 | J18: 0.22199632 | K18: 0.16692712 | L18: 0.28962872 | M18: 0.26415275 | N18: 0.23124496 | O18: 0.2872145
A19: Loyalty | B19: -0.087703619 | C19: 0.68826293 | D19: 0.82714036 | E19: 0.83744422 | F19: 0.83088773 | G19: 1 | H19: 0.37916512 | I19: 0.098470066 | J19: 0.21511749 | K19: 0.2055253 | L19: 0.31606563 | M19: 0.36161728 | N19: 0.34344216 | O19: 0.4089356
A20: Location of store | B20: -0.055921186 | C20: 0.31683428 | D20: 0.28818986 | E20: 0.27334206 | F20: 0.34529239 | G20: 0.37916512 | H20: 1 | I20: 0.14867207 | J20: 0.22160554 | K20: 0.16757784 | L20: 0.52779779 | M20: 0.21634291 | N20: 0.23420299 | O20: 0.26148854
A21: Store Layout | B21: 0.10924533 | C21: 0.075732756 | D21: 0.076270811 | E21: 0.075917795 | F21: 0.088069425 | G21: 0.098470066 | H21: 0.14867207 | I21: 1 | J21: 0.39527846 | K21: 0.35736757 | L21: 0.66133483 | M21: 0.027299111 | N21: 0.10023128 | O21: 0.074410553
A22: Clean | B22: 0.098609441 | C22: 0.1205769 | D22: 0.20648378 | E22: 0.12838396 | F22: 0.22199632 | G22: 0.21511749 | H22: 0.22160554 | I22: 0.39527846 | J22: 1 | K22: 0.66152226 | L22: 0.82643508 | M22: 0.072263254 | N22: 0.070151781 | O22: 0.082610008
A23: Lighting | B23: -0.023438251 | C23: 0.13906502 | D23: 0.21280168 | E23: 0.13247124 | F23: 0.16692712 | G23: 0.2055253 | H23: 0.16757784 | I23: 0.35736757 | J23: 0.66152226 | K23: 1 | L23: 0.79388594 | M23: 0.10309561 | N23: 0.12000382 | O23: 0.12952964
A24: Salesperson Behav | B24: 0.045931424 | C24: 0.22753347 | D24: 0.27787654 | E24: 0.21360605 | F24: 0.28962872 | G24: 0.31606563 | H24: 0.52779779 | I24: 0.66133483 | J24: 0.82643508 | K24: 0.79388594 | L24: 1 | M24: 0.1465234 | N24: 0.18204156 | O24: 0.1908237
A25: Fragrance | B25: -0.039387024 | C25: 0.45393651 | D25: 0.24457679 | E25: 0.24307722 | F25: 0.26415275 | G25: 0.36161728 | H25: 0.21634291 | I25: 0.027299111 | J25: 0.072263254 | K25: 0.10309561 | L25: 0.1465234 | M25: 1 | N25: 0.48549893 | O25: 0.85882572
A26: Trial room | B26: -0.10441974 | C26: 0.42335497 | D26: 0.25241733 | E26: 0.23450204 | F26: 0.23124496 | G26: 0.34344216 | H26: 0.23420299 | I26: 0.10023128 | J26: 0.070151781 | K26: 0.12000382 | L26: 0.18204156 | M26: 0.48549893 | N26: 1 | O26: 0.86480264
A27: Brand Avail | B27: -0.083807426 | C27: 0.50878418 | D27: 0.28837735 | E27: 0.27701843 | F27: 0.2872145 | G27: 0.4089356 | H27: 0.26148854 | I27: 0.074410553 | J27: 0.082610008 | K27: 0.12952964 | L27: 0.1908237 | M27: 0.85882572 | N27: 0.86480264 | O27: 1
B28: =SUMSQ(B14:B27)-1 -> 0.077541939 | C28: =SUMSQ(C14:C27)-1 -> 1.9083367 | D28: =SUMSQ(D14:D27)-1 -> 1.9895972 | E28: =SUMSQ(E14:E27)-1 -> 1.9690942 | F28: =SUMSQ(F14:F27)-1 -> 2.0893172 | G28: =SUMSQ(G14:G27)-1 -> 3.3150703 | H28: =SUMSQ(H14:H27)-1 -> 1.0721702 | I28: =SUMSQ(I14:I27)-1 -> 0.80645558 | ... O28: =SUMSQ(O14:O27)-1 -> 2.2949007 | P28: =SUM(B28:O28) -> 24.109793
A30: Inverse of Correlation Matrix
B32: {=Data_v2!D1:Q1} -> Parking | C32: Music | D32: Display | E32: Basic Amenities | F32: Billing | G32: Loyalty | H32: Location of store | I32: Store Layout | J32: Clean | K32: Lighting | L32: Salesperson Behav | M32: Fragrance | N32: Trial room | O32: Brand Avail | Q32: sqrt(diag)
A33: {=TRANSPOSE(Data_v2!D1:Q1)} -> Parking | B33: {=MINVERSE(B14:O27)} -> 1.0591478 | C33: 0.050140381 | D33: -0.066864014 | E33: 0.053894043 | F33: 0.02142334 | G33: 0.037719727 | H33: 0.012084961 | I33: -0.16137695 | J33: -0.23968506 | K33: 0.13623047 | L33: 0.11499023 | M33: -0.0546875 | N33: 0.09375 | O33: 0 | Q33: {=SQRT([1]!DIAG(B33:O46))} -> 1.0291491
A34: Music | B34: 0.049824922 | C34: 1.342788e+13 | D34: 1.9033802e+13 | E34: 1.8039702e+13 | F34: 1.7554893e+13 | G34: -5.4678927e+13 | H34: -4.5040121e+11 | I34: -4.468053e+11 | J34: -5.0951014e+11 | K34: -5.014014e+11 | L34: 1.3523412e+12 | M34: 1.1245997e+12 | N34: 1.1473464e+12 | O34: -1.9580633e+12 | Q34: 3664407.2
A35: Display | B35: -0.067033033 | C35: 1.9033802e+13 | D35: 2.6980104e+13 | E35: 2.5570983e+13 | F35: 2.4883774e+13 | G35: -7.7506488e+13 | H35: -6.3843638e+11 | I35: -6.3333923e+11 | J35: -7.2222233e+11 | K35: -7.1072832e+11 | L35: 1.9169217e+12 | M35: 1.5941017e+12 | N35: 1.6263448e+12 | O35: -2.7755228e+12 | Q35: 5194237.5
A36: Basic Amenities | B36: 0.054054463 | C36: 1.8039702e+13 | D36: 2.5570983e+13 | E36: 2.4235459e+13 | F36: 2.3584141e+13 | G36: -7.3458469e+13 | H36: -6.0509204e+11 | I36: -6.0026111e+11 | J36: -6.8450201e+11 | K36: -6.7360831e+11 | L36: 1.8168045e+12 | M36: 1.5108448e+12 | N36: 1.5414038e+12 | O36: -2.6305624e+12 | Q36: 4922952.2
A37: Billing | B37: 0.021450352 | C37: 1.7554893e+13 | D37: 2.4883774e+13 | E37: 2.3584141e+13 | F37: 2.2950328e+13 | G37: -7.1484305e+13 | H37: -5.8883046e+11 | I37: -5.8412935e+11 | J37: -6.6610632e+11 | K37: -6.5550539e+11 | L37: 1.7679786e+12 | M37: 1.4702415e+12 | N37: 1.4999793e+12 | O37: -2.5598672e+12 | Q37: 4790650.1
A38: Loyalty | B38: 0.038026772 | C38: -5.4678927e+13 | D38: -7.7506488e+13 | E38: -7.3458469e+13 | F38: -7.1484305e+13 | G38: 2.2265502e+14 | H38: 1.8340538e+12 | I38: 1.8194111e+12 | J38: 2.074748e+12 | K38: 2.0417289e+12 | L38: -5.5067938e+12 | M38: -4.57942e+12 | N38: -4.6720455e+12 | O38: 7.9733209e+12 | Q38: 14921629
A39: Location of store | B39: 0.016714907 | C39: -5.6177309e+11 | D39: -7.9630421e+11 | E39: -7.5471473e+11 | F39: -7.3443211e+11 | G39: 2.2875651e+12 | H39: -7.9794154e+13 | I39: -7.9157093e+13 | J39: -9.0266033e+13 | K39: -8.8829469e+13 | L39: 2.39584e+14 | M39: 3.0832831e+12 | N39: 3.145647e+12 | O39: -5.3683666e+12 | Q39: #NUM!
A40: Store Layout | B40: -0.15524529 | C40: -5.5728801e+11 | D40: -7.8994667e+11 | E40: -7.4868924e+11 | F40: -7.2856854e+11 | G40: 2.2693016e+12 | H40: -7.9157093e+13 | I40: -7.8525118e+13 | J40: -8.9545366e+13 | K40: -8.8120272e+13 | L40: 2.3767121e+14 | M40: 3.0586667e+12 | N40: 3.1205328e+12 | O40: -5.3255066e+12 | Q40: #NUM!
A41: Clean | B41: -0.23116945 | C41: -6.3549805e+11 | D41: -9.0080813e+11 | E41: -8.537606e+11 | F41: -8.3081617e+11 | G41: 2.5877763e+12 | H41: -9.0266033e+13 | I41: -8.9545366e+13 | J41: -1.021122e+14 | K41: -1.0048711e+14 | L41: 2.7102609e+14 | M41: 3.4879213e+12 | N41: 3.5584697e+12 | O41: -6.0728905e+12 | Q41: #NUM!
A42: Lighting | B42: 0.13832744 | C42: -6.2538424e+11 | D42: -8.8647197e+11 | E42: -8.401732e+11 | F42: -8.1759391e+11 | G42: 2.5465925e+12 | H42: -8.8829469e+13 | I42: -8.8120272e+13 | J42: -1.0048711e+14 | K42: -9.8887879e+13 | L42: 2.6671277e+14 | M42: 3.4324119e+12 | N42: 3.5018374e+12 | O42: -5.9762418e+12 | Q42: #NUM!
A43: Salesperson Behav | B43: 0.09440795 | C43: 1.6867382e+12 | D43: 2.3909239e+12 | E43: 2.2660504e+12 | F43: 2.2051513e+12 | G43: -6.868473e+12 | H43: 2.39584e+14 | I43: 2.3767121e+14 | J43: 2.7102609e+14 | K43: 2.6671277e+14 | L43: -7.1935714e+14 | M43: -9257636867894 | N43: -9.4448862e+12 | O43: 1.6118659e+13 | Q43: #NUM!
A44: Fragrance | B44: -0.057180142 | C44: 1.2237769e+12 | D44: 1.7346839e+12 | E44: 1.6440846e+12 | F44: 1.5999005e+12 | G44: -4.9832742e+12 | H44: 3.1392783e+12 | I44: 3.1142149e+12 | J44: 3.5512652e+12 | K44: 3.4947476e+12 | L44: -9.4257641e+12 | M44: 7.1595238e+13 | N44: 7.3043357e+13 | O44: -1.2465592e+14 | Q44: 8461396.9
A45: Trial room | B45: 0.093656812 | C45: 1.2485296e+12 | D45: 1.7697704e+12 | E45: 1.6773386e+12 | F45: 1.6322609e+12 | G45: -5.0840682e+12 | H45: 3.2027748e+12 | I45: 3.1772045e+12 | J45: 3.6230948e+12 | K45: 3.565434e+12 | L45: -9.616414e+12 | M45: 7.3043357e+13 | N45: 7.4520766e+13 | O45: -1.2717727e+14 | Q45: 8632541.1
A46: Brand Avail | B46: 0.0045180723 | C46: -2.1307428e+12 | D46: -3.0202932e+12 | E46: -2.862549e+12 | F46: -2.7856192e+12 | G46: 8.6764797e+12 | H46: -5.4658611e+12 | I46: -5.4222227e+12 | J46: -6.1831798e+12 | K46: -6.0847759e+12 | L46: 1.6411389e+13 | M46: -1.2465592e+14 | N46: -1.2717727e+14 | O46: 2.1704095e+14 | Q46: 14732310
A48: Partial Correlation Matrix
B50: {=Data_v2!D1:Q1} -> Parking | C50: Music | D50: Display | E50: Basic Amenities | F50: Billing | G50: Loyalty | H50: Location of store | I50: Store Layout | J50: Clean | K50: Lighting | L50: Salesperson Behav | M50: Fragrance | N50: Trial room | O50: Brand Avail
A51: {=TRANSPOSE(Data_v2!D1:Q1)} -> Parking | B51: {=-B33:O46/MMULT(Q33:Q46,TRANSPOSE(Q33:Q46))+2*[1]!Identity()} -> #NUM! | C51: #NUM! | D51: #NUM! | E51: #NUM! | F51: #NUM! | G51: #NUM! | H51: #NUM! | I51: #NUM! | J51: #NUM! | K51: #NUM! | L51: #NUM! | M51: #NUM! | N51: #NUM! | O51: #NUM!
A52: Music | B52: #NUM! | C52: #NUM! | D52: #NUM! | E52: #NUM! | F52: #NUM! | G52: #NUM! | H52: #NUM! | I52: #NUM! | J52: #NUM! | K52: #NUM! | L52: #NUM! | M52: #NUM! | N52: #NUM! | O52: #NUM!
A53: Display | B53: #NUM! | C53: #NUM! | D53: #NUM! | E53: #NUM! | F53: #NUM! | G53: #NUM! | H53: #NUM! | I53: #NUM! | J53: #NUM! | K53: #NUM! | L53: #NUM! | M53: #NUM! | N53: #NUM! | O53: #NUM!
A54: Basic Amenities | B54: #NUM! | C54: #NUM! | D54: #NUM! | E54: #NUM! | F54: #NUM! | G54: #NUM! | H54: #NUM! | I54: #NUM! | J54: #NUM! | K54: #NUM! | L54: #NUM! | M54: #NUM! | N54: #NUM! | O54: #NUM!
A55: Billing | B55: #NUM! | C55: #NUM! | D55: #NUM! | E55: #NUM! | F55: #NUM! | G55: #NUM! | H55: #NUM! | I55: #NUM! | J55: #NUM! | K55: #NUM! | L55: #NUM! | M55: #NUM! | N55: #NUM! | O55: #NUM!
A56: Loyalty | B56: #NUM! | C56: #NUM! | D56: #NUM! | E56: #NUM! | F56: #NUM! | G56: #NUM! | H56: #NUM! | I56: #NUM! | J56: #NUM! | K56: #NUM! | L56: #NUM! | M56: #NUM! | N56: #NUM! | O56: #NUM!
A57: Location of store | B57: #NUM! | C57: #NUM! | D57: #NUM! | E57: #NUM! | F57: #NUM! | G57: #NUM! | H57: #NUM! | I57: #NUM! | J57: #NUM! | K57: #NUM! | L57: #NUM! | M57: #NUM! | N57: #NUM! | O57: #NUM!
A58: Store Layout | B58: #NUM! | C58: #NUM! | D58: #NUM! | E58: #NUM! | F58: #NUM! | G58: #NUM! | H58: #NUM! | I58: #NUM! | J58: #NUM! | K58: #NUM! | L58: #NUM! | M58: #NUM! | N58: #NUM! | O58: #NUM!
A59: Clean | B59: #NUM! | C59: #NUM! | D59: #NUM! | E59: #NUM! | F59: #NUM! | G59: #NUM! | H59: #NUM! | I59: #NUM! | J59: #NUM! | K59: #NUM! | L59: #NUM! | M59: #NUM! | N59: #NUM! | O59: #NUM!
A60: Lighting | B60: #NUM! | C60: #NUM! | D60: #NUM! | E60: #NUM! | F60: #NUM! | G60: #NUM! | H60: #NUM! | I60: #NUM! | J60: #NUM! | K60: #NUM! | L60: #NUM! | M60: #NUM! | N60: #NUM! | O60: #NUM!
A61: Salesperson Behav | B61: #NUM! | C61: #NUM! | D61: #NUM! | E61: #NUM! | F61: #NUM! | G61: #NUM! | H61: #NUM! | I61: #NUM! | J61: #NUM! | K61: #NUM! | L61: #NUM! | M61: #NUM! | N61: #NUM! | O61: #NUM!
A62: Fragrance | B62: #NUM! | C62: #NUM! | D62: #NUM! | E62: #NUM! | F62: #NUM! | G62: #NUM! | H62: #NUM! | I62: #NUM! | J62: #NUM! | K62: #NUM! | L62: #NUM! | M62: #NUM! | N62: #NUM! | O62: #NUM!
A63: Trial room | B63: #NUM! | C63: #NUM! | D63: #NUM! | E63: #NUM! | F63: #NUM! | G63: #NUM! | H63: #NUM! | I63: #NUM! | J63: #NUM! | K63: #NUM! | L63: #NUM! | M63: #NUM! | N63: #NUM! | O63: #NUM!
A64: Brand Avail | B64: #NUM! | C64: #NUM! | D64: #NUM! | E64: #NUM! | F64: #NUM! | G64: #NUM! | H64: #NUM! | I64: #NUM! | J64: #NUM! | K64: #NUM! | L64: #NUM! | M64: #NUM! | N64: #NUM! | O64: #NUM!
B65: =SUMSQ(B51:B64)-1 -> #NUM! | C65: =SUMSQ(C51:C64)-1 -> #NUM! | D65: =SUMSQ(D51:D64)-1 -> #NUM! | E65: =SUMSQ(E51:E64)-1 -> #NUM! | F65: =SUMSQ(F51:F64)-1 -> #NUM! | G65: =SUMSQ(G51:G64)-1 -> #NUM! | H65: =SUMSQ(H51:H64)-1 -> #NUM! | I65: =SUMSQ(I51:I64)-1 -> #NUM! | ... O65: =SUMSQ(O51:O64)-1 -> #NUM! | P65: =SUM(B65:O65) -> #NUM!
A67: KMO
B69: {=Data_v2!D1:Q1} -> Parking | C69: Music | D69: Display | E69: Basic Amenities | F69: Billing | G69: Loyalty | H69: Location of store | I69: Store Layout | J69: Clean | K69: Lighting | L69: Salesperson Behav | M69: Fragrance | N69: Trial room | O69: Brand Avail
B70: {=B28:P28/(B28:P28+B65:P65)} -> #NUM! | C70: #NUM! | D70: #NUM! | E70: #NUM! | F70: #NUM! | G70: #NUM! | H70: #NUM! | I70: #NUM! | J70: #NUM! | K70: #NUM! | L70: #NUM! | M70: #NUM! | N70: #NUM! | O70: #NUM! | P70: #NUM!
A72: Eigenvalues and eigenvectors
B74: {=[1]!eVECTORS(B14:O27,100,FALSE)} -> 5.0512734 | C74: 2.5349888 | D74: 1.7462371 | E74: 1.0026236 | F74: 0.81813849 | G74: 0.69847548 | H74: 0.53219115 | I74: 0.49992462 | J74: 0.43603414 | K74: 0.37079969 | L74: 0.30931355 | M74: 3.3416066e-15 | N74: 2.9258074e-15 | O74: -8.2107498e-16
B75: -0.038607938 | C75: -0.12508718 | D75: -0.0095996828 | E75: -0.95212719 | F75: -0.095087946 | G75: -0.17619278 | H75: -0.047019552 | I75: -0.099608407 | J75: -0.067041156 | K75: -0.090922182 | L75: -0.10604077 | M75: 0 | N75: -1.1858776e-16 | O75: -5.2067435e-17
B76: 0.31232718 | C76: 0.17413435 | D76: -0.014299336 | E76: -0.010652528 | F76: -0.025473322 | G76: 0.024684722 | H76: 0.75468435 | I76: -0.47085735 | J76: -0.16498037 | K76: -0.083330968 | L76: 0.043059113 | M76: 0.20804088 | N76: -1.973735e-16 | O76: -1.6554765e-15
B77: 0.31408502 | C77: 0.083003367 | D77: 0.29888187 | E77: -0.074956598 | F77: 0.14563013 | G77: -0.043159436 | H77: -0.21063276 | I77: -0.27725244 | J77: 0.69263311 | K77: 0.29509031 | L77: 0.0377428 | M77: 0.29489456 | N77: -8.2094392e-17 | O77: -4.2873481e-16
B78: 0.30562676 | C78: 0.13315149 | D78: 0.33927263 | E78: -0.034850926 | F78: 0.10034231 | G78: 0.15271852 | H78: -0.19829537 | I78: 0.23511766 | J78: -0.1099318 | K78: -0.71212775 | L78: 0.2173072 | M78: 0.27949277 | N78: -1.870817e-16 | O78: 1.8687169e-15
B79: 0.3205272 | C79: 0.087222164 | D79: 0.31269816 | E79: -0.035958839 | F79: -0.0088311034 | G79: -0.0018202455 | H79: -0.056776869 | I79: 0.3209907 | J79: -0.49865729 | K79: 0.51248804 | L79: -0.31458615 | M79: 0.27198152 | N79: 1.0203368e-16 | O79: -1.9166984e-15
B80: 0.38977283 | C80: 0.14358939 | D80: 0.3128556 | E80: -0.051751268 | F80: 0.074708097 | G80: 0.040838727 | H80: 0.028361344 | I80: -0.031518071 | J80: 0.0042263524 | K80: 0.011847938 | L80: -0.0055924191 | M80: -0.84715172 | N80: -1.060113e-16 | O80: -5.5462559e-16
B81: 0.24000841 | C81: -0.078442898 | D81: 0.0064976287 | E81: 0.13849783 | F81: -0.87815787 | G81: -0.21231643 | H81: -0.089335278 | I81: -0.0019059702 | J81: 0.096111519 | K81: -0.088178106 | L81: -0.042519813 | M81: 0 | N81: -0.27198185 | O81: 1.3385996e-16
B82: 0.13840648 | C82: -0.37704769 | D82: -0.11596898 | E82: -0.13045202 | F82: -0.068989019 | G82: 0.82472205 | H82: 0.10821357 | I82: 0.11518404 | J82: 0.13046332 | K82: 0.082278989 | L82: -0.041478982 | M82: 0 | N82: -0.2698104 | O82: 2.1449791e-16
B83: 0.20392372 | C83: -0.45562412 | D83: -0.041140637 | E83: 0.0034614873 | F83: 0.19003587 | G83: -0.29123224 | H83: -0.005091714 | I83: 0.027773573 | J83: -0.1876461 | K83: 0.19342102 | L83: 0.67830893 | M83: 0 | N83: -0.30767571 | O83: 4.3141286e-16
B84: 0.20381484 | C84: -0.42162682 | D84: -0.08748016 | E84: 0.16709386 | F84: 0.34216587 | G84: -0.2784947 | H84: -0.0097184991 | I84: -0.090572268 | J84: 0.034780659 | K84: -0.27221135 | L84: -0.61253467 | M84: 0 | N84: -0.30277912 | O84: -5.7400459e-16
B85: 0.27806227 | C85: -0.47868619 | D85: -0.08408622 | E85: 0.066283341 | F85: -0.11680512 | G85: -0.011210792 | H85: 0.00047808225 | I85: 0.014304263 | J85: 0.017312144 | K85: -0.030236467 | L85: 0.00058826333 | M85: 0 | N85: 0.81663252 | O85: 6.516995e-17
B86: 0.25420917 | C86: 0.21645537 | D86: -0.39983603 | E86: -0.10590144 | F86: 0.075249394 | G86: -0.17249328 | H86: 0.26550386 | I86: 0.57041299 | J86: 0.29809338 | K86: 0.0089053885 | L86: 0.0086795561 | M86: 0 | N86: 0 | O86: -0.44401218
... B88: 0.29550308 | C88: 0.23554469 | D88: -0.47870787 | E88: -0.048544625 | F88: 0.062359114 | G88: -0.0084475613 | H88: -0.13047333 | I88: 0.080467027 | J88: 0.0098298253 | K88: 0.017481609 | L88: 0.012953986 | M88: 0 | N88: 0 | O88: 0.77307861
A90: Full Load Matrix
B92: 1 | C92: =B92+1 -> 2 | D92: =C92+1 -> 3 | E92: =D92+1 -> 4 | F92: =E92+1 -> 5 | G92: =F92+1 -> 6 | H92: =G92+1 -> 7 | I92: =H92+1 -> 8 | J92: =I92+1 -> 9 | ... O92: =N92+1 -> 14 | Q92: Commun
A93: {=TRANSPOSE(Data_v2!D1:Q1)} -> Parking | B93: {=B75:O88*SQRT(ABS(B74:O74))} -> -0.086771488 | C93: -0.19915941 | D93: -0.012685526 | E93: -0.95337535 | F93: -0.086008006 | G93: -0.14725284 | H93: -0.034301437 | I93: -0.070428471 | J93: -0.044269207 | K93: -0.055365539 | L93: -0.058975597 | M93: 0 | N93: -6.4144988e-24 | O93: -1.4919614e-24 | Q93: =SUMSQ(B93:O93) -> 1
A94: Music | B94: 0.70195653 | C94: 0.27725059 | D94: -0.018895895 | E94: -0.010666493 | F94: -0.023040876 | G94: 0.020630218 | H94: 0.55055305 | I94: -0.33292133 | J94: -0.10894129 | K94: -0.050742996 | L94: 0.023947741 | M94: 1.2026142e-08 | N94: -1.0676078e-23 | O94: -4.7436695e-23 | Q94: =SUMSQ(B94:O94) -> 1
A95: Display | B95: 0.70590727 | C95: 0.13215504 | D95: 0.39495824 | E95: -0.07505486 | F95: 0.13172392 | G95: -0.036070432 | H95: -0.15365962 | I95: -0.1960323 | J95: 0.4573656 | K95: 0.1796903 | L95: 0.020991022 | M95: 1.7046861e-08 | N95: -4.4405459e-24 | O95: -1.2285141e-23 | Q95: =SUMSQ(B95:O95) -> 1
A96: Basic Amenities | B96: 0.68689731 | C96: 0.21199912 | D96: 0.44833272 | E96: -0.034896613 | F96: 0.090760632 | G96: 0.12763427 | H96: -0.14465931 | I96: 0.16624076 | J96: -0.072591133 | K96: -0.43363826 | L96: 0.1208575 | M96: 1.6156535e-08 | N96: -1.0119386e-23 | O96: 5.3546974e-23 | Q96: =SUMSQ(B96:O96) -> 1
A97: Billing | B97: 0.72038612 | C97: 0.13887206 | D97: 0.41321581 | E97: -0.036005978 | F97: -0.0079878221 | G97: -0.0015212674 | H97: -0.041419539 | I97: 0.22695759 | J97: -0.32927778 | K97: 0.312071 | L97: -0.17496012 | M97: 1.5722336e-08 | N97: 5.5190764e-24 | O97: -5.4921855e-23 | Q97: =SUMSQ(B97:O97) -> 1
A98: Loyalty | B98: 0.87601593 | C98: 0.22861798 | D98: 0.41342386 | E98: -0.051819109 | F98: 0.067574227 | G98: 0.034130903 | H98: 0.020690007 | I98: -0.022284962 | J98: 0.0027907823 | K98: 0.0072146034 | L98: -0.0031102778 | M98: -4.8970987e-08 | N98: -5.7342288e-24 | O98: -1.5892467e-23 | Q98: =SUMSQ(B98:O98) -> 1
A99: Location of store | B99: 0.53941982 | C99: -0.12489402 | D99: 0.0085863086 | E99: 0.13867939 | F99: -0.79430265 | G99: -0.17744313 | H99: -0.065171365 | I99: -0.0013476229 | J99: 0.063465206 | K99: -0.05369458 | L99: -0.023647804 | M99: 0 | N99: -1.4711698e-08 | O99: 3.8356776e-24 | Q99: =SUMSQ(B99:O99) -> 1
A100: Store Layout | B100: 0.31106908 | C100: -0.60032206 | D100: -0.15324752 | E100: -0.13062304 | F100: -0.062401263 | G100: 0.68926018 | H100: 0.078943351 | I100: 0.081441279 | J100: 0.086148688 | K100: 0.050102411 | L100: -0.023068936 | M100: 0 | N100: -1.4594243e-08 | O100: 6.1463101e-24 | Q100: =SUMSQ(B100:O100) -> 1
A101: Clean | B101: 0.45831933 | C101: -0.7254287 | D101: -0.054365404 | E101: 0.003466025 | F101: 0.17188936 | G101: -0.2433969 | H101: -0.0037144783 | I101: 0.019637402 | J101: -0.12390813 | K101: 0.11778049 | L101: 0.37724805 | M101: 0 | N101: -1.6642405e-08 | O101: 1.2361879e-23 | Q101: =SUMSQ(B101:O101) -> 1
A102: Lighting | B102: 0.45807463 | C102: -0.67129939 | D102: -0.11560089 | E102: 0.16731291 | F102: 0.30949248 | G102: -0.23275151 | H102: -0.0070897843 | I102: -0.064039437 | J102: 0.022966671 | K102: -0.16575854 | L102: -0.34066706 | M102: 0 | N102: -1.6377545e-08 | O102: -1.644776e-23 | Q102: =SUMSQ(B102:O102) -> 1
A103: Salesperson Behav | B103: 0.62494601 | C103: -0.7621473 | D103: -0.11111596 | E103: 0.066370233 | F103: -0.10565141 | G103: -0.0093694017 | H103: 0.00034876785 | I103: 0.010113879 | J103: 0.011431708 | K103: -0.01841199 | L103: 0.00032716833 | M103: 0 | N103: 4.4172252e-08 | O103: 1.8674062e-24 | Q103: =SUMSQ(B103:O103) -> 1
A104: Fragrance | B104: 0.57133609 | C104: 0.34463262 | D104: -0.52836438 | E104: -0.10604027 | F104: 0.068063835 | G104: -0.14416099 | H104: 0.19368887 | I104: 0.40331249 | J104: 0.19683965 | K104: 0.005422787 | L104: 0.0048272188 | M104: 0 | N104: 0 | O104: -1.2722905e-08 | Q104: =SUMSQ(B104:O104) -> 1
A105: Trial room | B105: 0.57342071 | C105: 0.30221985 | D105: -0.56168951 | E105: 0.020983021 | F105: 0.02954549 | G105: 0.12925426 | H105: -0.35228694 | I105: -0.29822039 | J105: -0.1818598 | K105: 0.012851725 | L105: 0.0075636683 | M105: 0 | N105: 0 | O105: -1.2980245e-08 | Q105: =SUMSQ(B105:O105) -> 1
A106: Brand Avail | B106: 0.66414429 | C106: 0.37502597 | D106: -0.63258978 | E106: -0.048608263 | F106: 0.056404447 | G106: -0.0070600363 | H106: -0.095182164 | I106: 0.056894491 | J106: 0.0064909169 | K106: 0.010645133 | L106: 0.0072044842 | M106: 0 | N106: 0 | O106: 2.2152108e-08 | Q106: =SUMSQ(B106:O106) -> 1
A108: Scree Plot
B110: eValue | C110: % | D110: Cum %
B111: {=TRANSPOSE(B74:O74)} -> 5.0512734 | C111: =B111/B$125 -> 0.36080524 | D111: =C111 -> 0.36080524
B112: 2.5349888 | C112: =B112/B$125 -> 0.18107063 | D112: =D111+C112 -> 0.54187587
B113: 1.7462371 | C113: =B113/B$125 -> 0.12473122 | D113: =D112+C113 -> 0.66660709
B114: 1.0026236 | C114: =B114/B$125 -> 0.071615968 | D114: =D113+C114 -> 0.73822306
B115: 0.81813849 | C115: =B115/B$125 -> 0.058438463 | D115: =D114+C115 -> 0.79666153
B116: 0.69847548 | C116: =B116/B$125 -> 0.049891105 | D116: =D115+C116 -> 0.84655263
B117: 0.53219115 | C117: =B117/B$125 -> 0.038013654 | D117: =D116+C117 -> 0.88456629
B118: 0.49992462 | C118: =B118/B$125 -> 0.035708901 | D118: =D117+C118 -> 0.92027519
...

Sheet Data_v2
A1: Gender | B1: Age | C1: Gender_Final | D1: Parking | E1: Music | F1: Display | G1: Basic Amenities | H1: Billing | I1: Loyalty | J1: Location of store | K1: Store Layout | L1: Clean | M1: Lighting | N1: Salesperson Behav | O1: Fragrance | P1: Trial room | Q1: Brand Avail
A2: Male | B2: 30-45 | C2: 1 | D2: 3 | E2: 3 | F2: 4 | G2: 4 | H2: 4 | I2: 3.75 | J2: 5 | K2: 6 | L2: 6 | M2: 7 | N2: 6 | O2: 1 | P2: 1 | Q2: 1
A3: Male | B3: 30-45 | C3: 1 | D3: 4 | E3: 5 | F3: 5 | G3: 5 | H3: 5 | I3: 5 | J3: 5 | K3: 6 | L3: 5 | M3: 6 | N3: 5.5 | O3: 7 | P3: 6 | Q3: 6.5
A4: Male | B4: 30-45 | C4: 1 | D4: 4 | E4: 1 | F4: 1 | G4: 1 | H4: 1 | I4: 1 | J4: 1 | K4: 4 | L4: 4 | M4: 4 | N4: 3.25 | O4: 4 | P4: 1 | Q4: 2.5
A5: Male | B5: 30-45 | C5: 1 | D5: 3 | E5: 1 | F5: 2 | G5: 2 | H5: 2 | I5: 1.75 | J5: 5 | K5: 5 | L5: 7 | M5: 6 | N5: 5.75 | O5: 1 | P5: 1 | Q5: 1
A6: Female | B6: 20 -30 | C6: 0 | D6: 2 | E6: 1 | F6: 5 | G6: 5 | H6: 4 | I6: 3.75 | J6: 1 | K6: 5 | L6: 6 | M6: 5 | N6: 4.25 | O6: 1 | P6: 1 | Q6: 1
A7: Male | B7: 20 -30 | C7: 1 | D7: 2 | E7: 1 | F7: 1 | G7: 1 | H7: 1 | I7: 1 | J7: 5 | K7: 7 | L7: 5 | M7: 6 | N7: 5.75 | O7: 6 | P7: 7 | Q7: 6.5
A8: Female | B8: 30-45 | C8: 0 | D8: 3 | E8: 1 | F8: 2 | G8: 2 | H8: 1 | I8: 1.5 | J8: 1 | K8: 4 | L8: 6 | M8: 6 | N8: 4.25 | O8: 1 | P8: 1 | Q8: 1
A9: Male | B9: 30-45 | C9: 1 | D9: 4 | E9: 1 | F9: 1 | G9: 1 | H9: 1 | I9: 1 | J9: 1 | K9: 7 | L9: 7 | M9: 7 | N9: 5.5 | O9: 1 | P9: 1 | Q9: 1
A10: Male | B10: 30-45 | C10: 1 | D10: 2 | E10: 1 | F10: 4 | G10: 5 | H10: 5 | I10: 3.75 | J10: 4 | K10: 7 | L10: 6 | M10: 4 | N10: 5.25 | O10: 5 | P10: 1 | Q10: 3
A11: Female | B11: 20 -30 | C11: 0 | D11: 2 | E11: 4 | F11: 4 | G11: 4 | H11: 1 | I11: 3.25 | J11: 4 | K11: 4 | L11: 4 | M11: 4 | N11: 4 | O11: 7 | P11: 4 | Q11: 5.5
A12: Male | B12: 45 and above | C12: 1 | D12: 4 | E12: 1 | F12: 1 | G12: 1 | H12: 1 | I12: 1 | J12: 1 | K12: 2 | L12: 1 | M12: 1 | N12: 1.25 | O12: 1 | P12: 1 | Q12: 1
A13: Male | B13: 30-45 | C13: 1 | D13: 4 | E13: 1 | F13: 3 | G13: 1 | H13: 2 | I13: 1.75 | J13: 5 | K13: 3 | L13: 5 | M13: 4 | N13: 4.25 | O13: 2 | P13: 1 | Q13: 1.5
... A411: Male | B411: 30-45 | C411: 1 | D411: 4 | E411: 2 | F411: 5 | G411: 5 | H411: 5 | I411: 4.25 | J411: 3 | K411: 6 | L411: 5 | M411: 5 | N411: 4.75 | O411: 3 | P411: 2 | Q411: 2.5
