Workbook

Sheet Sheet1
A1: Factor Analysis - Principal Component Extraction
B5: {=Data_v2!D1:Q1} -> Parking | C5: Music | D5: Display | E5: Basic Amenities | F5: Billing | G5: Loyalty | H5: Location of store | I5: Store Layout | J5: Clean | K5: Lighting | L5: Salesperson Behav | M5: Fragrance | N5: Trial room | O5: Brand Avail
A6: Mean | B6: =AVERAGE(Data_v2!D2:D411) -> 3.1170732 | C6: =AVERAGE(Data_v2!E2:E411) -> 1.6634146 | D6: =AVERAGE(Data_v2!F2:F411) -> 2.2780488 | E6: =AVERAGE(Data_v2!G2:G411) -> 2.2341463 | F6: =AVERAGE(Data_v2!H2:H411) -> 2.1926829 | G6: =AVERAGE(Data_v2!I2:I411) -> 2.0920732 | H6: =AVERAGE(Data_v2!J2:J411) -> 2.7219512 | I6: =AVERAGE(Data_v2!K2:K411) -> 5.1829268 | ... O6: =AVERAGE(Data_v2!Q2:Q411) -> 2.4317073
A7: Std dev | B7: =_xlfn.STDEV.S(Data_v2!D2:D411) -> 0.90958021 | C7: =_xlfn.STDEV.S(Data_v2!E2:E411) -> 1.1717448 | D7: =_xlfn.STDEV.S(Data_v2!F2:F411) -> 1.6609292 | E7: =_xlfn.STDEV.S(Data_v2!G2:G411) -> 1.5741819 | F7: =_xlfn.STDEV.S(Data_v2!H2:H411) -> 1.5318765 | G7: =_xlfn.STDEV.S(Data_v2!I2:I411) -> 1.1928493 | H7: =_xlfn.STDEV.S(Data_v2!J2:J411) -> 1.6176762 | I7: =_xlfn.STDEV.S(Data_v2!K2:K411) -> 1.604761 | ... O7: =_xlfn.STDEV.S(Data_v2!Q2:Q411) -> 1.4664861
A8: Skewness | B8: =SKEW(Data_v2!D2:D411) -> -0.52730261 | C8: =SKEW(Data_v2!E2:E411) -> 1.9527994 | D8: =SKEW(Data_v2!F2:F411) -> 1.141096 | E8: =SKEW(Data_v2!G2:G411) -> 1.2035128 | F8: =SKEW(Data_v2!H2:H411) -> 1.1327185 | G8: =SKEW(Data_v2!I2:I411) -> 1.1310282 | H8: =SKEW(Data_v2!J2:J411) -> 0.74267807 | I8: =SKEW(Data_v2!K2:K411) -> -0.82135222 | ... O8: =SKEW(Data_v2!Q2:Q411) -> 0.99277644
A9: Kurtosis | B9: =KURT(Data_v2!D2:D411) -> -0.68875203 | C9: =KURT(Data_v2!E2:E411) -> 3.1830681 | D9: =KURT(Data_v2!F2:F411) -> 0.14527624 | E9: =KURT(Data_v2!G2:G411) -> 0.40728719 | F9: =KURT(Data_v2!H2:H411) -> 0.17293749 | G9: =KURT(Data_v2!I2:I411) -> 0.56346574 | H9: =KURT(Data_v2!J2:J411) -> -0.26196009 | I9: =KURT(Data_v2!K2:K411) -> 0.01941197 | ... O9: =KURT(Data_v2!Q2:Q411) -> 0.27433274
A11: Correlation Matrix
B13: {=Data_v2!D1:Q1} -> Parking | C13: Music | D13: Display | E13: Basic Amenities | F13: Billing | G13: Loyalty | H13: Location of store | I13: Store Layout | J13: Clean | K13: Lighting | L13: Salesperson Behav | M13: Fragrance | N13: Trial room | O13: Brand Avail
A14: {=TRANSPOSE(Data_v2!D1:Q1)} -> Parking | B14: {=[1]!CORR(Data_v2!D2:Q411)} -> 1 | C14: -0.095991955 | D14: -0.039402002 | E14: -0.087494674 | F14: -0.067116535 | G14: -0.087703619 | H14: -0.055921186 | I14: 0.10924533 | J14: 0.098609441 | K14: -0.023438251 | L14: 0.045931424 | M14: -0.039387024 | N14: -0.10441974 | O14: -0.083807426
A15: Music | B15: -0.095991955 | C15: 1 | D15: 0.44393882 | E15: 0.43121025 | F15: 0.45439469 | G15: 0.68826293 | H15: 0.31683428 | I15: 0.075732756 | J15: 0.1205769 | K15: 0.13906502 | L15: 0.22753347 | M15: 0.45393651 | N15: 0.42335497 | O15: 0.50878418
A16: Display | B16: -0.039402002 | C16: 0.44393882 | D16: 1 | E16: 0.58100133 | F16: 0.55546324 | G16: 0.82714036 | H16: 0.28818986 | I16: 0.076270811 | J16: 0.20648378 | K16: 0.21280168 | L16: 0.27787654 | M16: 0.24457679 | N16: 0.25241733 | O16: 0.28837735
A17: Basic Amenities | B17: -0.087494674 | C17: 0.43121025 | D17: 0.58100133 | E17: 1 | F17: 0.62102036 | G17: 0.83744422 | H17: 0.27334206 | I17: 0.075917795 | J17: 0.12838396 | K17: 0.13247124 | L17: 0.21360605 | M17: 0.24307722 | N17: 0.23450204 | O17: 0.27701843
A18: Billing | B18: -0.067116535 | C18: 0.45439469 | D18: 0.55546324 | E18: 0.62102036 | F18: 1 | G18: 0.83088773 | H18: 0.34529239 | I18: 0.088069425 | J18: 0.22199632 | K18: 0.16692712 | L18: 0.28962872 | M18: 0.26415275 | N18: 0.23124496 | O18: 0.2872145
A19: Loyalty | B19: -0.087703619 | C19: 0.68826293 | D19: 0.82714036 | E19: 0.83744422 | F19: 0.83088773 | G19: 1 | H19: 0.37916512 | I19: 0.098470066 | J19: 0.21511749 | K19: 0.2055253 | L19: 0.31606563 | M19: 0.36161728 | N19: 0.34344216 | O19: 0.4089356
A20: Location of store | B20: -0.055921186 | C20: 0.31683428 | D20: 0.28818986 | E20: 0.27334206 | F20: 0.34529239 | G20: 0.37916512 | H20: 1 | I20: 0.14867207 | J20: 0.22160554 | K20: 0.16757784 | L20: 0.52779779 | M20: 0.21634291 | N20: 0.23420299 | O20: 0.26148854
A21: Store Layout | B21: 0.10924533 | C21: 0.075732756 | D21: 0.076270811 | E21: 0.075917795 | F21: 0.088069425 | G21: 0.098470066 | H21: 0.14867207 | I21: 1 | J21: 0.39527846 | K21: 0.35736757 | L21: 0.66133483 | M21: 0.027299111 | N21: 0.10023128 | O21: 0.074410553
A22: Clean | B22: 0.098609441 | C22: 0.1205769 | D22: 0.20648378 | E22: 0.12838396 | F22: 0.22199632 | G22: 0.21511749 | H22: 0.22160554 | I22: 0.39527846 | J22: 1 | K22: 0.66152226 | L22: 0.82643508 | M22: 0.072263254 | N22: 0.070151781 | O22: 0.082610008
A23: Lighting | B23: -0.023438251 | C23: 0.13906502 | D23: 0.21280168 | E23: 0.13247124 | F23: 0.16692712 | G23: 0.2055253 | H23: 0.16757784 | I23: 0.35736757 | J23: 0.66152226 | K23: 1 | L23: 0.79388594 | M23: 0.10309561 | N23: 0.12000382 | O23: 0.12952964
A24: Salesperson Behav | B24: 0.045931424 | C24: 0.22753347 | D24: 0.27787654 | E24: 0.21360605 | F24: 0.28962872 | G24: 0.31606563 | H24: 0.52779779 | I24: 0.66133483 | J24: 0.82643508 | K24: 0.79388594 | L24: 1 | M24: 0.1465234 | N24: 0.18204156 | O24: 0.1908237
A25: Fragrance | B25: -0.039387024 | C25: 0.45393651 | D25: 0.24457679 | E25: 0.24307722 | F25: 0.26415275 | G25: 0.36161728 | H25: 0.21634291 | I25: 0.027299111 | J25: 0.072263254 | K25: 0.10309561 | L25: 0.1465234 | M25: 1 | N25: 0.48549893 | O25: 0.85882572
A26: Trial room | B26: -0.10441974 | C26: 0.42335497 | D26: 0.25241733 | E26: 0.23450204 | F26: 0.23124496 | G26: 0.34344216 | H26: 0.23420299 | I26: 0.10023128 | J26: 0.070151781 | K26: 0.12000382 | L26: 0.18204156 | M26: 0.48549893 | N26: 1 | O26: 0.86480264
A27: Brand Avail | B27: -0.083807426 | C27: 0.50878418 | D27: 0.28837735 | E27: 0.27701843 | F27: 0.2872145 | G27: 0.4089356 | H27: 0.26148854 | I27: 0.074410553 | J27: 0.082610008 | K27: 0.12952964 | L27: 0.1908237 | M27: 0.85882572 | N27: 0.86480264 | O27: 1
B28: =SUMSQ(B14:B27)-1 -> 0.077541939 | C28: =SUMSQ(C14:C27)-1 -> 1.9083367 | D28: =SUMSQ(D14:D27)-1 -> 1.9895972 | E28: =SUMSQ(E14:E27)-1 -> 1.9690942 | F28: =SUMSQ(F14:F27)-1 -> 2.0893172 | G28: =SUMSQ(G14:G27)-1 -> 3.3150703 | H28: =SUMSQ(H14:H27)-1 -> 1.0721702 | I28: =SUMSQ(I14:I27)-1 -> 0.80645558 | ... O28: =SUMSQ(O14:O27)-1 -> 2.2949007 | P28: =SUM(B28:O28) -> 24.109793
A30: Inverse of Correlation Matrix
B32: {=Data_v2!D1:Q1} -> Parking | C32: Music | D32: Display | E32: Basic Amenities | F32: Billing | G32: Loyalty | H32: Location of store | I32: Store Layout | J32: Clean | K32: Lighting | L32: Salesperson Behav | M32: Fragrance | N32: Trial room | O32: Brand Avail | Q32: sqrt(diag)
A33: {=TRANSPOSE(Data_v2!D1:Q1)} -> Parking | B33: {=MINVERSE(B14:O27)} -> 1.0591478 | C33: 0.050140381 | D33: -0.066864014 | E33: 0.053894043 | F33: 0.02142334 | G33: 0.037719727 | H33: 0.012084961 | I33: -0.16137695 | J33: -0.23968506 | K33: 0.13623047 | L33: 0.11499023 | M33: -0.0546875 | N33: 0.09375 | O33: 0 | Q33: {=SQRT([1]!DIAG(B33:O46))} -> 1.0291491
A34: Music | B34: 0.049824922 | C34: 1.342788e+13 | D34: 1.9033802e+13 | E34: 1.8039702e+13 | F34: 1.7554893e+13 | G34: -5.4678927e+13 | H34: -4.5040121e+11 | I34: -4.468053e+11 | J34: -5.0951014e+11 | K34: -5.014014e+11 | L34: 1.3523412e+12 | M34: 1.1245997e+12 | N34: 1.1473464e+12 | O34: -1.9580633e+12 | Q34: 3664407.2
A35: Display | B35: -0.067033033 | C35: 1.9033802e+13 | D35: 2.6980104e+13 | E35: 2.5570983e+13 | F35: 2.4883774e+13 | G35: -7.7506488e+13 | H35: -6.3843638e+11 | I35: -6.3333923e+11 | J35: -7.2222233e+11 | K35: -7.1072832e+11 | L35: 1.9169217e+12 | M35: 1.5941017e+12 | N35: 1.6263448e+12 | O35: -2.7755228e+12 | Q35: 5194237.5
A36: Basic Amenities | B36: 0.054054463 | C36: 1.8039702e+13 | D36: 2.5570983e+13 | E36: 2.4235459e+13 | F36: 2.3584141e+13 | G36: -7.3458469e+13 | H36: -6.0509204e+11 | I36: -6.0026111e+11 | J36: -6.8450201e+11 | K36: -6.7360831e+11 | L36: 1.8168045e+12 | M36: 1.5108448e+12 | N36: 1.5414038e+12 | O36: -2.6305624e+12 | Q36: 4922952.2
A37: Billing | B37: 0.021450352 | C37: 1.7554893e+13 | D37: 2.4883774e+13 | E37: 2.3584141e+13 | F37: 2.2950328e+13 | G37: -7.1484305e+13 | H37: -5.8883046e+11 | I37: -5.8412935e+11 | J37: -6.6610632e+11 | K37: -6.5550539e+11 | L37: 1.7679786e+12 | M37: 1.4702415e+12 | N37: 1.4999793e+12 | O37: -2.5598672e+12 | Q37: 4790650.1
A38: Loyalty | B38: 0.038026772 | C38: -5.4678927e+13 | D38: -7.7506488e+13 | E38: -7.3458469e+13 | F38: -7.1484305e+13 | G38: 2.2265502e+14 | H38: 1.8340538e+12 | I38: 1.8194111e+12 | J38: 2.074748e+12 | K38: 2.0417289e+12 | L38: -5.5067938e+12 | M38: -4.57942e+12 | N38: -4.6720455e+12 | O38: 7.9733209e+12 | Q38: 14921629
A39: Location of store | B39: 0.016714907 | C39: -5.6177309e+11 | D39: -7.9630421e+11 | E39: -7.5471473e+11 | F39: -7.3443211e+11 | G39: 2.2875651e+12 | H39: -7.9794154e+13 | I39: -7.9157093e+13 | J39: -9.0266033e+13 | K39: -8.8829469e+13 | L39: 2.39584e+14 | M39: 3.0832831e+12 | N39: 3.145647e+12 | O39: -5.3683666e+12 | Q39: #NUM!
A40: Store Layout | B40: -0.15524529 | C40: -5.5728801e+11 | D40: -7.8994667e+11 | E40: -7.4868924e+11 | F40: -7.2856854e+11 | G40: 2.2693016e+12 | H40: -7.9157093e+13 | I40: -7.8525118e+13 | J40: -8.9545366e+13 | K40: -8.8120272e+13 | L40: 2.3767121e+14 | M40: 3.0586667e+12 | N40: 3.1205328e+12 | O40: -5.3255066e+12 | Q40: #NUM!
A41: Clean | B41: -0.23116945 | C41: -6.3549805e+11 | D41: -9.0080813e+11 | E41: -8.537606e+11 | F41: -8.3081617e+11 | G41: 2.5877763e+12 | H41: -9.0266033e+13 | I41: -8.9545366e+13 | J41: -1.021122e+14 | K41: -1.0048711e+14 | L41: 2.7102609e+14 | M41: 3.4879213e+12 | N41: 3.5584697e+12 | O41: -6.0728905e+12 | Q41: #NUM!
A42: Lighting | B42: 0.13832744 | C42: -6.2538424e+11 | D42: -8.8647197e+11 | E42: -8.401732e+11 | F42: -8.1759391e+11 | G42: 2.5465925e+12 | H42: -8.8829469e+13 | I42: -8.8120272e+13 | J42: -1.0048711e+14 | K42: -9.8887879e+13 | L42: 2.6671277e+14 | M42: 3.4324119e+12 | N42: 3.5018374e+12 | O42: -5.9762418e+12 | Q42: #NUM!
A43: Salesperson Behav | B43: 0.09440795 | C43: 1.6867382e+12 | D43: 2.3909239e+12 | E43: 2.2660504e+12 | F43: 2.2051513e+12 | G43: -6.868473e+12 | H43: 2.39584e+14 | I43: 2.3767121e+14 | J43: 2.7102609e+14 | K43: 2.6671277e+14 | L43: -7.1935714e+14 | M43: -9257636867894 | N43: -9.4448862e+12 | O43: 1.6118659e+13 | Q43: #NUM!
A44: Fragrance | B44: -0.057180142 | C44: 1.2237769e+12 | D44: 1.7346839e+12 | E44: 1.6440846e+12 | F44: 1.5999005e+12 | G44: -4.9832742e+12 | H44: 3.1392783e+12 | I44: 3.1142149e+12 | J44: 3.5512652e+12 | K44: 3.4947476e+12 | L44: -9.4257641e+12 | M44: 7.1595238e+13 | N44: 7.3043357e+13 | O44: -1.2465592e+14 | Q44: 8461396.9
A45: Trial room | B45: 0.093656812 | C45: 1.2485296e+12 | D45: 1.7697704e+12 | E45: 1.6773386e+12 | F45: 1.6322609e+12 | G45: -5.0840682e+12 | H45: 3.2027748e+12 | I45: 3.1772045e+12 | J45: 3.6230948e+12 | K45: 3.565434e+12 | L45: -9.616414e+12 | M45: 7.3043357e+13 | N45: 7.4520766e+13 | O45: -1.2717727e+14 | Q45: 8632541.1
A46: Brand Avail | B46: 0.0045180723 | C46: -2.1307428e+12 | D46: -3.0202932e+12 | E46: -2.862549e+12 | F46: -2.7856192e+12 | G46: 8.6764797e+12 | H46: -5.4658611e+12 | I46: -5.4222227e+12 | J46: -6.1831798e+12 | K46: -6.0847759e+12 | L46: 1.6411389e+13 | M46: -1.2465592e+14 | N46: -1.2717727e+14 | O46: 2.1704095e+14 | Q46: 14732310
A48: Partial Correlation Matrix
...

Sheet Data_v2
A1: Gender | B1: Age | C1: Gender_Final | D1: Parking | E1: Music | F1: Display | G1: Basic Amenities | H1: Billing | I1: Loyalty | J1: Location of store | K1: Store Layout | L1: Clean | M1: Lighting | N1: Salesperson Behav | O1: Fragrance | P1: Trial room | Q1: Brand Avail
A2: Male | B2: 30-45 | C2: 1 | D2: 3 | E2: 3 | F2: 4 | G2: 4 | H2: 4 | I2: 3.75 | J2: 5 | K2: 6 | L2: 6 | M2: 7 | N2: 6 | O2: 1 | P2: 1 | Q2: 1
A3: Male | B3: 30-45 | C3: 1 | D3: 4 | E3: 5 | F3: 5 | G3: 5 | H3: 5 | I3: 5 | J3: 5 | K3: 6 | L3: 5 | M3: 6 | N3: 5.5 | O3: 7 | P3: 6 | Q3: 6.5
A4: Male | B4: 30-45 | C4: 1 | D4: 4 | E4: 1 | F4: 1 | G4: 1 | H4: 1 | I4: 1 | J4: 1 | K4: 4 | L4: 4 | M4: 4 | N4: 3.25 | O4: 4 | P4: 1 | Q4: 2.5
A5: Male | B5: 30-45 | C5: 1 | D5: 3 | E5: 1 | F5: 2 | G5: 2 | H5: 2 | I5: 1.75 | J5: 5 | K5: 5 | L5: 7 | M5: 6 | N5: 5.75 | O5: 1 | P5: 1 | Q5: 1
A6: Female | B6: 20 -30 | C6: 0 | D6: 2 | E6: 1 | F6: 5 | G6: 5 | H6: 4 | I6: 3.75 | J6: 1 | K6: 5 | L6: 6 | M6: 5 | N6: 4.25 | O6: 1 | P6: 1 | Q6: 1
A7: Male | B7: 20 -30 | C7: 1 | D7: 2 | E7: 1 | F7: 1 | G7: 1 | H7: 1 | I7: 1 | J7: 5 | K7: 7 | L7: 5 | M7: 6 | N7: 5.75 | O7: 6 | P7: 7 | Q7: 6.5
A8: Female | B8: 30-45 | C8: 0 | D8: 3 | E8: 1 | F8: 2 | G8: 2 | H8: 1 | I8: 1.5 | J8: 1 | K8: 4 | L8: 6 | M8: 6 | N8: 4.25 | O8: 1 | P8: 1 | Q8: 1
A9: Male | B9: 30-45 | C9: 1 | D9: 4 | E9: 1 | F9: 1 | G9: 1 | H9: 1 | I9: 1 | J9: 1 | K9: 7 | L9: 7 | M9: 7 | N9: 5.5 | O9: 1 | P9: 1 | Q9: 1
A10: Male | B10: 30-45 | C10: 1 | D10: 2 | E10: 1 | F10: 4 | G10: 5 | H10: 5 | I10: 3.75 | J10: 4 | K10: 7 | L10: 6 | M10: 4 | N10: 5.25 | O10: 5 | P10: 1 | Q10: 3
A11: Female | B11: 20 -30 | C11: 0 | D11: 2 | E11: 4 | F11: 4 | G11: 4 | H11: 1 | I11: 3.25 | J11: 4 | K11: 4 | L11: 4 | M11: 4 | N11: 4 | O11: 7 | P11: 4 | Q11: 5.5
A12: Male | B12: 45 and above | C12: 1 | D12: 4 | E12: 1 | F12: 1 | G12: 1 | H12: 1 | I12: 1 | J12: 1 | K12: 2 | L12: 1 | M12: 1 | N12: 1.25 | O12: 1 | P12: 1 | Q12: 1
A13: Male | B13: 30-45 | C13: 1 | D13: 4 | E13: 1 | F13: 3 | G13: 1 | H13: 2 | I13: 1.75 | J13: 5 | K13: 3 | L13: 5 | M13: 4 | N13: 4.25 | O13: 2 | P13: 1 | Q13: 1.5
... A411: Male | B411: 30-45 | C411: 1 | D411: 4 | E411: 2 | F411: 5 | G411: 5 | H411: 5 | I411: 4.25 | J411: 3 | K411: 6 | L411: 5 | M411: 5 | N411: 4.75 | O411: 3 | P411: 2 | Q411: 2.5
