Workbook

Sheet Balance Sheet
B2: BALANCE SHEET OF Britannia
C4: As at | D4: As at | E4: As at
C5: March 31st,2019 | D5: March 31st,2018 | E5: March 31st,2017
C6: Rs. Crore | D6: Rs. Crore | E6: Rs. Crore
B7: EQUITY & LIABILITIES:
B8: Equity
B9: Equity Share Capital | C9: 24.03 | D9: 24.01 | E9: 24
B10: Other Equity | C10: 4015.42 | D10: 3211.27 | E10: 2557.98
B11: TOTAL EQUITY | C11: =SUM(C9:C10) -> 4039.45 | D11: =SUM(D9:D10) -> 3235.28 | E11: =SUM(E9:E10) -> 2581.98
B12: Liabilities
B13: Non-Current Liabilities:
B14: Financial Liabilities
B15: Borrowings | C15: 0.26 | D15: 0.3 | E15: 0.44
B16: Other Financial Liabilities | C16: 27.03 | D16: 24.97 | E16: 22.86
B17: Deferred tax liabilities | C17: 3.87 | D17: 0 | E17: 0
B18: Government Grant | C18: 0 | D18: 0.72 | E18: 1.44
B19: Total non-current liabilities | C19: =SUM(C15:C18) -> 31.16 | D19: =SUM(D15:D18) -> 25.99 | E19: =SUM(E15:E18) -> 24.74
B20: Current Liabilities:
B21: Financial Liabilities
B22: Borrowings | C22: 0 | D22: 9.01 | E22: 0
B23: Trade Payables
B24: Dues to micro and small enterprises | C24: 1.78 | D24: 1.55
B25: Dues to others | C25: 1030.76 | D25: 864.81 | E25: 643.82 | F25: total
B26: Other Financial Laibilities | C26: 205.17 | D26: 182.62 | E26: 142.93
B27: Other Current Liabilities | C27: 84.83 | D27: 82.05 | E27: 85.62
B28: Government Grant | C28: 0.71 | D28: 0.71 | E28: 0.71
B29: Provisions | C29: 188.52 | D29: 171.05 | E29: 174.48
B30: Current tax Liabilities (net) | C30: 70.59 | D30: 54.23 | E30: 41.86
B31: Total Current Liabilities | C31: =SUM(C21:C30) -> 1582.36 | D31: =SUM(D21:D30) -> 1366.03 | E31: =SUM(E21:E30) -> 1089.42
B32: Total liabilities | C32: =C31+C19 -> 1613.52 | D32: =D31+D19 -> 1392.02 | E32: =E31+E19 -> 1114.16
B33: TOTAL EQUITY AND LIABILITIES | C33: =C32+C11 -> 5652.97 | D33: =D32+D11 -> 4627.3 | E33: =E32+E11 -> 3696.14
B35: ASSETS
B36: Non-Current Assets :
B37: Property, Plant and Equipment | C37: 1283.85 | D37: 1008.31 | E37: 812.47
B38: Capital Work-in-Progress | C38: 64.91 | D38: 200.28 | E38: 29.77
B39: Investment Property | C39: 36.13 | D39: 14.99 | E39: 15.25
B40: Intangible Assets | C40: 7.62 | D40: 7.97 | E40: 11.6
B41: Financial Assets
B42: Investments | C42: 1050.97 | D42: 450.65 | E42: 514.18
B43: Loans | C43: 15.55 | D43: 86.74 | E43: 116.52
...

Sheet  P&L
B1: STATEMENT OF PROFIT & LOSS
C2: Year Ended | D2: Year Ended
C3: Mar 31st , 2019 | D3: Mar 31st , 2018
C4: Rs. Crore | D4: Rs. Crore
B5: Income
B6: Sale of goods/ income from operations | C6: 10389.49 | D6: 9282.04
B7: Other operating revenues | C7: 92.96 | D7: 98.13
B8: Revenue from Operations | C8: =C6+C7 -> 10482.45 | D8: =D6+D7 -> 9380.17
B9: Other Income | C9: 190.52 | D9: 155.93
B10: Total Income | C10: =SUM(C8:C9) -> 10672.97 | D10: =SUM(D8:D9) -> 9536.1
B11: Expenses :
B12: Cost of Materials Consumed | C12: 4944.77 | D12: 4405.17
B13: Excise Duty | C13: 0 | D13: 76.11
B14: Purchases of stock in trade | C14: 1381.88 | D14: 1372.46
B15: Changes in Inventories of Finished Goods,Intermediaries and Work in Process | C15: -49.02 | D15: -4.18
B16: Employee Benefit Expenses | C16: 321.64 | D16: 294.87
B17: Finance Costs | C17: 1.54 | D17: 1.45
B18: Depreciation & Amortization expenses | C18: 135 | D18: 119.76
B19: Other Expenses | C19: 2221.05 | D19: 1825.26
B20: Total Expenses | C20: =SUM(C12:C19) -> 8956.86 | D20: =SUM(D12:D19) -> 8090.9
B22: Profit before exceptional items and tax | C22: =C10-C20 -> 1716.11 | D22: =D10-D20 -> 1445.2
B23: Exceptional items | C23: 0 | D23: 0
B24: Profit before Tax | C24: =C22+C23 -> 1716.11 | D24: =D22+D23 -> 1445.2
B25: Tax Expenses
B26: (a) Current Tax Expense | C26: 581.36 | D26: 499.56 | G26: =C26/C24 -> 0.33876616
B27: (b)Deferred Tax | C27: 12.55 | D27: -2.25
B28: Total tax | C28: =C26+C27 -> 593.91 | D28: =D26+D27 -> 497.31
B30: Profit for the Year | C30: =C24-C28 -> 1122.2 | D30: =D24-D28 -> 947.89
B31: Also see sheets named Profitability, Liquidity etc for ratio calculations
B32: Profit margin | C32: =C30/C8 -> 0.10705513 | D32: =D30/D8 -> 0.10105254
B34: Average assets | C34: =('Balance Sheet'!C60+'Balance Sheet'!D60)/2 -> 5140.135 | D34: =('Balance Sheet'!D60+'Balance Sheet'!E60)/2 -> 4161.72
B36: ROA | C36: =C30/C34 -> 0.21832111 | D36: =D30/D34 -> 0.227764
B38: Asset turnover | C38: =C8/C34 -> 2.0393336 | D38: =D8/D34 -> 2.2539166 | E38: times
B40: Average equity | C40: =('Balance Sheet'!C11+'Balance Sheet'!D11)/2 -> 3637.365 | D40: =('Balance Sheet'!D11+'Balance Sheet'!E11)/2 -> 2908.63
B42: ROE | C42: =C30/C40 -> 0.30852004 | D42: =D30/D40 -> 0.32588882
B44: Leverage | C44: =C34/C40 -> 1.413148 | D44: =D34/D40 -> 1.4308179 | E44: times
B46: Current ratio | C46: ='Balance Sheet'!C59/'Balance Sheet'!C31 -> 1.9403107 | D46: ='Balance Sheet'!D59/'Balance Sheet'!D31 -> 2.0259584
B48: CA - inv | C48: ='Balance Sheet'!C59-'Balance Sheet'!C50 -> 2351.38 | D48: ='Balance Sheet'!D59-'Balance Sheet'!D50 -> 2172.94
B50: Quick ratio | C50: =C48/'Balance Sheet'!C31 -> 1.4859956 | D50: =D48/'Balance Sheet'!D31 -> 1.5906971
B52: Average inventory | C52: =('Balance Sheet'!C50+'Balance Sheet'!D50)/2 -> 656.735 | D52: =('Balance Sheet'!D50+'Balance Sheet'!E50)/2 -> 598.595
...

Sheet Hori BS
B2: BALANCE SHEET OF Britannia
C4: As at | D4: As at
C5: March 31st,2019 | D5: March 31st,2018
C6: Rs. Crore | D6: Rs. Crore
B7: EQUITY & LIABILITIES:
B8: Equity
B9: Equity Share Capital | C9: 24.03 | D9: 24.01 | E9: =C9-D9 -> 0.02 | F9: =E9/D9 -> 0.00083298626
B10: Other Equity | C10: 4015.42 | D10: 3211.27 | E10: =C10-D10 -> 804.15 | F10: =E10/D10 -> 0.25041494
B11: TOTAL EQUITY | C11: =SUM(C9:C10) -> 4039.45 | D11: =SUM(D9:D10) -> 3235.28 | E11: =C11-D11 -> 804.17 | F11: =E11/D11 -> 0.24856272
B12: Liabilities
B13: Non-Current Liabilities:
B14: Financial Liabilities
B15: Borrowings | C15: 0.26 | D15: 0.3 | E15: =C15-D15 -> -0.04 | F15: =E15/D15 -> -0.13333333
B16: Other Financial Liabilities | C16: 27.03 | D16: 24.97 | E16: =C16-D16 -> 2.06 | F16: =E16/D16 -> 0.082498999
B17: Deferred tax liabilities | C17: 3.87 | D17: 0 | E17: =C17-D17 -> 3.87
B18: Government Grant | C18: 0 | D18: 0.72 | E18: =C18-D18 -> -0.72 | F18: =E18/D18 -> -1
B19: Total non-current liabilities | C19: =SUM(C15:C18) -> 31.16 | D19: =SUM(D15:D18) -> 25.99 | E19: =C19-D19 -> 5.17 | F19: =E19/D19 -> 0.19892266
B20: Current Liabilities:
B21: Financial Liabilities
B22: Borrowings | C22: 0 | D22: 9.01 | E22: =C22-D22 -> -9.01 | F22: =E22/D22 -> -1
B23: Trade Payables
B24: Dues to micro and small enterprises | C24: 1.78 | D24: 1.55 | E24: =C24-D24 -> 0.23 | F24: =E24/D24 -> 0.1483871
B25: Dues to others | C25: 1030.76 | D25: 864.81 | E25: =C25-D25 -> 165.95 | F25: =E25/D25 -> 0.19189186
B26: Other Financial Laibilities | C26: 205.17 | D26: 182.62 | E26: =C26-D26 -> 22.55 | F26: =E26/D26 -> 0.12348045
B27: Other Current Liabilities | C27: 84.83 | D27: 82.05 | E27: =C27-D27 -> 2.78 | F27: =E27/D27 -> 0.033881779
B28: Government Grant | C28: 0.71 | D28: 0.71 | E28: =C28-D28 -> 0 | F28: =E28/D28 -> 0
B29: Provisions | C29: 188.52 | D29: 171.05 | E29: =C29-D29 -> 17.47 | F29: =E29/D29 -> 0.10213388
B30: Current tax Liabilities (net) | C30: 70.59 | D30: 54.23 | E30: =C30-D30 -> 16.36 | F30: =E30/D30 -> 0.30167804
B31: Total Current Liabilities | C31: =SUM(C21:C30) -> 1582.36 | D31: =SUM(D21:D30) -> 1366.03 | E31: =C31-D31 -> 216.33 | F31: =E31/D31 -> 0.15836402
B32: Total liabilities | C32: =C31+C19 -> 1613.52 | D32: =D31+D19 -> 1392.02 | E32: =C32-D32 -> 221.5 | F32: =E32/D32 -> 0.15912128
B33: TOTAL EQUITY AND LIABILITIES | C33: =C32+C11 -> 5652.97 | D33: =D32+D11 -> 4627.3 | E33: =C33-D33 -> 1025.67 | F33: =E33/D33 -> 0.22165626
B35: ASSETS
B36: Non-Current Assets :
B37: Property, Plant and Equipment | C37: 1283.85 | D37: 1008.31 | E37: =C37-D37 -> 275.54 | F37: =E37/D37 -> 0.27326913
B38: Capital Work-in-Progress | C38: 64.91 | D38: 200.28 | E38: =C38-D38 -> -135.37 | F38: =E38/D38 -> -0.67590373
B39: Investment Property | C39: 36.13 | D39: 14.99 | E39: =C39-D39 -> 21.14 | F39: =E39/D39 -> 1.4102735
B40: Intangible Assets | C40: 7.62 | D40: 7.97 | E40: =C40-D40 -> -0.35 | F40: =E40/D40 -> -0.04391468
B41: Financial Assets
B42: Investments | C42: 1050.97 | D42: 450.65 | E42: =C42-D42 -> 600.32 | F42: =E42/D42 -> 1.3321203
B43: Loans | C43: 15.55 | D43: 86.74 | E43: =C43-D43 -> -71.19 | F43: =E43/D43 -> -0.82072861
...

Sheet  Hori P&L 
B1: STATEMENT OF PROFIT & LOSS
C2: Year Ended | D2: Year Ended
C3: Mar 31st , 2019 | D3: Mar 31st , 2018
C4: Rs. Crore | D4: Rs. Crore
B5: Income
B6: Sale of goods/ income from operations | C6: 10389.49 | D6: 9282.04 | E6: =C6-D6 -> 1107.45 | F6: =E6/D6 -> 0.11931106
B7: Other operating revenues | C7: 92.96 | D7: 98.13
B8: Revenue from Operations | C8: =C6+C7 -> 10482.45 | D8: =D6+D7 -> 9380.17 | E8: =C8-D8 -> 1102.28 | F8: =E8/D8 -> 0.11751173
B9: Other Income | C9: 190.52 | D9: 155.93 | E9: =C9-D9 -> 34.59 | F9: =E9/D9 -> 0.22183031
B10: Total Income | C10: =SUM(C8:C9) -> 10672.97 | D10: =SUM(D8:D9) -> 9536.1 | E10: =C10-D10 -> 1136.87 | F10: =E10/D10 -> 0.1192175
B11: Expenses :
B12: Cost of Materials Consumed | C12: 4944.77 | D12: 4405.17 | E12: =C12-D12 -> 539.6 | F12: =E12/D12 -> 0.12249244
B13: Excise Duty | C13: 0 | D13: 76.11 | E13: =C13-D13 -> -76.11 | F13: =E13/D13 -> -1
B14: Purchases of stock in trade | C14: 1381.88 | D14: 1372.46 | E14: =C14-D14 -> 9.42 | F14: =E14/D14 -> 0.006863588
B15: Changes in Inventories of Finished Goods,Intermediaries and Work in Process | C15: -49.02 | D15: -4.18 | E15: =C15-D15 -> -44.84 | F15: =E15/D15 -> 10.727273
B16: Employee Benefit Expenses | C16: 321.64 | D16: 294.87 | E16: =C16-D16 -> 26.77 | F16: =E16/D16 -> 0.09078577
B17: Finance Costs | C17: 1.54 | D17: 1.45 | E17: =C17-D17 -> 0.09 | F17: =E17/D17 -> 0.062068966
B18: Depreciation & Amortization expenses | C18: 135 | D18: 119.76 | E18: =C18-D18 -> 15.24 | F18: =E18/D18 -> 0.12725451
B19: Other Expenses | C19: 2221.05 | D19: 1825.26 | E19: =C19-D19 -> 395.79 | F19: =E19/D19 -> 0.21684034
B20: Total Expenses | C20: =SUM(C12:C19) -> 8956.86 | D20: =SUM(D12:D19) -> 8090.9 | E20: =C20-D20 -> 865.96 | F20: =E20/D20 -> 0.10702888
B22: Profit before exceptional items and tax | C22: =C10-C20 -> 1716.11 | D22: =D10-D20 -> 1445.2 | E22: =C22-D22 -> 270.91 | F22: =E22/D22 -> 0.18745502
B23: Exceptional items | C23: 0 | D23: 0
B24: Profit before Tax | C24: =C22+C23 -> 1716.11 | D24: =D22+D23 -> 1445.2 | E24: =C24-D24 -> 270.91 | F24: =E24/D24 -> 0.18745502
B25: Tax Expenses
B26: (a) Current Tax Expense | C26: 581.36 | D26: 499.56 | E26: =C26-D26 -> 81.8 | F26: =E26/D26 -> 0.16374409
B27: (b)Deferred Tax | C27: 12.55 | D27: -2.25 | E27: =C27-D27 -> 14.8 | F27: =E27/D27 -> -6.5777778
B28: Total tax | C28: =C26+C27 -> 593.91 | D28: =D26+D27 -> 497.31 | E28: =C28-D28 -> 96.6 | F28: =E28/D28 -> 0.19424504
B30: Profit for the Year | C30: =C24-C28 -> 1122.2 | D30: =D24-D28 -> 947.89 | E30: =C30-D30 -> 174.31 | F30: =E30/D30 -> 0.18389265

Sheet Common Size Balance Sheet 
B2: BALANCE SHEET OF Britannia
C4: As at | E4: As at
C5: March 31st,2019 | E5: March 31st,2018
C6: Rs. Crore | E6: Rs. Crore
B7: EQUITY & LIABILITIES:
B8: Equity
B9: Equity Share Capital | C9: 24.03 | D9: =C9/5652.97 -> 0.0042508628 | E9: 24.01 | F9: =E9/4627.3 -> 0.005188771
B10: Other Equity | C10: 4015.42 | D10: =C10/5652.97 -> 0.71032042 | E10: 3211.27 | F10: =E10/4627.3 -> 0.69398353
B11: TOTAL EQUITY | C11: =SUM(C9:C10) -> 4039.45 | D11: =C11/5652.97 -> 0.71457128 | E11: =SUM(E9:E10) -> 3235.28 | F11: =E11/4627.3 -> 0.6991723
B12: Liabilities
B13: Non-Current Liabilities:
B14: Financial Liabilities
B15: Borrowings | C15: 0.26 | D15: =C15/C33 -> 4.5993522e-05 | E15: 0.3 | F15: =E15/4627.3 -> 6.4832624e-05
B16: Other Financial Liabilities | C16: 27.03 | D16: =C16/5652.97 -> 0.0047815573 | E16: 24.97 | F16: =E16/4627.3 -> 0.0053962354
B17: Deferred tax liabilities | C17: 3.87 | D17: =C17/5652.97 -> 0.00068459588 | E17: 0 | F17: =E17/4627.3 -> 0
B18: Government Grant | C18: 0 | D18: =C18/5652.97 -> 0 | E18: 0.72 | F18: =E18/4627.3 -> 0.0001555983
B19: Total non-current liabilities | C19: =SUM(C15:C18) -> 31.16 | D19: =C19/5652.97 -> 0.0055121467 | E19: =SUM(E15:E18) -> 25.99 | F19: =E19/4627.3 -> 0.0056166663
B20: Current Liabilities:
B21: Financial Liabilities
B22: Borrowings | C22: 0 | D22: =C22/5652.97 -> 0 | E22: 9.01 | F22: =E22/4627.3 -> 0.0019471398
B23: Trade Payables
B24: Dues to micro and small enterprises | C24: 1.78 | D24: =C24/5652.97 -> 0.00031487873 | E24: 1.55 | F24: =E24/4627.3 -> 0.00033496856
B25: Dues to others | C25: 1030.76 | D25: =C25/5652.97 -> 0.18233955 | E25: 864.81 | F25: =E25/4627.3 -> 0.186893
B26: Other Financial Laibilities | C26: 205.17 | D26: =C26/5652.97 -> 0.036294196 | E26: 182.62 | F26: =E26/4627.3 -> 0.039465779
B27: Other Current Liabilities | C27: 84.83 | D27: =C27/5652.97 -> 0.015006271 | E27: 82.05 | F27: =E27/4627.3 -> 0.017731723
B28: Government Grant | C28: 0.71 | D28: =C28/5652.97 -> 0.00012559769 | E28: 0.71 | F28: =E28/4627.3 -> 0.00015343721
B29: Provisions | C29: 188.52 | D29: =C29/5652.97 -> 0.033348841 | E29: 171.05 | F29: =E29/4627.3 -> 0.036965401
B30: Current tax Liabilities (net) | C30: 70.59 | D30: =C30/5652.97 -> 0.012487241 | E30: 54.23 | F30: =E30/4627.3 -> 0.011719577
B31: Total Current Liabilities | C31: =SUM(C21:C30) -> 1582.36 | D31: =C31/5652.97 -> 0.27991657 | E31: =SUM(E21:E30) -> 1366.03 | F31: =E31/4627.3 -> 0.29521103
B32: Total liabilities | C32: =C31+C19 -> 1613.52 | D32: =C32/5652.97 -> 0.28542872 | E32: =E31+E19 -> 1392.02 | F32: =E32/4627.3 -> 0.3008277
B33: TOTAL EQUITY AND LIABILITIES | C33: =C32+C11 -> 5652.97 | D33: =C33/5652.97 -> 1 | E33: =E32+E11 -> 4627.3 | F33: =E33/4627.3 -> 1
B35: ASSETS
B36: Non-Current Assets :
B37: Property, Plant and Equipment | C37: 1283.85 | D37: =C37/5652.97 -> 0.2271107 | E37: 1008.31 | F37: =E37/4627.3 -> 0.21790461
B38: Capital Work-in-Progress | C38: 64.91 | D38: =C38/5652.97 -> 0.01148246 | E38: 200.28 | F38: =E38/4627.3 -> 0.04328226
B39: Investment Property | C39: 36.13 | D39: =C39/5652.97 -> 0.0063913306 | E39: 14.99 | F39: =E39/4627.3 -> 0.0032394701
B40: Intangible Assets | C40: 7.62 | D40: =C40/5652.97 -> 0.001347964 | E40: 7.97 | F40: =E40/4627.3 -> 0.0017223867
B41: Financial Assets
B42: Investments | C42: 1050.97 | D42: =C42/5652.97 -> 0.18591466 | E42: 450.65 | F42: =E42/4627.3 -> 0.097389406
B43: Loans | C43: 15.55 | D43: =C43/5652.97 -> 0.0027507664 | E43: 86.74 | F43: =E43/4627.3 -> 0.018745273
...

Sheet Common size P & L 
B1: STATEMENT OF PROFIT & LOSS
C2: Year Ended | E2: Year Ended
C3: Mar 31st , 2019 | E3: Mar 31st , 2018
C4: Rs. Crore | E4: Rs. Crore
B5: Income
B6: Sale of goods/ income from operations | C6: 10389.49 | E6: 9282.04
B7: Other operating revenues | C7: 92.96 | E7: 98.13
B8: Revenue from Operations | C8: =C6+C7 -> 10482.45 | D8: 1 | E8: =E6+E7 -> 9380.17 | F8: =100% -> 1
B9: Other Income | C9: 190.52 | D9: =C9/10482.45 -> 0.01817514 | E9: 155.93 | F9: =E9/E8 -> 0.016623366
B10: Total Income | C10: =SUM(C8:C9) -> 10672.97 | E10: =SUM(E8:E9) -> 9536.1
B11: Expenses :
B12: Cost of Materials Consumed | C12: 4944.77 | D12: =C12/10482.45 -> 0.47171892 | E12: 4405.17 | F12: =E12/9380.17 -> 0.46962582
B13: Excise Duty | C13: 0 | D13: =C13/10482.45 -> 0 | E13: 76.11 | F13: =E13/9380.17 -> 0.0081139254
B14: Purchases of stock in trade | C14: 1381.88 | D14: =C14/10482.45 -> 0.13182796 | E14: 1372.46 | F14: =E14/9380.17 -> 0.14631505
B15: Changes in Inventories of Finished Goods,Intermediaries and Work in Process | C15: -49.02 | D15: =C15/10482.45 -> -0.0046763877 | E15: -4.18 | F15: =E15/9380.17 -> -0.00044562092 | G15: =D12+D14+D15 -> 0.59887049 | H15: =F12+F13+F14+F15 -> 0.62360917 | I15: Material cost (net)
B16: Employee Benefit Expenses | C16: 321.64 | D16: =C16/C8*D8 -> 0.030683667 | E16: 294.87 | F16: =E16/9380.17 -> 0.031435464
B17: Finance Costs | C17: 1.54 | D17: =C17/C9*D9 -> 0.00014691222 | E17: 1.45 | F17: =E17/9380.17 -> 0.00015458142
B18: Depreciation & Amortization expenses | C18: 135 | D18: =C18/10482.45 -> 0.012878669 | E18: 119.76 | F18: =E18/9380.17 -> 0.012767359
B19: Other Expenses | C19: 2221.05 | D19: =C19/10482.45 -> 0.21188272 | E19: 1825.26 | F19: =E19/9380.17 -> 0.19458709
B20: Total Expenses | C20: =SUM(C12:C19) -> 8956.86 | D20: =C20/10482.45 -> 0.85446246 | E20: =SUM(E12:E19) -> 8090.9 | F20: =E20/9380.17 -> 0.86255366
B22: Profit before exceptional items and tax | C22: =C10-C20 -> 1716.11 | D22: =C22/C14*D14 -> 0.16371268 | E22: =E10-E20 -> 1445.2 | F22: =E22/9380.17 -> 0.1540697
B23: Exceptional items | C23: 0 | D23: =C23/C15*D15 -> 0 | E23: 0 | F23: =E23/9380.17 -> 0
B24: Profit before Tax | C24: =C22+C23 -> 1716.11 | D24: =C24/C16*D16 -> 0.16371268 | E24: =E22+E23 -> 1445.2 | F24: =E24/9380.17 -> 0.1540697
B25: Tax Expenses | D25: =C25/C17*D17 -> 0
B26: (a) Current Tax Expense | C26: 581.36 | D26: =C26/C18*D18 -> 0.055460317 | E26: 499.56 | F26: =E26/9380.17 -> 0.053257031
B27: (b)Deferred Tax | C27: 12.55 | D27: =C27/C19*D19 -> 0.0011972392 | E27: -2.25 | F27: =E27/9380.17 -> -0.00023986772
B28: Total tax | C28: =C26+C27 -> 593.91 | D28: =C28/C20*D20 -> 0.056657556 | E28: =E26+E27 -> 497.31 | F28: =E28/9380.17 -> 0.053017163
B30: Profit for the Year | C30: =C24-C28 -> 1122.2 | D30: =C30/C22*D22 -> 0.10705513 | E30: =E24-E28 -> 947.89 | F30: =E30/9380.17 -> 0.10105254

Sheet Profitability
B1: Amounts in Rs. Crores
B2: Ratio | C2: Formula | E2: 2018-2019 | G2: 2018-2017
A4: A | B4: Return on Equity | C4: Profit After Tax | E4: =' P&L'!C30 -> 1122.2 | F4: =E4/E5 -> 0.30852004 | G4: =' P&L'!D30 -> 947.89 | H4: =G4/G5 -> 0.32588882
C5: Average Equity | E5: =('Balance Sheet'!C11+'Balance Sheet'!D11)/2 -> 3637.365 | G5: =('Balance Sheet'!D11+'Balance Sheet'!E11)/2 -> 2908.63
A7: B | B7: Net Profit Margin (%) or Return On Sales | C7: Profit After Tax | E7: =E4 -> 1122.2 | F7: =(E7/E8) -> 0.10705513 | G7: =G4 -> 947.89 | H7: =(G7/G8) -> 0.10105254
C8: Sales | E8: ='Common size P & L '!C8 -> 10482.45 | G8: ='Common size P & L '!E8 -> 9380.17
A11: C | B11: Operating Profit Margin (%) | C11: NOPAT | E11: =B49 -> 1135.7683 | F11: =E11/E12 -> 0.10834951 | G11: =C49 -> 969.2555 | H11: =G11/G12 -> 0.10333027
C12: Sales | E12: =E8 -> 10482.45 | G12: =G8 -> 9380.17
A15: D | B15: Return on Assets | C15: Profit After Tax | E15: =E4 -> 1122.2 | F15: =E15/E16 -> 0.21832111 | G15: =G4 -> 947.89 | H15: =G15/G16 -> 0.227764
C16: Average Total Assets | E16: =('Balance Sheet'!C60+'Balance Sheet'!D60)/2 -> 5140.135 | G16: =('Balance Sheet'!D60+'Balance Sheet'!E60)/2 -> 4161.72
B18: Profit margin | C18: Profit After Tax | E18: =E4 -> 1122.2 | F18: =(E18/E19) -> 0.10705513 | G18: =G4 -> 947.89 | H18: =(G18/G19) -> 0.10105254
C19: Sales | E19: =E8 -> 10482.45 | G19: =G8 -> 9380.17
B21: Asset Turnover Ratio | C21: Sales | E21: =E8 -> 10482.45 | F21: =E21/E22 -> 2.0393336 | G21: =G8 -> 9380.17 | H21: =G21/G22 -> 2.2539166
C22: Average Total Assets | E22: =E16 -> 5140.135 | G22: =G16 -> 4161.72
B24: * Profit excluding exceptional items
B26: Also refer Sheet 2 for NOPAT
B28: Extended Dupont Analysis
B30: Return on Equity | C30: Profit After Tax | E30: =E4 -> 1122.2 | F30: =E30/E31 -> 0.30852004 | G30: =G4 -> 947.89 | H30: =G30/G31 -> 0.32588882
C31: Average Total Equity | E31: =E5 -> 3637.365 | G31: =G5 -> 2908.63
B33: Profit margin | C33: Profit After Tax | E33: =E7 -> 1122.2 | F33: =(E33/E34) -> 0.10705513 | G33: =G7 -> 947.89 | H33: =(G33/G34) -> 0.10105254
C34: Sales | E34: =E8 -> 10482.45 | G34: =G8 -> 9380.17
B36: Asset Turnover Ratio | C36: Sales | E36: =E34 -> 10482.45 | F36: =E36/E37 -> 2.0393336 | G36: =G34 -> 9380.17 | H36: =G36/G37 -> 2.2539166
C37: Average Total Assets | E37: =E16 -> 5140.135 | G37: =G16 -> 4161.72
B40: Leverage | C40: Average Total Assets | E40: =E37 -> 5140.135 | F40: =E40/E41 -> 1.413148 | G40: =G37 -> 4161.72 | H40: =G40/G41 -> 1.4308179
C41: Average Total Equity | E41: =E5 -> 3637.365 | G41: =G5 -> 2908.63
B46: NOPAT
B48: =' P&L'!C22+' P&L'!C17 -> 1717.65 | C48: =' P&L'!D22+' P&L'!D17 -> 1446.65
B49: =B48*(1-' P&L'!G26) -> 1135.7683 | C49: =C48*(1-0.33) -> 969.2555

Sheet Sheet1
A1: Amounts in Rs. Crores
A2: Profitability Ratio | C2: 2018-2019 | D2: 2018-2017 | G2: Industry Average for Brittania
A4: Return on Equity | C4: 0.30852004 | D4: 0.32588882
A7: Net Profit Margin (%) or Return On Sales | C7: 0.10705513 | D7: 0.10105254
A10: Return on Assets | C10: 0.21832111 | D10: 0.227764
A13: Profit margin | C13: 0.10705513 | D13: 0.10105254
A16: Asset Turnover Ratio | C16: 2.0393336 | D16: 2.2539166

Sheet Liquidity
B2: Liquidity Ratios
B4: Amounts in Rs. Crores
B5: Ratio | C5: Formula | D5: 2018-2019 | G5: 2017-2018
A7: A | B7: Current Ratio | C7: Total Current Assets | D7: ='Balance Sheet'!C59 -> 3070.27 | E7: =D7/D8 -> 1.9403107 | F7: : 1 | G7: ='Balance Sheet'!D59 -> 2767.52 | H7: =G7/G8 -> 2.0259584 | I7: : 1
C8: Total Current Liabilities | D8: ='Balance Sheet'!C31 -> 1582.36 | G8: ='Balance Sheet'!D31 -> 1366.03
A10: B | B10: Quick Test Ratio | C10: Current Assets- Inventory | D10: =D7-'Balance Sheet'!C50 -> 2351.38 | E10: =D10/D11 -> 1.4859956 | F10: : 1 | G10: =G7-'Balance Sheet'!D50 -> 2172.94 | H10: =G10/G11 -> 1.5906971 | I10: : 1
C11: Current Liabilites | D11: =D8 -> 1582.36 | G11: =G8 -> 1366.03
A13: C | B13: Inventory Turnover Ratio | C13: Sales | D13: ='Common size P & L '!C8 -> 10482.45 | E13: =D13/D14 -> 15.961461 | F13: Times | G13: ='Common size P & L '!E8 -> 9380.17 | H13: =G13/G14 -> 15.670311 | I13: Times
C14: Average Inventory | D14: =('Balance Sheet'!C50+'Balance Sheet'!D50)/2 -> 656.735 | G14: =('Balance Sheet'!D50+'Balance Sheet'!E50)/2 -> 598.595
A16: D | B16: Inventory Holding Period | C16: No of days in a year | D16: 365 | E16: =D16/D17 -> 22.867581 | F16: Days | G16: 365 | H16: =G16/G17 -> 23.292454 | I16: Days
C17: Inventory Turnover Ratio | D17: =E13 -> 15.961461 | G17: =H13 -> 15.670311
A19: E | B19: Receivables Turnover Ratio | C19: Sales Turnover | D19: =D13 -> 10482.45 | E19: =D19/D20 -> 36.066784 | F19: Times | G19: =G13 -> 9380.17 | H19: =G19/G20 -> 52.589746 | I19: Times
C20: Average Receivable | D20: =('Balance Sheet'!C53+'Balance Sheet'!D53)/2 -> 290.64 | G20: =('Balance Sheet'!D53+'Balance Sheet'!E53)/2 -> 178.365
A22: F | B22: Receivables Collection Period | C22: No of days in a year | D22: 365 | E22: =D22/D23 -> 10.120115 | F22: Days | G22: 365 | H22: =G22/G23 -> 6.9405165 | I22: Days
C23: Receivables Turnover Ratio | D23: =E19 -> 36.066784 | G23: =H19 -> 52.589746
B28: Operating cycle | E28: =E16+E22 -> 32.987696 | F28: Days | H28: =H16+H22 -> 30.23297 | I28: Days

Sheet Solvency
B2: Solvency Ratios
B4: Amounts in Rs. Crores
B5: Ratio | C5: Formula | E5: 2018-2019 | H5: 2017-2018
A7: A | B7: Debt to equity ratio | C7: Total Borrowings (Short term & Long term) | E7: ='Balance Sheet'!C15+'Balance Sheet'!C22 -> 0.26 | H7: ='Balance Sheet'!D15+'Balance Sheet'!D22 -> 9.31
C8: Sharholders' Funds | E8: =E12 -> 4039.45 | H8: =H12 -> 3235.28
A11: B | B11: Liabilities to Equity Ratio | C11: Total Liabilities. | E11: ='Balance Sheet'!C32 -> 1613.52 | F11: =E11/E12 -> 0.39944052 | G11: : 1 | H11: ='Balance Sheet'!D32 -> 1392.02 | I11: =H11/H12 -> 0.4302626 | J11: : 1
C12: Sharholders' Funds | E12: ='Balance Sheet'!C11 -> 4039.45 | H12: ='Balance Sheet'!D11 -> 3235.28
A14: C | B14: Leverage | C14: Total Assets | E14: ='Balance Sheet'!C60 -> 5652.97 | F14: =E14/E15 -> 1.3994405 | G14: : 1 | H14: ='Balance Sheet'!D60 -> 4627.3 | I14: =H14/H15 -> 1.4302626 | J14: : 1
C15: Total Equity | E15: =E12 -> 4039.45 | H15: =H12 -> 3235.28
A17: D | B17: Interest Coverage Ratio | C17: PBIT | E17: ='Common size P & L '!C22+'Common size P & L '!C17 -> 1717.65 | F17: =E17/E18 -> 1115.3571 | G17: times | H17: ='Common size P & L '!E22+'Common size P & L '!E17 -> 1446.65 | I17: =H17/H18 -> 997.68966 | J17: times
C18: Interest Expense | E18: ='Common size P & L '!C17 -> 1.54 | H18: ='Common size P & L '!E17 -> 1.45

Sheet Capital market
B2: Capital Market Ratios
B4: Amounts in Rs. Crores
B5: Ratio | C5: Formula | E5: 2018-2019 | G5: 2017-2018
A7: A | B7: Earnings Per Share
B8: (a) Basic | E8: 46.71 | G8: 39.48
B9: (b) Diluted | E9: 46.68 | G9: 39.46
A11: B | B11: Number of shares | E11: 240318294 | G11: 240318294
A14: C | B14: Price Earnings Ratio | C14: Market Price | E14: 3096.5 | F14: =E14/E15 -> 66.292015 | G14: 2553 | H14: =G14/G15 -> 64.665653
C15: Earnings Per Share | E15: =E8 -> 46.71 | G15: =G8 -> 39.48
A17: D | B17: Dividend Yield Ratio | C17: Dividend per Share | E17: 15 | F17: =E17/E18 -> 0.0048441789 | G17: 25 | H17: =G17/G18 -> 0.0097924011
C18: Market Price | E18: =E14 -> 3096.5 | G18: =G14 -> 2553
A20: E | B20: Price to Book Ratio | C20: Market Price | E20: =E14 -> 3096.5 | F20: =E20/E21 -> 18.421679 | G20: =G14 -> 2553 | H20: =G20/G21 -> 18.947603
C21: Book value of one share | E21: 168.09 | G21: 134.74
A23: F | B23: Book value of one share | C23: Net worth | E23: ='Balance Sheet'!C11 -> 4039.45 | F23: =E23/E24 -> 168.10029 | G23: ='Balance Sheet'!D11 -> 3235.28 | H23: =G23/G24 -> 134.63504
C24: Number of shares | E24: 24.03 | G24: 24.03
B29: Return in last one year
B30: Return %
